{"text_format":"1","workbook":"xlsx","n_sheets":8,"sheets":["Simulación","Parametro Destino","Parametros Crec","Parametros Fijo","Tabla Amortización Fijo","Tabla Fijo","Tabla Amortización Crec","Tabla Crec"],"not_rendered":{"charts":0,"images":1,"macros":1,"external_links":2,"defined_names":167,"comments":6,"pivot_tables":0},"unopened":[],"bounds":{"document_bytes":16777216,"sheet_cells":100000,"rows_first":2000,"rows_last":500,"rows_between":2000,"halvings":0,"cell_chars":16384,"cell_head_chars":4096},"cells_cut":0,"cells_raw":0,"read":"whole","date_system":"1900"}

{"sheet":"Simulación","index":0,"n_rows":71,"n_cols":19,"rows_kept":71,"cut":false,"hidden":false,"merged":[[62,11,62,12],[66,1,66,13],[65,1,65,13],[70,12,70,13],[7,11,7,12],[8,3,8,12],[33,3,33,13],[6,1,6,12],[11,5,11,7],[11,10,11,11],[10,10,10,11],[18,3,18,12],[10,5,10,7],[12,10,12,11],[13,5,13,6],[17,3,17,13]]}
[]
[]
[]
[]
[]
[]
[null,"SIMULADOR CRÉDITO HIPOTECARIO"]
[null,null,null,null,null,null,null,null,null,null,null,{"$f":"TODAY()","v":"2022-03-15"}]
[]
[]
[null,null,null,null,null,null,null,null,null,null,null,null,null,null,null,null,null,null,5]
[null,null,null,null,null,null,null,null,null,null,null,null,null,null,null,null,null,null,6]
[null,null,null,null,null,null,null,null,null,null,null,null,null,null,null,null,null,null,7]
[null,null,null,null,null,null,null,null,null,null,null,null,null,null,null,null,null,null,8]
[null,null,null,null,null,null,null,null,null,null,null,null,null,null,null,null,null,null,9]
[null,null,null,null,null,null,null,null,null,null,null,null,null,null,null,null,"NO",null,10]
[null,null,null,null,null,null,null,null,null,null,null,null,null,null,null,null,"SI",null,11]
[null,null,null,{"$f":"IF('Parametro Destino'!I4<'Parametro Destino'!I3,\"PLAZO MENOR AL MINIMO POSIBLE\",IF(AND(R23=5,H25>1000000),\"Distinto a Asalariado el Monto Máx. para Remodelación es de $1,000,000\",IF(H29>1000000,\"Distinto a Asalariado el Monto Máx. para Remodelación es de $1,000,000\",IF(L23>'Parametro Destino'!C6,\"EL AFORO SUPERA AL MÁXIMO PARA EL PRODUCTO\",IF(H25<'Parametro Destino'!C9,\"EL MONTO ES MENOR AL MINIMO PARA EL PRODUCTO\",IF(PLAZO_SIMULACION>'Parametro Destino'!C10,\"EL PLAZO SELECCIONADO SUPERA AL MÁXIMO POR PRODUCTO\", \"DATOS DEL CRÉDITO\"))))))","v":"DATOS DEL CRÉDITO"},null,null,null,null,null,null,null,null,null,null,null,null,null,{"$f":"IF(OR(H21=\"TERRENO\"),\"\",0.079)","v":7.9000000000000001E-2},12]
[null,null,null,"",null,null,null,null,null,null,null,null,null,null,null,null,null,{"$f":"IF(OR(H21=\"TERRENO\"),P26,\"\")","v":""},13]
[null,null,null,null,null,null,null,null,null,null,null,null,null,null,null,null,null,{"$f":"IF(OR(H21=\"TERRENO\"),\"\",0.079)","v":7.9000000000000001E-2},14]
[null,null,null,null,"DESTINO DEL CRÉDITO:",null,null,"SUSTITUCION",null,"NÓMINA AFIRME",null,"NO"," ",null,null,null,null,{"$f":"IF(OR(H21=\"TERRENO\"),\"\",8.9%)","v":8.900000000000001E-2},15]
[null,null,null,null,{"$f":"IF(R23=8,\"VALOR VIVIENDA DE CREDITO\",IF(OR(R23=4,R23=6),\"ADEUDO ACTUAL:\",\"\"))","v":"ADEUDO ACTUAL:"},null,null,null,null,null,null,null,{"$f":"IF(M23=\"\",\"\",\"Máximo\")","v":""},null,null,null,null,{"$f":"IF(OR(H21=\"TERRENO\"),\"\",0.099)","v":9.9000000000000005E-2},{"$f":"IF(OR($R$23=9,$L$25=7.9%),\"\",16)","v":16}]
[null,null,null,null,{"$f":"IF(R23=8,\"VALOR DE LA VIVIENDA ADICIONAL:\",\"VALOR DE VIVIENDA:\")","v":"VALOR DE VIVIENDA:"},null,null,5000000,null,"FINANCIAMIENTO",null,{"$f":"IF(R23=8,H25/(H23+H22),H25/H23)","v":0.2},{"$f":"IF(D18=\"EL AFORO SUPERA AL MÁXIMO PARA EL PRODUCTO\",'Parametro Destino'!C6,\"\")","v":""},null,null,null,null,{"$f":"'Parametro Destino'!C2","v":4},{"$f":"IF(OR($R$23=9,$L$25=7.9%),\"\",17)","v":17}]
[null,null,null,null,{"$f":"IF(R23=3,\"Disponible por Infonavit\",\"\")","v":""},null,null,null,null,null,null,{"$f":"IF(R23=5,\"*\",\"\")","v":""},null,null,null,null,null,{"$f":"IF(OR(R23=4,R23=6), \"MEJORA\",\"\")","v":"MEJORA"},{"$f":"IF(OR($R$23=9,$L$25=7.9%),\"\",18)","v":18}]
[null,null,null,null,"IMPORTE DEL CRÉDITO:",null,null,1000000,{"$f":"IF(H25>5000000,\"Verificar Aforo Max\",\"\")","v":""},"TASA DE INTERÉS",null,8.900000000000001E-2,null,null,null,null,null,null,{"$f":"IF(OR($R$23=9,$L$25=7.9%),\"\",19)","v":19}]
[null,null,null,null,null,null,null,null,{"$f":"H23*0.6","v":3000000},null,null,{"$f":"IF(OR(L25=7.9%,L25=9.55%,L25=9.2%),\"*\",\"\")","v":""},null,null,null,{"$f":"IF(AND(H21=\"TERRENO\",L27>5),9.55%,IF(L27=5,9.2%))","v":false},null,null,{"$f":"IF(OR($R$23=9,$L$25=7.9%),\"\",20)","v":20}]
[null,null,null,null,{"$f":"IF(OR(R23=7,R23=10),\"PROYECTO DE CONSTRUCCIÓN:\",\"\")","v":""},null,null,null,null,"PLAZO EN AÑOS:",null,14]
[null,null,null,null,null,null,null,null,null,null,null,17]
[null,null,null,null,{"$f":"IF(R23=6,\"PRESUPUESTO DE REMODELACIÓN\",\"\")","v":""},null,null,null,null,"GASTOS DE ESCRITURACIÓN %",null,0.03]
[null,null,null,null,{"$f":"IF(R23=5,\"*Para Asalariado 40% monto max $2.5 mdp, para PFAE Aforo Máx. 30% monto max $1mdp\",\"\")","v":""}]
[null,null,null,null,{"$f":"IF(L25=7.9%,\"*AFORO MAX 60% y solo aplica Adq Tradicional y Sustitución\",\"\")","v":""},null,null,null,null,{"$f":"IF(R23=4,\"¿APLICA COMO MEJORA?\",IF(R23=6,\"¿APLICA COMO MEJORA + REMODELACION?\",\"\"))","v":"¿APLICA COMO MEJORA?"},null,"NO"]
[null,null,null,null,{"$f":"IF(L25=9.55%,\"*Tasa 9.55% solo aplica a Terreno en plazos de 6 hasta 15 años\",IF(L25=9.2%,\"*Tasa 9.20% solo aplica a Terreno plazo 5 años\",\"\"))","v":""}]
[]
[null,null,null,"RESUMEN DE CREDITO"]
[]
[]
[null,null,null,null,null,null,"Monto de Crédito",null,null,null,{"$f":"'Tabla Crec'!C9","v":1000000},null,null,null,null,{"$f":"IF(L31=\"NO\",0,0)","v":0}]
[null,null,null,null,null,null,{"$f":"IF(K38<0,\"Financiamiento de Gastos\",\"Enganche\")","v":"Enganche"},null,null,null,{"$f":"IF(OR(R23=4,R23=5,R23=7,R23=6),0,IF(OR(R23=4),H22-K37,IF(R23=3,H23-H24-K37,IF(R23=8,H22-K37,H23-K37-H24))))","v":0},null,"",null,null,"SI"]
[null,null,null,null,null,null,"Gastos Notariales (Aprox)*",null,null,null,{"$f":"'Parametro Destino'!F7","v":30000},null,null,null,null,"NO"]
[null,null,null,null,null,null,"Comisión de apertura:",null,null,null,{"$f":"'Parametro Destino'!C8*Simulación!K37","v":10000}]
[null,null,null,null,null,null,"Avalúo (no incluye IVA):",null,null,null,{"$f":"'Parametro Destino'!F6","v":12500}]
[null,null,null,null,null,null,{"$f":"IF(L23>79.99%,\"Trámite CUV\",\"\")","v":""},null,null,null,{"$f":"IF(L23>79.99%,260*1.16,\"\")","v":""}]
[null,null,null,null,null,null,"* presupuesto del Notario"]
[null,null,null,null,null,null,"DESEMBOLSO INICIAL:",null,null,null,{"$f":"SUM(K38:K43)","v":52500}]
[]
[null,null,null,null,null,null,null,null,"TASA DE INTERÉS",{"$f":"L25","v":8.900000000000001E-2}]
[null,null,null,null,null,null,null,null,"FIJOS",null,"CRECIENTES****",null,null,null,null,null,"H21=\"terreno\""]
[null,null,null,null,null,null,"Tasa de Interés inicial por Pago puntual",null,{"$f":"L25","v":8.900000000000001E-2},null,{"$f":"L25","v":8.900000000000001E-2}]
[null,null,null,null,null,null,"CAT",null,{"$f":"'Tabla Fijo'!M4","v":0.12420590347901306},null,{"$f":"'Tabla Crec'!M4","v":0.12254269752344071}]
[]
[null,null,null,null,null,null,"Amortización:",null,{"$f":"'Tabla Fijo'!D9","v":2891.003793021222},null,{"$f":"'Tabla Crec'!D9","v":1293.9060450857414}]
[null,null,null,null,null,null,"Intereses:",null,{"$f":"'Tabla Fijo'!F9","v":7416.6666666666679},null,{"$f":"'Tabla Crec'!F9","v":7416.6666666666679}]
[null,null,null,null,null,null,"Seguro de vida:",null,{"$f":"'Tabla Fijo'!I9","v":800},null,{"$f":"'Tabla Crec'!I9","v":800}]
[null,null,null,null,null,null,"Seguro de daños:",null,{"$f":"'Tabla Fijo'!J9","v":346.56416666666667},null,{"$f":"'Tabla Crec'!J9","v":346.56416666666667}]
[null,null,null,null,null,null,"Seguro de Desempleo y Contenidos:",null,{"$f":"'Tabla Fijo'!K9","v":201.63710257229764},null,{"$f":"'Tabla Crec'!K9","v":185.98554464252993}]
[null,null,null,null,null,null,"Comisión Mensual",null,{"$f":"'Tabla Fijo'!L9","v":299},null,{"$f":"'Tabla Crec'!L9","v":299}]
[null,null,null,null,null,null,"Iva de comisión de Admon y Seg.",null,{"$f":"'Tabla Fijo'!M9","v":135.5522030782343},null,{"$f":"'Tabla Crec'!M9","v":133.04795380947147}]
[null,null,null,null,null,null,"PAGO MENSUAL APROXIMADO:",null,{"$f":"SUM(I51:I57)","v":12090.423932005089},{"$f":"IF('Parametro Destino'!I4<'Parametro Destino'!I3,'Parametro Destino'!I5,\"\")","v":""},{"$f":"SUM(K51:K57)","v":10475.170376871078},"Mensualidad a:",{"$f":"'Parametro Destino'!F5","v":15}]
[]
[]
[]
[]
[]
[]
[null,"*En ADQUISICIÓN Los Notariales son estimados y dependen de la Entidad Federativa - Presupuesto del Notario deben incluir impuestos y derechos, gastos y honorarios.",null,null,null,null,null,null,null,null,null,null,null,null,null,{"$f":"H25+P37","v":1000000}]
[null,"*En SUSTITUCIÓN, los Honorarios Notariales los cubre el Banco durante esta promoción siempre y cuando sea con Notaria del Padron Campaña Sustitución",null,null,null,null,null,null,null,null,null,null,null,null,null,{"$f":"'Parametro Destino'!C7","v":4500000}]
[null,"*En SUSTITUCIÓN, los Gastos de Escrituración (impuestos, derechos, gastos) pueden ser financiados o serán cubiertos por el cliente",null,null,null,null,null,null,null,null,null,null,null,null,null,{"$f":"IF(L31=\"SI\",MAX(P68,P70),MIN(P68,P70))","v":4500000}]
[null,"**La autorización del crédito y condiciones financieras depende de la documentación e información presentada para su evaluación.",null,null,null,null,null,null,null,null,null,null,null,null,null,{"$f":"IF('Parametro Destino'!C2=8,'Parametro Destino'!F3,MIN((H23*'Parametro Destino'!C6),'Parametro Destino'!F2,'Parametro Destino'!C7))","v":4500000}]
[null,"**La presente es de carácter informativa, no representa oferta por parte del Grupo Financiero Afirme y se encuentra sujeta a cambio sin previo aviso"]
[null,null,null,null,null,null,null,null,null,null,null,null,null,null,null,{"$f":"IF(L31=\"si\",(P68+P37),P68)","v":4500000}]
[null,"**** El esquema de pagos crecientes solo aplica a 15 y 20 años, para destino de Terreno solo 10 y 15 años.",null,null,null,null,null,null,null,null,null,null,"BAF-040-0310-22",null,null,{"$f":"IF(R23=4,MIN(H22+P37,P68),IF(R23=3,MIN(P67,P66),IF(R23=8,MIN(P68,P70),P70)))","v":0}]

{"sheet":"Parametro Destino","index":1,"n_rows":49,"n_cols":13,"rows_kept":49,"cut":false,"hidden":true,"merged":[[13,5,13,7],[22,5,22,7],[29,4,29,6]]}
[null,null,null,null,null,null,null,null,",O,SI(Y(TASACREC=9.9%,Q8=20),\"0.07%\",\"2.40%\")"]
[null,"DESTINO",{"$f":"VLOOKUP(Simulación!H21,'Parametro Destino'!B13:E22,4,)","v":4},"SI(Simulación!H21='Parametro Destino'!B13,1,SI(Simulación!H21='Parametro Destino'!B14,2,SI(Simulación!H21='Parametro Destino'!B15,3,SI(Simulación!H21='Parametro Destino'!B16,4,SI(Simulación!H21='Parametro Destino'!B17,5,SI(Simulación!H21='Parametro Destino'!B18,6,SI(Simulación!H21='Parametro Destino'!B19,7,SI(Simulación!H21='Parametro Destino'!B20,8,9))))))))","MONTO MAX COFI",{"$f":"(Simulación!H23*1.08)-Simulación!H24","v":5400000}]
[null,"PRODUCTO",{"$f":"IF(AND(Simulación!L25=8.9%,Simulación!L21=\"si\"),2,IF(Simulación!L25=8.9%,1,2))","v":1},", =SI(Y(Simulación!L25=8.9%,Simulación!L21=\"si\"),2,SI(Simulación!L25=8.9%,1,2))","MONTO MAX TU CASA 2",{"$f":"(Simulación!H22+Simulación!H23)*'Parametro Destino'!C6","v":4500000},null,"PLAZO MINIMO",{"$f":"IF(C3=1,5,5)","v":5}]
[null,"VALOR CONSTRUCCION",{"$f":"MIN((Simulación!H23*0.7),Simulación!H27)","v":3500000},null,"PLAZO FIJOS",{"$f":"IF(I4<I3,I3,IF(C3=2,MIN(20,PLAZO_SIMULACION),MIN(PLAZO_SIMULACION,20)))","v":14},null,"PLAZO SELECCIONADO",{"$f":"PLAZO_SIMULACION","v":14}]
[null,"AFORO REAL",{"$f":"Simulación!L23","v":0.2},null,"PLAZO CRECIENTES",{"$f":"IF(C2=9,IF(F4<=10,10,IF(F4<=15,15,\"N/A\")),IF(F4<=15,15,IF(F4<=20,20,\"N/A\")))","v":15},null,"LEYENDA PLAZO",{"$f":"IF(I3=5,\"Plazo Min 5 años\",\"Plazo Min 3 años\")","v":"Plazo Min 5 años"}]
[null,"AFORO MAXIMO",{"$f":"MIN(I8:I9)","v":0.9},null,"COSTO DEL AVALUO",{"$f":"J28","v":12500},null,"NOMINA AFIRME",{"$f":"Simulación!L21","v":"NO"}]
[null,"MONTO MAX POR AFORO",{"$f":"IF(Simulación!R23=6,MIN((Simulación!H23*0.4),MIN(F8,2500000))+Simulación!H22,IF(C2=8,F3,IF(C2=7,MIN(Simulación!H27,(Simulación!H23*0.7)),IF(C2=3, MIN((Simulación!H23*'Parametro Destino'!C6),(F2)),C6*Simulación!H23))))","v":4500000},null,"GASTOS NOTARIALES",{"$f":"IF(\nOR(Simulación!R23=4,Simulación!R23=5,Simulación!R23=6,Simulación!R23=7),\nSimulación!L29*Simulación!K37,\n\n IF(Simulación!R23=8,\n Simulación!H22*Simulación!L29,\n Simulación!H23*Simulación!L29))","v":30000},null,"MEJORA",{"$f":"Simulación!L31","v":"NO"},null,7.9000000000000001E-2,{"$f":"60%","v":0.6}]
[null,"COMISION APLICABLE",{"$f":"VLOOKUP(C2,A13:D22,4)","v":0.01},null,"REMODELACION",{"$f":"Simulación!H29","v":0},null,"AFORO MONTO",{"$f":"IF(I10<G18,H19,IF(I10<G17,H18,IF(I10<G16,H17,IF(I10<G15,H16,H15))))","v":1},null,8.8999999999999996E-2,{"$f":"M8","v":0.7},{"$f":"IF(AND(Simulación!L21=\"NO\"),70%,90%)","v":0.7}]
[null,"MONTO MIN POR TASA",{"$f":"IF(C3=1,200000,200000)","v":200000},null,",=SI(Y($C$2=4,I7=\"SI\"),0.9,0.9)",null,null,"AFORO X PRODUCTO",{"$f":"VLOOKUP(C2,A13:D22,3)","v":0.9},null,9.9000000000000005E-2,0.9]
[null,"PLAZO MAXIMO POR TASA",{"$f":"IF(C2=9,15,20)","v":20},null,{"$f":"VLOOKUP(I11,K7:L9,2)","v":0.7},null,null,"SOLICITADO",{"$f":"Simulación!H25","v":1000000},null,null,null,", =SI(Y(Simulación!L25=8.9%,Simulación!h21=\"SUSTITUCION\"),90%,SI(Simulación!L25=8.9%,Simulación!h21=\"ADQUISICION\"))"]
[null,null,null,null,null,{"$f":"IF($I$11=7.9%,60%,90%)","v":0.9},null,"TASA",{"$f":"Simulación!L25","v":8.900000000000001E-2}]
[null,"DESTINO","AFORO","COMISION POR APERTURA"]
[1,"ADQUISICION",{"$f":"E10","v":0.7},{"$f":"IF(AND(I6=\"SI\",I11=8.9%),0%,1%)","v":0.01},1]
[2,"APOYO INFONAVIT",{"$f":"E10","v":0.7},{"$f":"IF(AND(I6=\"SI\",I11=8.9%),0%,1%)","v":0.01},2,"TABLA DE AFOROS POR MONTO DE CREDITO",null,null,null,"2.2.6.          Esquema Aforo al 90% Adquisición Vivienda Nueva"]
[3,"COFINAVIT",{"$f":"E10","v":0.7},{"$f":"IF(AND(I6=\"SI\",I11=8.9%),0%,1%)","v":0.01},3,"Mayor de ",8000000,1,null,"Monto solicitado total<= $3MM=90%"]
[4,"SUSTITUCION",{"$f":"F11","v":0.9},{"$f":"IF(I11=8.9%,1%,IF(I7=\"SI\",0%,1%))","v":0.01},4,"Mayor de ",7000000,1,null,"Monto solicitado total>= $3MM=80%"]
[5,"REMODELACION",{"$f":"IF($C$3=1,0.4,0.4)","v":0.4},{"$f":"IF(AND(I6=\"SI\",I11=8.9%),0%,1%)","v":0.01},5,"Mayor de ",7000000,1]
[6,null,{"$f":"IF(AND($C$2=6,I7=\"SI\"),0.7,0.8)","v":0.8},{"$f":"IF(AND(I6=\"SI\",I11=8.9%),0%,1%)","v":0.01},6,"Mayor de ",5000000,1]
[7,"CONSTRUCCION",0.7,{"$f":"IF(AND(I6=\"SI\",I11=8.9%),0%,1%)","v":0.01},7,"Menor a ",6000000,1]
[8,null,{"$f":"IF($C$3=1,0.6999,0.8)","v":0.69989999999999997},{"$f":"IF(AND(I6=\"SI\",I11=8.9%),0%,1%)","v":0.01},8]
[9,"TERRENO",0.7,0.01,9]
[10,null,0.7,0.01,10]
[]
[null,null,null,null,null,null,null,null,"Valor de Vivienda",{"$f":"IF(Simulación!R23=8,(Simulación!H22+Simulación!H23),Simulación!H23)","v":5000000}]
[null,null,null,null,null,null,null,null,"Factor",{"$f":"+IF(J24<=E31,F31,IF(J24<=E32,F32,IF(J24<=E33,F33,IF(J24<=E34,F34,IF(J24<=E35,F35,\"Se Cotiza\")))))","v":2.5}]
[null,"ADQUISICION",null,null,null,null,null,null,"Minimo",{"$f":"+IF(J24<=E31,G31,IF(J24<=E32,G32,IF(J24<=E33,G33,IF(J24<=E34,G34,IF(J24<=E35,G35,\"Se Cotiza\")))))","v":3000}]
[null,"APOYO INFONAVIT",null,null,null,null,null,null,"Calculo",{"$f":"IF((J24*J25/1000)<J26,J26,(J24*J25/1000))","v":12500}]
[null,"COFINAVIT",null,null,null,null,null,null,"Resultado",{"$f":"IF(J26=\"Se Cotiza\", \"Se Cotiza\",J27)","v":12500}]
[null,"SUSTITUCION"]
[null,"REMODELACION",null,null,"TABLA DE COSTOS AVALUO"]
[null,"CONSTRUCCION",null,null,1000000,3,2000]
[null,"TERRENO",null,null,5000000,2.5,3000]
[null,null,null,null,10000000,2,12500]
[null,null,null,null,20000000,1.75,20000]
[null,null,null,null,100000000,1.5,30000]
[]
[]
[]
[]
[]
[]
[]
[]
[]
[]
[]
[]
[]
[null,null,null,"SI(Q9=8.55%,D15,SI(Q9=8.90%,D16,SI(Q9=9.90%,D17)))"]

{"sheet":"Parametros Crec","index":2,"n_rows":44,"n_cols":17,"rows_kept":44,"cut":false,"hidden":true,"merged":[]}
[]
[null,"Esquema","Tasa Base","Tasa Pago Puntual","% Diminución de Tasa","Incremento Tasa Crecientes","Inc Amort 20 años","Inc Amort 15 años","Incremento Amort 1",null,null,"Destinos",null,"Suma de Ingresos",null,"Excedente Pago Puntual"]
[null,null,null,null,null,null,null,null,null,null,null,"ADQUISICIÓN",null,"SI",null,"MENOS CUOTA"]
[null,9.5500000000000002E-2,9.5500000000000002E-2,9.5500000000000002E-2,{"$f":"C4-D4","v":0},0,1.2E-2,2.3E-2,{"$f":"IF(PLAZO_ANIOS>=20,G4,H4)","v":2.3E-2},null,null,"REMODELACIÓN",null,"NO",null,"MENOS PLAZO"]
[null,8.8999999999999996E-2,{"$f":"B5","v":8.8999999999999996E-2},{"$f":"C5","v":8.8999999999999996E-2},0,0,1.2E-2,2.3E-2,{"$f":"IF(PLAZO_ANIOS>=15,H5,G5)","v":1.2E-2},null,null,"CONSTRUCCIÓN"]
[null,9.9000000000000005E-2,9.9000000000000005E-2,9.9000000000000005E-2,{"$f":"C6-D6","v":0},0,6.9999999999999999E-4,2.4E-2,{"$f":"IF(PLAZO_ANIOS>=20,G6,H6)","v":2.4E-2},null,null,"SUSTITUCIÓN"]
[null,null,null,null,null,null,null,null,null,null,null,"ADQ/REM"]
[null,"Parámetros Tasas de Intrerés",null,null,null,null,null,null,null,null,null,"SUST/REM",null,null,null,"PLAZO SELECCIONADO",{"$f":"'Parametro Destino'!I4","v":14}]
[null,"Tasa Anual Base",{"$f":"Q9","v":8.900000000000001E-2},null,null,null,null,null,null,null,null,null,null,null,null,"tasa",{"$f":"'Parametro Destino'!I11","v":8.900000000000001E-2}]
[null,"% Disminución de Tasa",0]
[null,"Meses Beneficio Pago Puntual",12,null,null,null,null,null,null,null,null,null,null,null,null,",O,SI(Y(TASACREC=9.9%,Q8=20),\"0.07%\",\"2.40%\")"]
[null,"Meses Incremento Tasa Crecientes",60,null,"Esquemas Pago Puntual",null,"SI(Q9=8.55%,D15,SI(Q9=8.90%,D16,SI(Q9=9.90%,D17)))",null,null,null,null,null,null,null,null,{"$f":"IF(Q9=8.9%,D16,D17)","v":"2.30%"}]
[null,null,null,null,null,null,"Tramite Patrimonial 9.3",null,"Solo fijos"]
[null,"Parámetros Esquema Pagos Crecientes",null,null,null,null,"Trámite 9.8",null,"Fijos/Crecientes",null,null,null,null,"terr a 15"]
[null,"Icremento Tasa",0,{"$f":"IF(AND(TASACREC=9.55%,Q8>10),\"2.5%\",\"3%\")","v":"3%"},null,null,"Trámite Ordinario 10.55",null,"Fijos/Crecientes",null,null,null,null,"terr a 10"]
[null,"Incremento Amort",{"$f":"IF(Q9=9.55%,D15,IF(Q9=8.9%,D16,IF(Q9=9.9%,D17)))","v":"2.30%"},{"$f":"IF(AND(TASACREC=8.9%,Q8>15),\"1.2%\",\"2.30%\")","v":"2.30%"},"Tramites Especiales"]
[null,"Meses incremento",12,{"$f":"IF(AND(TASACREC=9.9%,Q8>15),\"0.07%\",\"2.40%\")","v":"2.40%"},null,null,"Pemex"]
[null,null,null,null,null,null,"Villacero"]
[null,"Parámetros Seguro Vida (Saldo Deudor)",null,null,null,null,"Muncipios"]
[null,"Factor Seg. Deudor",8.0000000000000004E-4,null,"Terrenos"]
[null,null,null,null,null,null,"Tradicional"]
[null,"Parámetros Seguro de Daños",null,null,"Esquema",null,"Villacero"]
[null,"Factor Seg. Daños",{"$f":"IF(E23=\"TERRENO\",0,1.1)","v":1.1000000000000001},null,{"$f":"Simulación!H21","v":"SUSTITUCION"}]
[null,"Factor Seg. Daños Final",{"$f":"FACT_SEGURO_DANIOSCREC * 1.0802 / 12000","v":9.901833333333334E-5}]
[null,"Factor Ajuste Seg Daños",0.7]
[null,"Suma Aseg. Calculada",{"$f":"VALOR_INMUEBLECREC * FACTOR_AJSTE_SEG_DAÑCREC","v":3500000}]
[null,"Suma Aseg. Final",{"$f":"IF(SUMA_ASEG_AVALUOCREC > 0, SUMA_ASEG_AVALUOCREC, SUMA_ASEG_CALCCREC)","v":3500000}]
[null,"Seguro Daños",{"$f":"SUMA_ASEGURADA_DAÑOSCREC * FACTOR_SEG_DANIOS_FINCREC","v":346.56416666666667}]
[]
[null,"Parámetro Seguro Desempleo"]
[null,"Factor Seguro Desempleo ",{"$f":"IF(SUMA_INGRESOSCREC= \"SI\", 0.0098, 0.0057)","v":9.7999999999999997E-3}]
[null,"Seguro Interiores",{"$f":"IF(E23=\"TERRENO\",0,(98/(1+IVA)))","v":84.482758620689665}]
[]
[null,"Parámetros Costo de Avalúo"]
[null,"Factor Avalúo",{"$f":"D35/1000","v":2.5000000000000001E-3},{"$f":"'Parametro Destino'!J25","v":2.5}]
[null,"Honorarios Avalúo",0]
[]
[null,"Parámetros Comisión Administración"]
[null,"Mto. Comisión Admon.",299]
[]
[null,"Otros Parámetros"]
[null,"Frecuencia Pago","MENSUAL"]
[null,"Dias Capital",30]
[null,"% IVA",0.16]

{"sheet":"Parametros Fijo","index":3,"n_rows":44,"n_cols":16,"rows_kept":44,"cut":false,"hidden":true,"merged":[]}
[]
[null,"Esquema","Tasa Base","Tasa Pago Puntual","% Diminución de Tasa","Incremento Tasa Crecientes","Inc Amort1","Inc Amort2","Incremento Amort 1",null,null,"Destinos",null,"Suma de Ingresos",null,"Excedente Pago Puntual"]
[null,"PP Pagos Fijos 9.3%",9.2999999999999999E-2,8.7999999999999995E-2,{"$f":"C3-D3","v":5.0000000000000044E-3},0,"N/A","N/A",0,null,null,"ADQUISICIÓN",null,"SI",null,"MENOS CUOTA"]
[null,7.9000000000000001E-2,7.9000000000000001E-2,7.9000000000000001E-2,{"$f":"C4-D4","v":0},0,"N/A","N/A",0,null,null,"REMODELACIÓN",null,"NO",null,"MENOS PLAZO"]
[null,{"$f":"'Parametro Destino'!I11","v":8.900000000000001E-2},{"$f":"B5","v":8.900000000000001E-2},{"$f":"B5","v":8.900000000000001E-2},0,0,"N/A","N/A",0,null,null,"CONSTRUCCIÓN"]
[null,9.9000000000000005E-2,9.9000000000000005E-2,9.9000000000000005E-2,{"$f":"C6-D6","v":0},0,"N/A","N/A",0,null,null,"SUSTITUCIÓN"]
[null,null,null,null,null,null,null,null,null,null,null,"ADQ/REM"]
[null,"Parámetros Tasas de Intrerés",null,null,null,null,null,null,null,null,null,"SUST/REM"]
[null,"Tasa Anual Base",{"$f":"B5","v":8.900000000000001E-2}]
[null,"% Disminución de Tasa",{"$f":"VLOOKUP(ESQUEMA, B3:I6, 4,FALSE)","v":0}]
[null,"Meses Beneficio Pago Puntual",12]
[null,"Meses Incremento Tasa Crecientes",60,null,"Esquemas Pago Puntual"]
[null,null,null,null,null,null,"Tramite Patrimonial 9.3",null,"Solo fijos"]
[null,"Parámetros Esquema Pagos Crecientes",null,null,null,null,"Trámite 9.8",null,"Fijos/Crecientes"]
[null,"Icremento Tasa",{"$f":"VLOOKUP(ESQUEMA, B3:I6, 5,FALSE)","v":0},null,null,null,"Trámite Ordinario 10.55",null,"Fijos/Crecientes"]
[null,"Incremento Amort",{"$f":"VLOOKUP(ESQUEMA, B3:I6, 8,FALSE)","v":0},null,"Tramites Especiales"]
[null,"Meses incremento",12,null,null,null,"Pemex"]
[null,null,null,null,null,null,"Villacero"]
[null,"Parámetros Seguro Vida (Saldo Deudor)",null,null,null,null,"Muncipios"]
[null,"Factor Seg. Deudor",8.0000000000000004E-4,null,"Terrenos"]
[null,null,null,null,null,null,"Tradicional"]
[null,"Parámetros Seguro de Daños",null,null,"Esquema",null,"Villacero"]
[null,"Factor Seg. Daños",{"$f":"IF(E23=\"TERRENO\",0,1.1)","v":1.1000000000000001},null,{"$f":"Simulación!H21","v":"SUSTITUCION"}]
[null,"Factor Seg. Daños Final",{"$f":"FACT_SEGURO_DANIOS * 1.0802 / 12000","v":9.901833333333334E-5}]
[null,"Factor Ajuste Seg Daños",0.7]
[null,"Suma Aseg. Calculada",{"$f":"VALOR_INMUEBLE * FACTOR_AJSTE_SEG_DAÑ","v":3500000}]
[null,"Suma Aseg. Final",{"$f":"IF(SUMA_ASEG_AVALUO > 0, SUMA_ASEG_AVALUO, SUMA_ASEG_CALC)","v":3500000}]
[null,"Seguro Daños",{"$f":"SUMA_ASEGURADA_DAÑOS * FACTOR_SEG_DANIOS_FIN","v":346.56416666666667}]
[]
[null,"Parámetro Seguro Desempleo"]
[null,"Factor Seguro Desempleo ",{"$f":"IF(SUMA_INGRESOS= \"SI\", 0.0098, 0.0057)","v":9.7999999999999997E-3}]
[null,"Seguro Interiores",{"$f":"IF(E23=\"TERRENO\",0,(98/(1+IVA)))","v":84.482758620689665}]
[]
[null,"Parámetros Costo de Avalúo"]
[null,"Factor Avalúo",{"$f":"D35/1000","v":2.5000000000000001E-3},{"$f":"'Parametro Destino'!J25","v":2.5}]
[null,"Honorarios Avalúo",0]
[]
[null,"Parámetros Comisión Administración"]
[null,"Mto. Comisión Admon.",299]
[]
[null,"Otros Parámetros"]
[null,"Frecuencia Pago","MENSUAL"]
[null,"Dias Capital",30]
[null,"% IVA",0.16]

{"sheet":"Tabla Amortización Fijo","index":4,"n_rows":259,"n_cols":37,"rows_kept":259,"cut":false,"hidden":true,"merged":[[0,1,1,5]]}
[null,"Tabla de Amortización >> Hipotecario >> Tasas Pagos Puntuales>>Cuotas Fijas"]
[]
[null,"Monto Solicitado","Plazo años","Plazo  Meses","Tipo","¿Cómo aplicar el Beneficio PP?","Suma de Ingresos","Esquema",null,"Total Financiado","% Comisión Apert","Comisión Apertura","CAT"]
[null,{"$f":"IF(\nOR('Parametro Destino'!C2=8,'Parametro Destino'!C2=3,'Parametro Destino'!C2=4),\nMIN('Parametro Destino'!F3,Simulación!H25),\nMIN(Simulación!H25,'Parametro Destino'!C7,'Parametro Destino'!F2))","v":1000000},{"$f":"'Parametro Destino'!F4","v":14},{"$f":"PLAZO_ANIOS*12","v":168},"ADQUISICIÓN",0,"SI",{"$f":"Simulación!L25","v":8.900000000000001E-2},null,{"$f":"MTO_SOLICITADO","v":1000000},0.01,{"$f":"COMISION_APERT *TOTAL_FINANCIADO","v":10000},{"$f":"(1+IRR(AJ13:AJ259,0))^(360/30)-1","v":0.12420590347901306}]
[]
[null,"Valor Inmueble","Presupuesto Construcción","Valor Inmueble actual","Suma Asegurada Daños",null,null,null,null,"Base Avalúo","Costo Avaluo Base","Subtotal Avalúo  (Base + Honorarios)","IVA Avalúo ","Total Avalúo "]
[null,{"$f":"Simulación!H23","v":5000000},1000000,2000000,{"$f":"VALOR_INMUEBLE*0.7","v":3500000},null,null,null,null,{"$f":"IF(DESTINO =\"CONSTRUCCIÓN\",\n                 IF(VALOR_INMUEB_ACT> 0, VALOR_INMUEB_ACT, VALOR_INMUEBLE-PRES_CONSTRUCCION),\n         VALOR_INMUEBLE)","v":5000000},{"$f":"MTO_BASE_AVALUO*FACTOR_AVALUO","v":12500},{"$f":"MTO_AVALUO + HONORARIOS_AVALUO","v":12500},{"$f":"SUBTOT_AVALUO * IVA","v":2000},{"$f":"SUBTOT_AVALUO + IVA_AVALUO","v":14500}]
[]
[null,"Fecha Apertura","Fecha 1er Pago",null,null,null,null,null,null,null,"Suma Inversos","Cuota Nivelada Base",null,null,null,null,null,null,null,null,null,null,null,null,null,null,null,null,null,null,null,null,null,null,null,"Monto Inicial CAT"]
[null,{"$f":"Simulación!L8","v":"2022-03-15"},{"$f":"IF(DAY(FECHA_APERTURA)<= 19,\n               DATE(YEAR(DATE(YEAR(FECHA_APERTURA),MONTH(FECHA_APERTURA)+2,)),\n                              MONTH(DATE(YEAR(FECHA_APERTURA),MONTH(FECHA_APERTURA)+2,)),\n                              4),\n               DATE(YEAR(DATE(YEAR(FECHA_APERTURA),MONTH(FECHA_APERTURA)+3,)),\n                               MONTH(DATE(YEAR(FECHA_APERTURA),MONTH(FECHA_APERTURA)+3,)),\n                               4))","v":"2022-04-04"},null,null,null,null,null,null,null,{"$f":"SUMIF(B14:B259, CONCATENATE(\"<\",PLAZO),K14:K259)","v":90.027877909163195},{"$f":"J4/K10","v":11107.67045968789},null,null,null,null,null,null,null,null,null,null,null,null,null,null,null,null,null,null,null,null,null,null,null,{"$f":"MTO_SOLICITADO - MTO_COMISION_APERT - SUBTOT_AVALUO","v":977500}]
[]
[null,"Pago","Fecha","Dias Reales","Tasa Periodo","Prorrateo","Potencia","Inverso","Aplica Incremento","Ajuste","Inverso Ajuste","Cuota Nivelada Periodo","Saldo","Capital","Interés           (Dias Reales)","Comision","IVA Comisión","Seguro Daños","IVA Seguro Daños","Seguro Vida","Seguro Interiores","IVA Seguro Interiores","Seguro Desempleo","IVA Seguro Desempleo","Total a Pagar Ordinario","Tasa Pago Puntual","Saldo Pago Puntual","Capital Pago Puntual","Interés","Seguro Vida Pago Puntual","Total Pago Puntual","Aportación Capital Pago Puntual","Prepago","Total a Pagar Pago Puntual",null,"Total CAT"]
[null,null,null,null,null,null,null,null,null,null,null,null,null,null,null,null,null,null,null,null,null,null,null,null,null,null,null,null,null,null,null,null,null,null,null,{"$f":"AJ10*-1","v":-977500}]
[null,0,{"$f":"IF(B14=0,FECHA_1ER_PAGO,DATE(YEAR(C13),MONTH(C13)+2,))","v":"2022-04-04"},{"$f":"IF(B14=0,C14-B10+1, C14-C13)","v":21},{"$f":"ESQUEMA","v":8.900000000000001E-2},{"$f":"1 + D14 * E14 / 360 + FACTOR_SEG_DEUD","v":1.0059916666666666},{"$f":"IF(B14 = 0, 0,\n            IF(G13=0, F14, G13 * F14 ))","v":0},{"$f":"IF(G14=0, 0, 1/G14)","v":0},{"$f":"MOD(B14, MESES_INC)=0","v":true},{"$f":"IF(B14=0, 1, IF(I14,J12*(1+INCREMENTO),J12))","v":1},{"$f":"H14*J14","v":0},{"$f":"CUOTA_INIT*J14","v":11107.67045968789},{"$f":"IF(B14=0,TOTAL_FINANCIADO, M12-N12)","v":1000000},{"$f":"IF(B14=0, 0, L14-O14-T14)","v":0},{"$f":"M14 * D14 * E14 /360","v":5191.666666666667},{"$f":"COMISION_AMORT","v":299},{"$f":"P14*IVA","v":47.84},{"$f":"SEGURO_DAÑOS_MENS","v":346.56416666666667},{"$f":"R14*IVA","v":55.450266666666664},{"$f":"M14 * FACTOR_SEG_DEUD","v":800},{"$f":"SEGURO_INTERIORES","v":84.482758620689665},{"$f":"U14*IVA","v":13.517241379310347},{"$f":"SUM(N14:V14) * FACTOR_SEG_DESEMPLEO","v":67.017506780000005},{"$f":"W14*IVA","v":10.7228010848},{"$f":"IF(B14>=PLAZO, 0, SUM(N14:X14))","v":6916.2614078648012},{"$f":"ESQUEMA","v":8.900000000000001E-2},{"$f":"IF(B14=0,TOTAL_FINANCIADO, MAX(ROUND(AA13-N13-AF13-AG13,2), 0))","v":1000000},{"$f":"MIN(AA14,N14)","v":0},{"$f":"AA14 * D14 * Z14 /360","v":5191.666666666667},{"$f":"AA14 * FACTOR_SEG_DEUD","v":800},{"$f":"IF(AA14>0, AB14+AC14+AD14+P14+Q14+R14+S14+U14+V14+W14+X14, 0)","v":6916.2614078648012},{"$f":"IF(ACCION_EXCEDENTE_PP=\"MENOS PLAZO\", IF(AA14>N14, ROUND(Y14-AE14, 2), 0), 0)","v":0},{"$f":"'Tabla Fijo'!E8+'Tabla Fijo'!H8","v":0},{"$f":"AE14+AF14","v":6916.2614078648012},null,{"$f":"IF(AA14> 0,AB14+AC14+AD14+P14+R14+U14+W14, 0)","v":6788.7310987340234}]
[null,1,{"$f":"IF(B15=0,FECHA_1ER_PAGO,DATE(YEAR(C14),MONTH(C14)+1,4))","v":"2022-05-04"},{"$f":"IF(B15=0,C15-C10+1, C15-C14)","v":30},{"$f":"IF(B15=0,TASA,IF(B15=MESES_INC_TASA,E14+INCREMENTO_TASA,E14))","v":8.900000000000001E-2},1.0082166666666665,{"$f":"IF(B15 = 0, 0,\n            IF(G14=0, F15, G14 * F15 ))","v":1.0082166666666665},{"$f":"IF(G15=0, 0, 1/G15)","v":0.99185029672854719},false,{"$f":"IF(B15=0, 1, IF(I15,J14*(1+INCREMENTO),J14))","v":1},0.99185029672854719,11107.67045968789,{"$f":"IF(B15=0,TOTAL_FINANCIADO, M14-N14)","v":1000000},{"$f":"IF(B15=0, 0, L15-O15-T15)","v":2891.003793021222},{"$f":"M15 * D15 * E15 /360","v":7416.6666666666679},299,47.84,{"$f":"SEGURO_DAÑOS_MENS","v":346.56416666666667},55.450266666666664,{"$f":"M15 * FACTOR_SEG_DEUD","v":800},84.482758620689665,13.517241379310347,{"$f":"SUM(N15:V15) * FACTOR_SEG_DESEMPLEO","v":117.15434395160798},18.74469503225728,12090.423932005089,8.900000000000001E-2,1000000,2891.003793021222,{"$f":"AA15 * D15 * Z15 /360","v":7416.6666666666679},800,{"$f":"IF(AA15>0, AB15+AC15+AD15+P15+Q15+R15+S15+U15+V15+W15+X15, 0)","v":12090.423932005089},0,{"$f":"'Tabla Fijo'!E9+'Tabla Fijo'!H9","v":0},{"$f":"AE15+AF15","v":12090.423932005089},null,{"$f":"IF(AA15> 0,AB15+AC15+AD15+P15+R15+U15+W15, 0)","v":11954.871728926855}]
[null,2,"2022-06-04",{"$f":"IF(B16=0,C16-'Parametros Fijo'!C9+1, C16-C15)","v":31},8.900000000000001E-2,1.0084638888888888,1.016750100509259,0.98352584327174464,false,1,0.98352584327174464,11107.67045968789,997108.9962069788,{"$f":"IF(B16=0, 0, L16-O16-T16)","v":2668.250705680488},7641.7325570418188,299,47.84,346.56416666666667,55.450266666666664,797.6871969655831,84.482758620689665,13.517241379310347,117.15434395160801,18.744695032257283,12090.423932005091,8.900000000000001E-2,997109,{"$f":"MIN(AA16,N16)","v":2668.250705680488},7641.7325861111112,797.68720000000008,12090.423964108799,0,{"$f":"'Tabla Fijo'!E10+'Tabla Fijo'!H10","v":0},{"$f":"AE16+AF16","v":12090.423964108799},null,11954.871761030565]
[null,3,"2022-07-04",{"$f":"IF(B17=0,C17-'Parametros Fijo'!C15+1, C17-C16)","v":30},8.900000000000001E-2,1.0082166666666665,1.0251043971684433,0.97551039948927454,false,1,0.97551039948927454,11107.67045968789,994440.74550129834,2936.6823341522222,7375.4355291346292,299,47.84,346.56416666666667,55.450266666666664,795.55259640103873,84.482758620689665,13.517241379310347,117.15434395160798,18.74469503225728,12090.423932005089,8.900000000000001E-2,994440.75,2936.6823341522222,7375.4355625000007,795.55259999999998,12090.423968969422,0,{"$f":"'Tabla Fijo'!E11+'Tabla Fijo'!H11","v":0},12090.423968969422,null,11954.871765891188]
[null,4,"2022-08-04",{"$f":"IF(B18=0,C18-'Parametros Fijo'!C16+1, C18-C17)","v":31},8.900000000000001E-2,1.0084638888888888,1.0337807668855883,0.9673230843833962,false,1,0.9673230843833962,11107.67045968789,991504.06316714617,2715.6902361592934,7598.7769729948795,299,47.84,346.56416666666667,55.450266666666664,793.20325053371698,84.482758620689665,13.517241379310347,117.15434395160798,18.74469503225728,12090.423932005089,8.900000000000001E-2,991504.07,2715.6902361592934,7598.7770253611125,793.20325600000001,12090.423989837605,0,{"$f":"'Tabla Fijo'!E12+'Tabla Fijo'!H12","v":0},12090.423989837605,null,11954.871786759371]
[null,5,"2022-09-04",{"$f":"IF(B19=0,C19-#REF!+1, C19-C18)","v":31},8.900000000000001E-2,1.0084638888888888,1.0425305724319782,0.95920448420734139,false,1,0.95920448420734139,11107.67045968789,988788.37293098692,2738.6755365747872,7577.9642247683132,299,47.84,346.56416666666667,55.450266666666664,791.03069834478958,84.482758620689665,13.517241379310347,117.15434395160798,18.74469503225728,12090.423932005089,8.900000000000001E-2,988788.38,2738.6755365747872,7577.9642789444461,791.03070400000001,12090.423991836433,0,{"$f":"'Tabla Fijo'!E13+'Tabla Fijo'!H13","v":0},12090.423991836433,null,11954.871788758199]
[null,6,"2022-10-04",{"$f":"IF(B20=0,C20-C12+1, C20-C19)","v":30},8.900000000000001E-2,1.0082166666666665,1.0510966986354608,0.95138725228440457,false,1,0.95138725228440457,11107.67045968789,986049.69739441213,3005.6287794304699,7313.2019223418902,299,47.84,346.56416666666667,55.450266666666664,788.83975791552973,84.482758620689665,13.517241379310347,117.15434395160798,18.74469503225728,12090.423932005089,8.900000000000001E-2,986049.7,3005.6287794304699,7313.2019416666681,788.83975999999996,12090.423953414338,0,{"$f":"'Tabla Fijo'!E14+'Tabla Fijo'!H14","v":0},12090.423953414338,null,11954.871750336104]
[null,7,"2022-11-04",31,8.900000000000001E-2,1.0084638888888888,1.0599930643041893,0.94340239920006408,false,1,0.94340239920006408,11107.67045968789,983044.0686149816,2787.2946900494208,{"$f":"M21 * D21 * E21 /360","v":7533.940514746484},299,47.84,346.56416666666667,55.450266666666664,786.43525489198532,84.482758620689665,13.517241379310347,117.15434395160798,18.74469503225728,12090.423932005089,8.900000000000001E-2,983044.07,2787.2946900494208,7533.9405253611121,786.43525599999998,12090.423943727732,0,{"$f":"'Tabla Fijo'!E15+'Tabla Fijo'!H15","v":0},12090.423943727732,null,11954.871740649498]
[null,8,"2022-12-04",30,8.900000000000001E-2,1.0082166666666665,1.0687026739825551,0.93571394958100707,false,1,0.93571394958100707,11107.67045968789,980256.77392493223,3053.2273006046953,7270.2377399432489,299,47.84,346.56416666666667,55.450266666666664,784.20541913994577,84.482758620689665,13.517241379310347,117.15434395160798,18.74469503225728,12090.423932005089,8.900000000000001E-2,980256.78,3053.2273006046953,7270.2377850000012,784.20542400000011,12090.423981921896,0,{"$f":"'Tabla Fijo'!E16+'Tabla Fijo'!H16","v":0},12090.423981921896,null,11954.871778843662]
[null,9,"2023-01-04",31,8.900000000000001E-2,1.0084638888888888,1.0777480546704019,0.92786064021782999,false,{"$f":"IF(B23=0, 1, IF(I23,J22*(1+INCREMENTO),J22))","v":1},0.92786064021782999,11107.67045968789,977203.54662432754,2836.7282192314287,7489.1794031569989,299,47.84,346.56416666666667,55.450266666666664,781.76283729946203,84.482758620689665,13.517241379310347,117.15434395160798,18.74469503225728,12090.423932005089,8.900000000000001E-2,977203.55,2836.7282192314287,7489.1794290277785,781.7628400000001,12090.423960576405,0,{"$f":"'Tabla Fijo'!E17+'Tabla Fijo'!H17","v":0},12090.423960576405,null,11954.871757498171]
[null,10,"2023-02-04",31,8.900000000000001E-2,1.0084638888888888,1.0868699944553484,0.92007324252347167,false,1,0.92007324252347167,11107.67045968789,974366.81840509607,2860.7379716869787,7467.4390332768344,299,47.84,346.56416666666667,55.450266666666664,779.49345472407686,84.482758620689665,13.517241379310347,117.15434395160798,18.74469503225728,12090.423932005089,8.900000000000001E-2,974366.82,2860.7379716869787,7467.4390455000002,779.49345600000004,12090.423945504179,0,{"$f":"'Tabla Fijo'!E18+'Tabla Fijo'!H18","v":0},12090.423945504179,null,11954.871742425945]
[null,11,"2023-03-04",28,8.900000000000001E-2,1.0077222222222222,1.0952630460791979,0.91302267850611896,false,1,0.91302267850611896,11107.67045968789,971506.08043340908,3605.4846163410079,6724.9809790001545,299,47.84,346.56416666666667,55.450266666666664,777.20486434672728,84.482758620689665,13.517241379310347,117.15434395160798,18.74469503225728,12090.423932005089,8.900000000000001E-2,971506.08,3605.4846163410079,6724.9809759999998,777.20486400000004,12090.423928658207,0,{"$f":"'Tabla Fijo'!E19+'Tabla Fijo'!H19","v":0},12090.423928658207,null,11954.871725579973]
[null,12,"2023-04-04",31,8.900000000000001E-2,1.0084638888888888,1.1045332308053182,0.90535981363901319,true,1,0.90535981363901319,11107.67045968789,967900.59581706813,2915.4673612028701,7417.8826218313652,299,47.84,346.56416666666667,55.450266666666664,774.32047665365451,84.482758620689665,13.517241379310347,117.15434395160798,18.74469503225728,12090.423932005089,8.900000000000001E-2,967900.6,2915.4673612028701,7417.8826538888889,774.32047999999998,12090.423967408959,0,{"$f":"'Tabla Fijo'!E20+'Tabla Fijo'!H20","v":0},12090.423967408959,null,11954.871764330725]
[null,13,"2023-05-04",30,8.900000000000001E-2,1.0082166666666665,1.1136088121851018,0.89798139980395741,false,1,0.89798139980395741,11107.67045968789,964985.12845586531,3178.7093208755296,7156.9730360476678,299,47.84,346.56416666666667,55.450266666666664,771.98810276469226,84.482758620689665,13.517241379310347,117.15434395160797,18.744695032257276,12090.423932005087,8.900000000000001E-2,964985.13,3178.7093208755296,7156.9730475000006,771.98810400000002,12090.423944692729,0,{"$f":"'Tabla Fijo'!E21+'Tabla Fijo'!H21","v":0},12090.423944692729,null,11954.871741614495]
[null,14,"2023-06-04",31,8.900000000000001E-2,1.0084638888888888,1.1230342734371239,0.89044477417365986,false,1,0.89044477417365986,11107.67045968789,961806.41913498973,2967.0477955092406,7371.1775288706576,299,47.84,346.56416666666667,55.450266666666664,769.44513530799179,84.482758620689665,13.517241379310347,117.15434395160798,18.74469503225728,12090.423932005089,8.900000000000001E-2,961806.42,2967.0477955092406,7371.1775355000009,769.44513600000005,12090.423939326442,0,{"$f":"'Tabla Fijo'!E22+'Tabla Fijo'!H22","v":0},12090.423939326442," ",11954.871736248208]
[null,15,"2023-07-04",30,8.900000000000001E-2,1.0082166666666665,1.1322618717171988,0.88318791348452874,false,1,0.88318791348452874,11107.67045968789,958839.37133948051,3229.2069585151576,7111.3920041011479,299,47.84,346.56416666666667,55.450266666666664,767.07149707158442,84.482758620689665,13.517241379310347,117.15434395160801,18.744695032257283,12090.423932005091,8.900000000000001E-2,958839.37,3229.2069585151576,7111.3919941666682,767.07149600000002,12090.423920999026,0,{"$f":"'Tabla Fijo'!E23+'Tabla Fijo'!H23","v":0},12090.423920999026,null,11954.871717920792]
[null,16,"2023-08-04",31,8.900000000000001E-2,1.0084638888888888,1.1418452103925385,0.87577544740606694,false,1,0.87577544740606694,11107.67045968789,955610.16438096541,3019.4922072745512,7323.6901209085663,299,47.84,346.56416666666667,55.450266666666664,764.48813150477235,84.482758620689665,13.517241379310347,117.15434395160797,18.744695032257276,12090.423932005087,8.900000000000001E-2,955610.16,3019.4922072745512,7323.6900873333343,764.48812800000007,12090.423894925087,0,{"$f":"'Tabla Fijo'!E24+'Tabla Fijo'!H24","v":0},12090.423894925087,null,11954.871691846853]
[null,17,"2023-09-04",31,8.900000000000001E-2,1.0084638888888888,1.1515096613816109,0.86842519306366417,false,1,0.86842519306366417,11107.67045968789,952590.67217369087,3045.0488538177879,7300.5490681311494,299,47.84,346.56416666666667,55.450266666666664,762.07253773895275,84.482758620689665,13.517241379310347,117.15434395160801,18.744695032257283,12090.423932005091,8.900000000000001E-2,952590.67,3045.0488538177879,7300.5490514722223,762.07253600000001,12090.42391360721,0,{"$f":"'Tabla Fijo'!E25+'Tabla Fijo'!H25","v":0},12090.42391360721,null,11954.871710528976]
[null,18,"2023-10-04",30,8.900000000000001E-2,1.0082166666666665,1.1609712324326298,0.86134778542674117,false,1,0.86134778542674117,11107.67045968789,949545.62331987312,3305.5705880762653,7042.4633729557263,299,47.84,346.56416666666667,55.450266666666664,759.63649865589855,84.482758620689665,13.517241379310347,117.15434395160798,18.74469503225728,12090.423932005089,8.900000000000001E-2,949545.62,3305.5705880762653,7042.4633483333346,759.63649600000008,12090.423904726798,0,{"$f":"'Tabla Fijo'!E26+'Tabla Fijo'!H26","v":0},12090.423904726798,null,11954.871701648564]
[null,19,"2023-11-04",31,8.900000000000001E-2,1.0084638888888888,1.170797563947136,0.85411862032636765,false,1,0.85411862032636765,11107.67045968789,946240.05273179687,3098.7997911495968,7251.8786263528555,299,47.84,346.56416666666667,55.450266666666664,756.99204218543753,84.482758620689665,13.517241379310347,117.15434395160797,18.744695032257276,12090.423932005087,8.900000000000001E-2,946240.05,3098.7997911495968,7251.8786054166685,756.99204000000009,12090.423908883466,0,{"$f":"'Tabla Fijo'!E27+'Tabla Fijo'!H27","v":0},12090.423908883466,null,11954.871705805232]
[null,20,"2023-12-04",30,8.900000000000001E-2,1.0082166666666665,1.1804176172642349,0.8471578070120851,false,1,0.8471578070120851,11107.67045968789,943141.2529406473,3358.1931646922367,6994.9642926431352,299,47.84,346.56416666666667,55.450266666666664,754.5130023525179,84.482758620689665,13.517241379310347,117.15434395160798,18.74469503225728,12090.423932005089,8.900000000000001E-2,943141.25,3358.1931646922367,6994.964270833334,754.51300000000003,12090.423907842771,0,{"$f":"'Tabla Fijo'!E28+'Tabla Fijo'!H28","v":0},12090.423907842771,null,11954.871704764537]
[null,21,"2024-01-04",31,8.900000000000001E-2,1.0084638888888888,1.1904085408192462,0.84004773631058971,false,1,0.84004773631058971,11107.67045968789,939783.05977595504,3153.451062084182,7202.392949782944,299,47.84,346.56416666666667,55.450266666666664,751.82644782076409,84.482758620689665,13.517241379310347,117.15434395160798,18.74469503225728,12090.423932005089,8.900000000000001E-2,939783.06,3153.451062084182,7202.3929515000018,751.82644800000003,12090.423933901384,0,{"$f":"'Tabla Fijo'!E29+'Tabla Fijo'!H29","v":0},12090.423933901384,null,11954.87173082315]
[null,22,"2024-02-04",31,8.900000000000001E-2,1.0084638888888888,1.2004840264411245,0.83299733938529263,false,1,0.83299733938529263,11107.67045968789,936629.60871387087,3180.1415214902108,7178.2252512265823,299,47.84,346.56416666666667,55.450266666666664,749.30368697109668,84.482758620689665,13.517241379310347,117.15434395160797,18.744695032257276,12090.423932005087,8.900000000000001E-2,936629.61,3180.1415214902108,7178.2252610833348,749.30368800000008,12090.423942890746,0,{"$f":"'Tabla Fijo'!E30+'Tabla Fijo'!H30","v":0},12090.423942890746,null,11954.871739812512]
[null,23,"2024-03-04",29,8.900000000000001E-2,1.0079694444444443,1.2100512171962898,0.82641130043818956,false,1,0.82641130043818956,11107.67045968789,933449.46719238069,3668.5967892019439,6692.3140967320414,299,47.84,346.56416666666667,55.450266666666664,746.75957375390453,84.482758620689665,13.517241379310347,117.15434395160798,18.74469503225728,12090.423932005089,8.900000000000001E-2,933449.47,3668.5967892019439,6692.314116861111,746.75957600000004,12090.423954380254,0,{"$f":"'Tabla Fijo'!E31+'Tabla Fijo'!H31","v":0},12090.423954380254,null,11954.87175130202]
[null,24,"2024-04-04",31,8.900000000000001E-2,1.0084638888888888,1.2202929562485039,0.81947535211074118,true,1,0.81947535211074118,11107.67045968789,929780.87040317873,3238.1084815809845,7125.7372817843625,299,47.84,346.56416666666667,55.450266666666664,743.82469632254299,84.482758620689665,13.517241379310347,117.15434395160798,18.74469503225728,12090.423932005089,8.900000000000001E-2,929780.87,3238.1084815809845,7125.7372786944452,743.82469600000002,12090.423928592629,0,{"$f":"'Tabla Fijo'!E32+'Tabla Fijo'!H32","v":0},12090.423928592629,null,11954.871725514395]
[null,25,"2024-05-04",30,8.900000000000001E-2,1.0082166666666665,1.2303196967056789,0.81279687115276944,false,1,0.81279687115276944,11107.67045968789,926542.76192159776,3494.5774325654279,6871.8588175851837,299,47.84,346.56416666666667,55.450266666666664,741.23420953727828,84.482758620689665,13.517241379310347,117.15434395160798,18.74469503225728,12090.423932005089,8.900000000000001E-2,926542.76,3494.5774325654279,6871.8588033333344,741.23420800000008,12090.423916215961,0,{"$f":"'Tabla Fijo'!E33+'Tabla Fijo'!H33","v":0},12090.423916215961,null,11954.871713137727]
[null,26,"2024-06-04",31,8.900000000000001E-2,1.0084638888888888,1.2407329859164071,0.80597518672512647,false,1,0.80597518672512647,11107.67045968789,923048.18448903237,3295.0931870821069,7074.1387250145572,299,47.84,346.56416666666667,55.450266666666664,738.43854759122598,84.482758620689665,13.517241379310347,117.15434395160798,18.74469503225728,12090.423932005089,8.900000000000001E-2,923048.18,3295.0931870821069,7074.138690611112,738.43854400000009,12090.423894010419,0,{"$f":"'Tabla Fijo'!E34+'Tabla Fijo'!H34","v":0},12090.423894010419,null,11954.871690932185]
[null,27,"2024-07-04",30,8.900000000000001E-2,1.0082166666666665,1.2509276752840202,0.79940672810916291,false,1,0.79940672810916291,11107.67045968789,919753.09130195028,3550.3658928235309,6821.502093822799,299,47.84,346.56416666666667,55.450266666666664,735.80247304156023,84.482758620689665,13.517241379310347,117.15434395160798,18.74469503225728,12090.423932005089,8.900000000000001E-2,919753.09,3550.3658928235309,6821.5020841666683,735.80247199999997,12090.423921307398,0,{"$f":"'Tabla Fijo'!E35+'Tabla Fijo'!H35","v":0},12090.423921307398,null,11954.871718229164]
[null,28,"2024-08-04",31,8.900000000000001E-2,1.0084638888888888,1.26151538813566,0.7926974251799318,false,1,0.7926974251799318,11107.67045968789,916202.72540912672,3353.032392127865,7021.6758872327237,299,47.84,346.56416666666667,55.450266666666664,732.96218032730144,84.482758620689665,13.517241379310347,117.15434395160798,18.74469503225728,12090.423932005089,8.900000000000001E-2,916202.72,3353.032392127865,7021.6758457777787,732.962176,12090.423886222845,0,{"$f":"'Tabla Fijo'!E36+'Tabla Fijo'!H36","v":0},12090.423886222845,null,11954.871683144611]
[null,29,"2024-09-04",31,8.900000000000001E-2,1.0084638888888888,1.2721927142124636,0.78604443244201305,false,1,0.78604443244201305,11107.67045968789,912849.69301699882,3381.4120857356793,6995.9786195386114,299,47.84,346.56416666666667,55.450266666666664,730.27975441359911,84.482758620689665,13.517241379310347,117.15434395160798,18.74469503225728,12090.423932005089,8.900000000000001E-2,912849.69,3381.4120857356793,6995.9785964166667,730.27975200000003,12090.423906469545,0,{"$f":"'Tabla Fijo'!E37+'Tabla Fijo'!H37","v":0},12090.423906469545,null,11954.871703391311]
[null,30,"2024-10-04",30,8.900000000000001E-2,1.0082166666666665,1.2826458976809092,0.77963840355943304,false,1,0.77963840355943304,11107.67045968789,909468.28093126311,3634.8727513693439,6745.2230835735354,299,47.84,346.56416666666667,55.450266666666664,727.57462474501051,84.482758620689665,13.517241379310347,117.15434395160798,18.74469503225728,12090.423932005089,8.900000000000001E-2,909468.28,3634.8727513693439,6745.223076666668,727.57462400000009,12090.423924353212,0,{"$f":"'Tabla Fijo'!E38+'Tabla Fijo'!H38","v":0},12090.423924353212,null,11954.871721274978]
[null,31,"2024-11-04",31,8.900000000000001E-2,1.0084638888888888,1.2935020700426694,0.77309501326659069,false,1,0.77309501326659069,11107.67045968789,905833.40817989374,3440.797141009733,6942.2065921342419,299,47.84,346.56416666666667,55.450266666666664,724.66672654391505,84.482758620689665,13.517241379310347,117.15434395160798,18.74469503225728,12090.423932005089,8.900000000000001E-2,905833.41,3440.797141009733,6942.2066060833349,724.66672800000003,12090.423947410267,0,{"$f":"'Tabla Fijo'!E39+'Tabla Fijo'!H39","v":0},12090.423947410267,null,11954.871744332033]
[null,32,"2024-12-04",30,8.900000000000001E-2,1.0082166666666665,1.3041303453848532,0.76679451830782808,false,1,0.76679451830782808,11107.67045968789,902392.61103888403,3693.0111723183913,6692.7451985383914,299,47.84,346.56416666666667,55.450266666666664,721.91408883110728,84.482758620689665,13.517241379310347,117.15434395160798,18.74469503225728,12090.423932005089,8.900000000000001E-2,902392.61,3693.0111723183913,6692.7451908333342,721.91408799999999,12090.423923468925,0,{"$f":"'Tabla Fijo'!E40+'Tabla Fijo'!H40","v":0},12090.423923468925,null,11954.871720390691]
[null,33,"2025-01-04",31,8.900000000000001E-2,1.0084638888888888,1.3151683597248187,0.76035892485220413,false,1,0.76035892485220413,11107.67045968789,898699.59986656567,3501.1769019283738,6887.5338778662635,299,47.84,346.56416666666667,55.450266666666664,718.95967989325254,84.482758620689665,13.517241379310347,117.15434395160798,18.74469503225728,12090.423932005089,8.900000000000001E-2,898699.6,3501.1769019283738,6887.5338788888894,718.95968000000005,12090.423933134462,0,{"$f":"'Tabla Fijo'!E41+'Tabla Fijo'!H41","v":0},12090.423933134462,null,11954.871730056228]
[null,34,"2025-02-04",31,8.900000000000001E-2,1.0084638888888888,1.3262997985917118,0.75397734438459341,false,1,0.75397734438459341,11107.67045968789,895198.42296463728,3530.8104742066398,6860.7012471095404,299,47.84,346.56416666666667,55.450266666666664,716.15873837170989,84.482758620689665,13.517241379310347,117.15434395160798,18.74469503225728,12090.423932005089,8.900000000000001E-2,895198.42,3530.8104742066398,6860.7012243888894,716.15873600000009,12090.423906912727,0,{"$f":"'Tabla Fijo'!E42+'Tabla Fijo'!H42","v":0},12090.423906912727,null,11954.871703834493]
[null,35,"2025-03-04",28,8.900000000000001E-2,1.0077222222222222,1.3365417803697255,0.74819958095389394,false,1,0.74819958095389394,11107.67045968789,891667.61249043059,4222.015007678453,6172.3213620170927,299,47.84,346.56416666666667,55.450266666666664,713.3340899923445,84.482758620689665,13.517241379310347,117.15434395160798,18.74469503225728,12090.423932005089,8.900000000000001E-2,891667.61,4222.015007678453,6172.3213447777771,713.33408800000007,12090.423912773429,0,{"$f":"'Tabla Fijo'!E43+'Tabla Fijo'!H43","v":0},12090.423912773429,null,11954.871709695195]
[null,36,"2025-04-04",31,8.900000000000001E-2,1.0084638888888888,1.3478541214941324,0.74192005206874556,true,1,0.74192005206874556,11107.67045968789,887445.59748275217,3596.429527660262,6801.2844540414262,299,47.84,346.56416666666667,55.450266666666664,709.95647798620178,84.482758620689665,13.517241379310347,117.15434395160798,18.74469503225728,12090.423932005089,8.900000000000001E-2,887445.59,3596.429527660262,6801.2843966944456,709.95647199999996,12090.423868671907,0,{"$f":"'Tabla Fijo'!E44+'Tabla Fijo'!H44","v":0},12090.423868671907,null,11954.871665593673]
[null,37,"2025-05-04",30,8.900000000000001E-2,1.0082166666666665,1.3589289895257424,0.7358736237932445,false,1,0.7358736237932445,11107.67045968789,883849.16795509192,3845.3764629902162,6555.2146623336002,299,47.84,346.56416666666667,55.450266666666664,707.07933436407359,84.482758620689665,13.517241379310347,117.15434395160798,18.74469503225728,12090.423932005089,8.900000000000001E-2,883849.16,3845.3764629902162,6555.2146033333347,707.07932800000003,12090.423866640751,0,{"$f":"'Tabla Fijo'!E45+'Tabla Fijo'!H45","v":0},12090.423866640751,null,11954.871663562517]
[null,38,"2025-06-04",{"$f":"IF(B52=0,C52-C44+1, C52-C51)","v":31},8.900000000000001E-2,1.0084638888888888,1.3704308135009782,0.72969754485112959,false,1,0.72969754485112959,11107.67045968789,880003.79149210174,3659.4161466977939,6744.2512797964146,299,47.84,346.56416666666667,55.450266666666664,704.0030331936814,84.482758620689665,13.517241379310347,117.15434395160798,18.74469503225728,12090.423932005089,8.900000000000001E-2,880003.78,3659.4161466977939,6744.2511917222228,704.0030240000001,12090.423834737216,0,{"$f":"'Tabla Fijo'!E46+'Tabla Fijo'!H46","v":0},12090.423834737216,null,11954.871631658982]
[null,39,"2025-07-04",30,8.900000000000001E-2,1.0082166666666665,1.3816911866852444,0.72375072638268523,false,1,0.72375072638268523,11107.67045968789,876344.37534540391,3907.0408422664864,6499.5541171450805,299,47.84,346.56416666666667,55.450266666666664,701.07550027632317,84.482758620689665,13.517241379310347,117.15434395160798,18.74469503225728,12090.423932005089,8.900000000000001E-2,876344.36,3907.0408422664864,6499.5540033333336,701.07548800000006,12090.42380591702,0,{"$f":"'Tabla Fijo'!E47+'Tabla Fijo'!H47","v":0},12090.42380591702,null,11954.871602838786]
[null,40,"2025-08-04",31,8.900000000000001E-2,1.0084638888888888,1.3933856673681053,0.71767639313302878,false,1,0.71767639313302878,11107.67045968789,872437.33450313739,3723.4577979349456,6686.2627941504343,299,47.84,346.56416666666667,55.450266666666664,697.94986760250993,84.482758620689665,13.517241379310347,117.15434395160798,18.74469503225728,12090.423932005089,8.900000000000001E-2,872437.32,3723.4577979349456,6686.2626829999999,697.94985599999995,12090.423809252145,0,{"$f":"'Tabla Fijo'!E48+'Tabla Fijo'!H48","v":0},12090.423809252145,null,11954.871606173911]
[null,41,"2025-09-04",31,8.900000000000001E-2,1.0084638888888888,1.4051791288360791,0.71165304086768488,false,1,0.71165304086768488,11107.67045968789,868713.87670520239,3754.9727310191347,6657.7266273045934,299,47.84,346.56416666666667,55.450266666666664,694.971101364162,84.482758620689665,13.517241379310347,117.15434395160798,18.74469503225728,12090.423932005089,8.900000000000001E-2,868713.86,3754.9727310191347,6657.7264992777791,694.97108800000001,12090.423790614113,0,{"$f":"'Tabla Fijo'!E49+'Tabla Fijo'!H49","v":0},12090.423790614113,null,11954.871587535879]
[null,42,"2025-10-04",30,8.900000000000001E-2,1.0082166666666665,1.4167250173446819,0.70585327975238621,false,1,0.70585327975238621,11107.67045968789,864958.90397418325,4000.5914653666828,6415.1118711418603,299,47.84,346.56416666666667,55.450266666666664,691.96712317934669,84.482758620689665,13.517241379310347,117.15434395160798,18.74469503225728,12090.423932005089,8.900000000000001E-2,864958.89,4000.5914653666828,6415.1117674999996,691.96711200000004,12090.423817183882,0,{"$f":"'Tabla Fijo'!E50+'Tabla Fijo'!H50","v":0},12090.423817183882,null,11954.871614105648]
[null,43,"2025-11-04",31,8.900000000000001E-2,1.0084638888888888,1.4287160204775964,0.69992915713629111,false,1,0.69992915713629111,11107.67045968789,860958.3125088166,3820.6149646479885,6598.2888450328483,299,47.84,346.56416666666667,55.450266666666664,688.76665000705327,84.482758620689665,13.517241379310347,117.15434395160798,18.74469503225728,12090.423932005089,8.900000000000001E-2,860958.3,3820.6149646479885,6598.288749166667,688.76664000000005,12090.423826131855,0,{"$f":"'Tabla Fijo'!E51+'Tabla Fijo'!H51","v":0},12090.423826131855,null,11954.871623053621]
[null,44,"2025-12-04",30,8.900000000000001E-2,1.0082166666666665,1.4404553037791872,0.69422494219459219,false,1,0.69422494219459219,11107.67045968789,857137.69754416856,4064.8557115333042,6357.104590119251,299,47.84,346.56416666666667,55.450266666666664,685.71015803533487,84.482758620689665,13.517241379310347,117.15434395160798,18.74469503225728,12090.423932005089,8.900000000000001E-2,857137.69,4064.8557115333042,6357.1045341666668,685.71015199999999,12090.42387001717,0,{"$f":"'Tabla Fijo'!E52+'Tabla Fijo'!H52","v":0},12090.42387001717,null,11954.871666938936]
[null,45,"2026-01-04",31,8.900000000000001E-2,1.0084638888888888,1.4526471574197848,0.68839841450295203,false,1,0.68839841450295203,11107.67045968789,853072.84183263523,3887.3567122877794,6537.8554739340025,299,47.84,346.56416666666667,55.450266666666664,682.45827346610827,84.482758620689665,13.517241379310347,117.15434395160801,18.744695032257283,12090.423932005091,8.900000000000001E-2,853072.83,3887.3567122877794,6537.8553832500011,682.45826399999999,12090.42383185498,0,{"$f":"'Tabla Fijo'!E53+'Tabla Fijo'!H53","v":0},12090.42383185498,null,11954.871628776746]
[null,46,"2026-02-04",31,8.900000000000001E-2,1.0084638888888888,1.464942201554946,0.68262078800007364,false,1,0.68262078800007364,11107.67045968789,849185.48512034747,3920.2588675720604,6508.0632040195514,299,47.84,346.56416666666667,55.450266666666664,679.34838809627797,84.482758620689665,13.517241379310347,117.15434395160798,18.74469503225728,12090.423932005089,8.900000000000001E-2,849185.47,3920.2588675720604,6508.0630881388888,679.34837600000003,12090.423804028149,0,{"$f":"'Tabla Fijo'!E54+'Tabla Fijo'!H54","v":0},12090.423804028149,null,11954.871600949915]
[null,47,"2026-03-04",28,8.900000000000001E-2,1.0077222222222222,1.4762548107780646,0.67738983317720536,false,1,0.67738983317720536,11107.67045968789,845265.22625277541,4580.3445458470123,5851.1137328386567,299,47.84,346.56416666666667,55.450266666666664,676.2121810022204,84.482758620689665,13.517241379310347,117.15434395160798,18.74469503225728,12090.423932005089,8.900000000000001E-2,845265.21,4580.3445458470123,5851.1136203333335,676.21216800000002,12090.423806497545,0,{"$f":"'Tabla Fijo'!E55+'Tabla Fijo'!H55","v":0},12090.423806497545,null,11954.871603419311]
[null,48,"2026-04-04",31,8.900000000000001E-2,1.0084638888888888,1.4887496674681777,0.67170460007600652,true,1,0.67170460007600652,11107.67045968789,840684.88170692837,3992.2070303517476,6442.9155239705997,299,47.84,346.56416666666667,55.450266666666664,672.54790536554276,84.482758620689665,13.517241379310347,117.15434395160801,18.744695032257283,12090.423932005091,8.900000000000001E-2,840684.87,3992.2070303517476,6442.9154342500005,672.54789600000004,12090.423832918947,0,{"$f":"'Tabla Fijo'!E56+'Tabla Fijo'!H56","v":0},12090.423832918947,null,11954.871629840713]
[null,49,"2026-05-04",30,8.900000000000001E-2,1.0082166666666665,1.5009822272358744,0.66623040689931723,false,1,0.66623040689931723,11107.67045968789,836692.67467657663,4232.8456494286847,6205.4706705179442,299,47.84,346.56416666666667,55.450266666666664,669.35413974126129,84.482758620689665,13.517241379310347,117.15434395160798,18.74469503225728,12090.423932005089,8.900000000000001E-2,836692.66,4232.8456494286847,6205.4705616666679,669.35412800000006,12090.423811412553,0,{"$f":"'Tabla Fijo'!E57+'Tabla Fijo'!H57","v":0},12090.423811412553,null,11954.871608334319]
[null,50,"2026-06-04",31,8.900000000000001E-2,1.0084638888888888,1.5136863740313957,0.6606388332192642,false,1,0.6606388332192642,11107.67045968789,832459.82902714796,4061.8229623386669,6379.8796341275047,299,47.84,346.56416666666667,55.450266666666664,665.9678632217184,84.482758620689665,13.517241379310347,117.15434395160798,18.74469503225728,12090.423932005089,8.900000000000001E-2,832459.81,4061.8229623386669,6379.8794883055571,665.96784800000012,12090.423770961424,0,{"$f":"'Tabla Fijo'!E58+'Tabla Fijo'!H58","v":0},12090.423770961424,null,11954.87156788319]
[null,51,"2026-07-04",30,8.900000000000001E-2,1.0082166666666665,1.5261238304046869,0.65525482275892843,false,1,0.65525482275892843,11107.67045968789,828398.00606480928,4301.0001765220404,6143.951878314002,299,47.84,346.56416666666667,55.450266666666664,662.71840485184748,84.482758620689665,13.517241379310347,117.15434395160797,18.744695032257276,12090.423932005087,8.900000000000001E-2,828397.99,4301.0001765220404,6143.9517591666672,662.71839199999999,12090.423800005907,0,{"$f":"'Tabla Fijo'!E59+'Tabla Fijo'!H59","v":0},12090.423800005907,null,11954.871596927673]
[null,52,"2026-08-04",31,8.900000000000001E-2,1.0084638888888888,1.5390407729359177,0.6497553655400381,false,1,0.6497553655400381,11107.67045968789,824097.00588828721,4132.6049681834129,6315.7878867938471,299,47.84,346.56416666666667,55.450266666666664,659.27760471062982,84.482758620689665,13.517241379310347,117.15434395160798,18.74469503225728,12090.423932005089,8.900000000000001E-2,824096.99,4132.6049681834129,6315.7877650277796,659.27759200000003,12090.423797528392,0,{"$f":"'Tabla Fijo'!E60+'Tabla Fijo'!H60","v":0},12090.423797528392,null,11954.871594450158]
[null,53,"2026-09-04",31,8.900000000000001E-2,1.0084638888888888,1.5520670430335168,0.64430206445560423,false,1,0.64430206445560423,11107.67045968789,819964.40092010377,4167.5828774557885,6284.1160614960181,299,47.84,346.56416666666667,55.450266666666664,655.97152073608299,84.482758620689665,13.517241379310347,117.15434395160797,18.744695032257276,12090.423932005087,8.900000000000001E-2,819964.39,4167.5828774557885,6284.1159778055571,655.97151200000008,12090.423839578545,0,{"$f":"'Tabla Fijo'!E61+'Tabla Fijo'!H61","v":0},12090.423839578545,null,11954.871636500311]
[null,54,"2026-10-04",30,8.900000000000001E-2,1.0082166666666665,1.564819860570442,0.6390511938131066,false,1,0.6390511938131066,11107.67045968789,815796.81804264802,4404.5399381041307,6050.4930671496404,299,47.84,346.56416666666667,55.450266666666664,652.63745443411847,84.482758620689665,13.517241379310347,117.15434395160798,18.74469503225728,12090.423932005089,8.900000000000001E-2,815796.81,4404.5399381041307,6050.4930075000011,652.63744800000006,12090.423865921332,0,{"$f":"'Tabla Fijo'!E62+'Tabla Fijo'!H62","v":0},12090.423865921332,null,11954.871662843098]
[null,55,"2026-11-04",31,8.900000000000001E-2,1.0084638888888888,1.5780643220014368,0.63368773126542399,false,1,0.63368773126542399,11107.67045968789,811392.27810454392,4240.1363725085967,6218.4202646956583,299,47.84,346.56416666666667,55.450266666666664,649.1138224836352,84.482758620689665,13.517241379310347,117.15434395160801,18.744695032257283,12090.423932005091,8.900000000000001E-2,811392.27,4240.1363725085967,6218.4202025833347,649.11381600000004,12090.423863409131,0,{"$f":"'Tabla Fijo'!E63+'Tabla Fijo'!H63","v":0},12090.423863409131,null,11954.871660330897]
[null,56,"2026-12-04",30,8.900000000000001E-2,1.0082166666666665,1.5910307505138817,0.62852336428885069,false,1,0.62852336428885069,11107.67045968789,807152.14173203532,4475.5703617896661,5986.3783845125954,299,47.84,346.56416666666667,55.450266666666664,645.72171338562828,84.482758620689665,13.517241379310347,117.15434395160798,18.74469503225728,12090.423932005089,8.900000000000001E-2,807152.13,4475.5703617896661,5986.3782975000004,645.72170400000005,12090.423835606865,0,{"$f":"'Tabla Fijo'!E64+'Tabla Fijo'!H64","v":0},12090.423835606865,null,11954.871632528631]
[null,57,"2027-01-04",31,8.900000000000001E-2,1.0084638888888888,1.6044970580050366,0.62324826026378477,false,1,0.62324826026378477,11107.67045968789,802676.57137024566,4313.9051458958374,6151.6240566958559,299,47.84,346.56416666666667,55.450266666666664,642.14125709619657,84.482758620689665,13.517241379310347,117.15434395160798,18.74469503225728,12090.423932005089,8.900000000000001E-2,802676.56,4313.9051458958374,6151.6239695555569,642.14124800000002,12090.423835768594,0,{"$f":"'Tabla Fijo'!E65+'Tabla Fijo'!H65","v":0},12090.423835768594,null,11954.87163269036]
[null,58,"2027-02-04",31,8.900000000000001E-2,1.0084638888888888,1.6180773428265403,0.61801742940986293,false,1,0.61801742940986293,11107.67045968789,798362.66622434987,4350.4175597279054,6118.5627669805044,299,47.84,346.56416666666667,55.450266666666664,638.69013297947993,84.482758620689665,13.517241379310347,117.15434395160798,18.74469503225728,12090.423932005089,8.900000000000001E-2,798362.65,4350.4175597279054,6118.5626426388899,638.69012000000009,12090.423794683993,0,{"$f":"'Tabla Fijo'!E66+'Tabla Fijo'!H66","v":0},12090.423794683993,null,11954.871591605759]
[null,59,"2027-03-04",28,8.900000000000001E-2,1.0077222222222222,1.6305724956405896,0.61328153312627676,false,1,0.61328153312627676,11107.67045968789,794012.24866462196,4976.1314283333086,5496.3292324228833,299,47.84,346.56416666666667,55.450266666666664,635.20979893169761,84.482758620689665,13.517241379310347,117.15434395160797,18.744695032257276,12090.423932005087,8.900000000000001E-2,794012.23,4976.1314283333086,5496.3291032222223,635.20978400000001,12090.423787872731,0,{"$f":"'Tabla Fijo'!E67+'Tabla Fijo'!H67","v":0},12090.423787872731,null,11954.871584794497]
[null,60,"2027-04-04",31,8.900000000000001E-2,1.0084638888888888,1.6443734800689698,0.60813435154528106,true,1,0.60813435154528106,11107.67045968789,789036.11723628861,4429.3564340796365,6047.0851318192226,299,47.84,346.56416666666667,55.450266666666664,631.22889378903096,84.482758620689665,13.517241379310347,117.15434395160798,18.74469503225728,12090.423932005089,8.900000000000001E-2,789036.1,4429.3564340796365,6047.0849997222231,631.22888,12090.42378611906,0,{"$f":"'Tabla Fijo'!E68+'Tabla Fijo'!H68","v":0},12090.42378611906,null,11954.871583040825]
[null,61,"2027-05-04",30,8.900000000000001E-2,1.0082166666666665,1.6578847488302029,0.6031782370310097,false,1,0.6031782370310097,11107.67045968789,784606.76080220903,4660.8182417630724,5819.1668092830505,299,47.84,346.56416666666667,55.450266666666664,627.68540864176725,84.482758620689665,13.517241379310347,117.15434395160798,18.74469503225728,12090.423932005089,8.900000000000001E-2,784606.74,4660.8182417630724,5819.166655,627.68539199999998,12090.42376108027,0,{"$f":"'Tabla Fijo'!E69+'Tabla Fijo'!H69","v":0},12090.42376108027,null,11954.871558002036]
[null,62,"2027-06-04",31,8.900000000000001E-2,1.0084638888888888,1.6719169011348851,0.59811585092608799,false,1,0.59811585092608799,11107.67045968789,779945.94256044598,4506.2946625165587,5977.4190431229745,299,47.84,346.56416666666667,55.450266666666664,623.95675404835686,84.482758620689665,13.517241379310347,117.15434395160798,18.74469503225728,12090.423932005089,8.900000000000001E-2,779945.92,4506.2946625165587,5977.4188702222227,623.95673600000009,12090.42374105598,0,{"$f":"'Tabla Fijo'!E70+'Tabla Fijo'!H70","v":0},12090.42374105598,null,11954.871537977746]
[null,63,"2027-07-04",30,8.900000000000001E-2,1.0082166666666665,1.6856544850058766,0.5932413842190879,false,1,0.5932413842190879,11107.67045968789,775439.64789792942,4736.1413527932355,5751.1773885763105,299,47.84,346.56416666666667,55.450266666666664,620.35171831834361,84.482758620689665,13.517241379310347,117.15434395160797,18.744695032257276,12090.423932005087,8.900000000000001E-2,775439.63,4736.1413527932355,5751.1772558333332,620.35170400000004,12090.423784943769,0,{"$f":"'Tabla Fijo'!E71+'Tabla Fijo'!H71","v":0},12090.423784943769,null,11954.871581865535]
[null,64,"2027-08-04",31,{"$f":"IF(B78=0,TASA,IF(B78=MESES_INC_TASA,E77+INCREMENTO_TASA,E77))","v":8.900000000000001E-2},{"$f":"1 + D78 * E78 / 360 + FACTOR_SEG_DEUD","v":1.0084638888888888},1.6999216772720234,0.58826239665627778,{"$f":"MOD(B78, MESES_INC)=0","v":false},1,{"$f":"H78*J78","v":0.58826239665627778},{"$f":"CUOTA_INIT*J78","v":11107.67045968789},770703.50654513622,4584.5216140128068,{"$f":"M78 * D78 * E78 /360","v":5906.5860404389741},{"$f":"COMISION_AMORT","v":299},{"$f":"P78*IVA","v":47.84},{"$f":"SEGURO_DAÑOS_MENS","v":346.56416666666667},{"$f":"R78*IVA","v":55.450266666666664},{"$f":"M78 * FACTOR_SEG_DEUD","v":616.56280523610906},{"$f":"SEGURO_INTERIORES","v":84.482758620689665},{"$f":"U78*IVA","v":13.517241379310347},{"$f":"SUM(N78:V78) * FACTOR_SEG_DESEMPLEO","v":117.15434395160801},{"$f":"W78*IVA","v":18.744695032257283},{"$f":"IF(B78>=PLAZO, 0, SUM(N78:X78))","v":12090.423932005091},{"$f":"ESQUEMA","v":8.900000000000001E-2},{"$f":"IF(B78=0,TOTAL_FINANCIADO, MAX(ROUND(AA77-N77-AF77-AG77,2), 0))","v":770703.49},{"$f":"MIN(AA78,N78)","v":4584.5216140128068},{"$f":"AA78 * D78 * Z78 /360","v":5906.5859136388899},{"$f":"AA78 * FACTOR_SEG_DEUD","v":616.56279200000006},{"$f":"IF(AA78>0, AB78+AC78+AD78+P78+Q78+R78+S78+U78+V78+W78+X78, 0)","v":12090.423791968897},{"$f":"IF(ACCION_EXCEDENTE_PP=\"MENOS PLAZO\", IF(AA78>N78, ROUND(Y78-AE78, 2), 0), 0)","v":0},{"$f":"'Tabla Fijo'!E72+'Tabla Fijo'!H72","v":0},12090.423791968897,null,{"$f":"IF(AA78> 0,AB78+AC78+AD78+P78+R78+U78+W78, 0)","v":11954.871588890663}]
[null,65,{"$f":"IF(B79=0,FECHA_1ER_PAGO,DATE(YEAR(C78),MONTH(C78)+1,4))","v":"2027-09-04"},{"$f":"IF(B79=0,C79-C71+1, C79-C78)","v":31},8.900000000000001E-2,1.0084638888888888,{"$f":"IF(B79 = 0, 0,\n            IF(G78=0, F79, G78 * F79 ))","v":1.7143096254682673},{"$f":"IF(G79=0, 0, 1/G79)","v":0.5833251970027572},false,{"$f":"IF(B79=0, 1, IF(I79,J78*(1+INCREMENTO),J78))","v":1},0.5833251970027572,11107.67045968789,{"$f":"IF(B79=0,TOTAL_FINANCIADO, M78-N78)","v":766118.98493112344},{"$f":"IF(B79=0, 0, L79-O79-T79)","v":4623.3244955625187},5871.4507761804725,299,47.84,346.56416666666667,55.450266666666664,612.89518794489879,84.482758620689665,13.517241379310347,117.15434395160798,18.74469503225728,12090.423932005089,8.900000000000001E-2,766118.97,4623.3244955625187,5871.450661750001,612.89517599999999,12090.42380562972,0,{"$f":"'Tabla Fijo'!E73+'Tabla Fijo'!H73","v":0},{"$f":"AE79+AF79","v":12090.42380562972},null,11954.871602551486]
[null,66,"2027-10-04",30,8.900000000000001E-2,1.0082166666666665,1.7283955362241981,0.57857126973642303,false,1,0.57857126973642303,11107.67045968789,761495.66043556097,4850.7144497756972,5647.759481563744,299,47.84,346.56416666666667,55.450266666666664,609.19652834844885,84.482758620689665,13.517241379310347,117.15434395160801,18.744695032257283,12090.423932005091,8.900000000000001E-2,761495.65,4850.7144497756972,5647.759404166668,609.19652000000008,12090.423846259564,0,{"$f":"'Tabla Fijo'!E74+'Tabla Fijo'!H74","v":0},12090.423846259564,null,11954.87164318133]
[null,67,"2027-11-04",31,8.900000000000001E-2,1.0084638888888888,1.7430244839988511,0.57371540628379325,false,1,0.57371540628379325,11107.67045968789,756644.94598578522,4703.5117085248676,5798.8427943743936,299,47.84,346.56416666666667,55.450266666666664,605.31595678862823,84.482758620689665,13.517241379310347,117.15434395160798,18.74469503225728,12090.423932005089,8.900000000000001E-2,756644.94,4703.5117085248676,5798.8427485000002,605.31595200000004,12090.423881342067,0,{"$f":"'Tabla Fijo'!E75+'Tabla Fijo'!H75","v":0},12090.423881342067,null,11954.871678263833]
[null,68,"2027-12-04",30,8.900000000000001E-2,1.0082166666666665,1.7573463351757082,0.56903979596031939,false,1,0.56903979596031939,11107.67045968789,751941.43427726033,4929.2183413764014,5576.8989708896806,299,47.84,346.56416666666667,55.450266666666664,601.55314742180826,84.482758620689665,13.517241379310347,117.15434395160798,18.74469503225728,12090.423932005089,8.900000000000001E-2,751941.43,4929.2183413764014,5576.8989391666673,601.55314400000009,12090.423896860268,0,{"$f":"'Tabla Fijo'!E76+'Tabla Fijo'!H76","v":0},12090.423896860268,null,11954.871693782034]
[null,69,"2028-01-04",31,8.900000000000001E-2,1.0084638888888888,1.7722203192959314,0.56426392876325926,false,1,0.56426392876325926,11107.67045968789,747012.21593588393,4785.0420653638939,5725.0186215752892,299,47.84,346.56416666666667,55.450266666666664,597.6097727487072,84.482758620689665,13.517241379310347,117.15434395160798,18.74469503225728,12090.423932005089,8.900000000000001E-2,747012.21,4785.0420653638939,5725.0185760833338,597.60976800000003,12090.423881764427,0,{"$f":"'Tabla Fijo'!E77+'Tabla Fijo'!H77","v":0},12090.423881764427,null,11954.871678686193]
[null,70,"2028-02-04",31,8.900000000000001E-2,1.0084638888888888,1.7872201951650832,0.5595281447161754,false,1,0.5595281447161754,11107.67045968789,742227.17387052008,4825.5421297337925,5688.3465908576809,299,47.84,346.56416666666667,55.450266666666664,593.78173909641612,84.482758620689665,13.517241379310347,117.15434395160797,18.744695032257276,12090.423932005087,8.900000000000001E-2,742227.17,4825.5421297337925,5688.3465611944448,593.78173600000002,12090.423899245437,0,{"$f":"'Tabla Fijo'!E78+'Tabla Fijo'!H78","v":0},12090.423899245437,null,11954.871696167203]
[null,71,"2028-03-04",29,8.900000000000001E-2,1.0079694444444443,1.8014633472204402,0.5551042720591266,false,1,0.5551042720591266,11107.67045968789,737401.63174078625,5230.9891222870128,5286.7600320082483,299,47.84,346.56416666666667,55.450266666666664,589.92130539262905,84.482758620689665,13.517241379310347,117.15434395160798,18.74469503225728,12090.423932005089,8.900000000000001E-2,737401.63,5230.9891222870128,5286.7600195277782,589.92130400000008,12090.42391813199,0,{"$f":"'Tabla Fijo'!E79+'Tabla Fijo'!H79","v":0},12090.42391813199,null,11954.871715053756]
[null,72,"2028-04-04",31,8.900000000000001E-2,1.0084638888888888,1.8167107328287198,0.55044536366169006,true,1,0.55044536366169006,11107.67045968789,732170.64261849923,4910.6594928585364,5611.274452734554,299,47.84,346.56416666666667,55.450266666666664,585.73651409479942,84.482758620689665,13.517241379310347,117.15434395160797,18.744695032257276,12090.423932005087,8.900000000000001E-2,732170.64,4910.6594928585364,5611.2744326666671,585.73651200000006,12090.423909842402,0,{"$f":"'Tabla Fijo'!E80+'Tabla Fijo'!H80","v":0},12090.423909842402,null,11954.871706764168]
[null,73,"2028-05-04",30,8.900000000000001E-2,1.0082166666666665,1.8316380393501288,0.54595939728070031,false,1,0.54595939728070031,11107.67045968789,727259.98312564066,5132.0175983388744,5393.8448748485025,299,47.84,346.56416666666667,55.450266666666664,581.80798650051258,84.482758620689665,13.517241379310347,117.15434395160798,18.74469503225728,12090.423932005089,8.900000000000001E-2,727259.98,5132.0175983388744,5393.8448516666667,581.80798400000003,12090.42390632274,0,{"$f":"'Tabla Fijo'!E81+'Tabla Fijo'!H81","v":0},12090.42390632274,null,11954.871703244506]
[null,74,"2028-06-04",31,8.900000000000001E-2,1.0084638888888888,1.8471408201998505,0.54137724047038571,false,1,0.54137724047038571,11107.67045968789,722127.96552730177,4995.6595959054212,5534.3084913606272,299,47.84,346.56416666666667,55.450266666666664,577.70237242184146,84.482758620689665,13.517241379310347,117.15434395160798,18.74469503225728,12090.423932005089,8.900000000000001E-2,722127.96,4995.6595959054212,5534.3084490000001,577.70236799999998,12090.423885222621,0,{"$f":"'Tabla Fijo'!E82+'Tabla Fijo'!H82","v":0},12090.423885222621,null,11954.871682144387]
[null,75,"2028-07-04",30,8.900000000000001E-2,1.0082166666666665,1.8623181606058257,0.53696517660263421,false,1,0.53696517660263421,11107.67045968789,717132.30593139632,5215.233345951583,5318.7312689911896,299,47.84,346.56416666666667,55.450266666666664,573.70584474511713,84.482758620689665,13.517241379310347,117.15434395160797,18.744695032257276,12090.423932005087,8.900000000000001E-2,717132.3,5215.233345951583,5318.7312250000004,573.70584000000008,12090.423883268782,0,{"$f":"'Tabla Fijo'!E83+'Tabla Fijo'!H83","v":0},12090.423883268782,null,11954.871680190548]
[null,76,"2028-08-04",31,8.900000000000001E-2,1.0084638888888888,1.8780806145929532,0.53245850696176611,false,1,0.53245850696176611,11107.67045968789,711917.07258544478,5082.0834592216388,5456.053342397895,299,47.84,346.56416666666667,55.450266666666664,569.53365806835586,84.482758620689665,13.517241379310347,117.15434395160798,18.74469503225728,12090.423932005089,8.900000000000001E-2,711917.07,5082.0834592216388,5456.0533225833333,569.53365599999995,12090.423910122172,0,{"$f":"'Tabla Fijo'!E84+'Tabla Fijo'!H84","v":0},12090.423910122172,null,11954.871707043938]
[null,77,"2028-09-04",31,8.900000000000001E-2,1.0084638888888888,1.893976480239244,0.52798966113543377,false,1,0.52798966113543377,11107.67045968789,706834.98912622314,5125.0976489445511,5417.1048194423602,299,47.84,346.56416666666667,55.450266666666664,565.4679913009785,84.482758620689665,13.517241379310347,117.15434395160798,18.74469503225728,12090.423932005089,8.900000000000001E-2,706834.99,5125.0976489445511,5417.1048261388896,565.46799199999998,12090.42393940064,0,{"$f":"'Tabla Fijo'!E85+'Tabla Fijo'!H85","v":0},12090.42393940064,null,11954.871736322406]
[null,78,"2028-10-04",30,8.900000000000001E-2,1.0082166666666665,1.9095386536518761,0.52368670206678514,false,1,0.52368670206678514,11107.67045968789,701709.89147727855,5341.9541847162509,5204.3483617898164,299,47.84,346.56416666666667,55.450266666666664,561.36791318182281,84.482758620689665,13.517241379310347,117.15434395160798,18.74469503225728,12090.423932005089,8.900000000000001E-2,701709.89,5341.9541847162509,5204.3483508333338,561.36791200000005,12090.423919866784,0,{"$f":"'Tabla Fijo'!E86+'Tabla Fijo'!H86","v":0},12090.423919866784,null,11954.87171678855]
[null,79,"2028-11-04",31,8.900000000000001E-2,1.0084638888888888,1.9257007766454239,0.51929147670699016,false,1,0.51929147670699016,11107.67045968789,696367.93729256233,5213.6896126588954,5336.8864971949442,299,47.84,346.56416666666667,55.450266666666664,557.09434983404992,84.482758620689665,13.517241379310347,117.15434395160797,18.744695032257276,12090.423932005087,8.900000000000001E-2,696367.94,5213.6896126588954,5336.8865179444447,557.09435199999996,12090.423954920539,0,{"$f":"'Tabla Fijo'!E87+'Tabla Fijo'!H87","v":0},12090.423954920539,null,11954.871751842305]
[null,80,"2028-12-04",30,8.900000000000001E-2,1.0082166666666665,1.9415236180268602,0.5150594052604337,false,1,0.5150594052604337,11107.67045968789,691154.2476799034,5428.68639125135,5126.060670292617,299,47.84,346.56416666666667,55.450266666666664,552.92339814392278,84.482758620689665,13.517241379310347,117.15434395160798,18.74469503225728,12090.423932005089,8.900000000000001E-2,691154.25,5428.68639125135,5126.0606875000003,552.92340000000002,12090.423951068549,0,{"$f":"'Tabla Fijo'!E88+'Tabla Fijo'!H88","v":0},12090.423951068549,null,11954.871747990315]
[null,81,"2029-01-04",31,8.900000000000001E-2,1.0084638888888888,1.9579564582049931,0.51073658753207196,false,1,0.51073658753207196,11107.67045968789,685725.56128865201,5303.7655006697705,5255.3245099871974,299,47.84,346.56416666666667,55.450266666666664,548.58044903092161,84.482758620689665,13.517241379310347,117.15434395160798,18.74469503225728,12090.423932005089,8.900000000000001E-2,685725.56,5303.7655006697705,5255.3245001111118,548.58044800000005,12090.423921098081,0,{"$f":"'Tabla Fijo'!E89+'Tabla Fijo'!H89","v":0},12090.423921098081,null,11954.871718019847]
[null,82,"2029-02-04",31,8.900000000000001E-2,1.0084638888888888,1.9745283841165224,0.50645005057622272,false,1,0.50645005057622272,11107.67045968789,680421.79578798229,5348.6559825601616,5214.6770404973422,299,47.84,346.56416666666667,55.450266666666664,544.33743663038581,84.482758620689665,13.517241379310347,117.15434395160798,18.74469503225728,12090.423932005089,8.900000000000001E-2,680421.79,5348.6559825601616,5214.67699613889,544.33743200000004,12090.42388301625,0,{"$f":"'Tabla Fijo'!E90+'Tabla Fijo'!H90","v":0},12090.42388301625,null,11954.871679938016]
[null,83,"2029-03-04",28,8.900000000000001E-2,1.0077222222222222,1.9897761310827555,0.5025691003016709,false,1,0.5025691003016709,11107.67045968789,675073.13980542216,5894.6056578571297,4673.0062899864224,299,47.84,346.56416666666667,55.450266666666664,540.05851184433777,84.482758620689665,13.517241379310347,117.15434395160798,18.74469503225728,12090.423932005089,8.900000000000001E-2,675073.13,5894.6056578571297,4673.0062221111111,540.05850400000008,12090.423856285441,0,{"$f":"'Tabla Fijo'!E91+'Tabla Fijo'!H91","v":0},12090.423856285441,null,11954.871653207207]
[null,84,"2029-04-04",31,8.900000000000001E-2,1.0084638888888888,2.0066173751700029,0.49835111186320652,true,1,0.49835111186320652,11107.67045968789,669178.53414756502,5443.8176998333602,5128.5099325364781,299,47.84,346.56416666666667,55.450266666666664,535.34282731805206,84.482758620689665,13.517241379310347,117.15434395160798,18.74469503225728,12090.423932005089,8.900000000000001E-2,669178.52,5443.8176998333602,5128.5098241111118,535.34281600000008,12090.423812261672,0,{"$f":"'Tabla Fijo'!E92+'Tabla Fijo'!H92","v":0},12090.423812261672,null,11954.871609183438]
[null,85,"2029-05-04",30,8.900000000000001E-2,1.0082166666666665,2.0231050812693163,0.4942896981765228,false,1,0.4942896981765228,11107.67045968789,663734.71644773171,5653.9835395423606,4922.6991469873437,299,47.84,346.56416666666667,55.450266666666664,530.98777315818541,84.482758620689665,13.517241379310347,117.15434395160798,18.74469503225728,12090.423932005089,8.900000000000001E-2,663734.69999999995,5653.9835395423606,4922.6990250000008,530.98775999999998,12090.423796859561,0,{"$f":"'Tabla Fijo'!E93+'Tabla Fijo'!H93","v":0},12090.423796859561,null,11954.871593781327]
[null,86,"2029-06-04",31,8.900000000000001E-2,1.0084638888888888,2.0402284178877261,0.49014119754067165,false,1,0.49014119754067165,11107.67045968789,658080.7329081893,5537.74825643441,5043.4576169269285,299,47.84,346.56416666666667,55.450266666666664,526.46458632655151,84.482758620689665,13.517241379310347,117.15434395160798,18.74469503225728,12090.423932005089,8.900000000000001E-2,658080.72,5537.74825643441,5043.4575180000002,526.46457599999997,12090.423822751609,0,{"$f":"'Tabla Fijo'!E94+'Tabla Fijo'!H94","v":0},12090.423822751609,null,11954.871619673375]
[null,87,"2029-07-04",30,8.900000000000001E-2,1.0082166666666665,2.0569922947213701,0.48614669221960066,false,1,0.48614669221960066,11107.67045968789,652542.98465175484,5745.9422691326372,4839.6938028338491,299,47.84,346.56416666666667,55.450266666666664,522.03438772140385,84.482758620689665,13.517241379310347,117.15434395160798,18.74469503225728,12090.423932005089,8.900000000000001E-2,652542.97,5745.9422691326372,4839.6936941666663,522.03437599999995,12090.423811616503,0,{"$f":"'Tabla Fijo'!E95+'Tabla Fijo'!H95","v":0},12090.423811616503,null,11954.871608538269]
[null,88,"2029-08-04",31,8.900000000000001E-2,1.0084638888888888,2.0744024489491921,0.48206653463341181,false,1,0.48206653463341181,11107.67045968789,646797.04238262225,5633.2521592994171,4956.9806664823745,299,47.84,346.56416666666667,55.450266666666664,517.43763390609786,84.482758620689665,13.517241379310347,117.15434395160798,18.74469503225728,12090.423932005089,8.900000000000001E-2,646797.03,5633.2521592994171,4956.9805715833336,517.43762400000003,12090.423827199951,0,{"$f":"'Tabla Fijo'!E96+'Tabla Fijo'!H96","v":0},12090.423827199951,null,11954.871624121717]
[null,89,"2029-09-04",31,8.900000000000001E-2,1.0084638888888888,2.0919599607879369,0.47802062120890204,false,1,0.47802062120890204,11107.67045968789,641163.79022332281,5680.9313796588212,4913.8080478504107,299,47.84,346.56416666666667,55.450266666666664,512.93103217865826,84.482758620689665,13.517241379310347,117.15434395160798,18.74469503225728,12090.423932005089,8.900000000000001E-2,641163.78,5680.9313796588212,4913.8079695000006,512.93102400000009,12090.423845476022,0,{"$f":"'Tabla Fijo'!E97+'Tabla Fijo'!H97","v":0},12090.423845476022,null,11954.871642397788]
[null,90,"2029-10-04",30,8.900000000000001E-2,1.0082166666666665,2.1091488984657443,0.47412489498841398,false,1,0.47412489498841398,11107.67045968789,635482.85884366394,5886.119636189118,4713.1645364238411,299,47.84,346.56416666666667,55.450266666666664,508.3862870749312,84.482758620689665,13.517241379310347,117.15434395160798,18.74469503225728,12090.423932005089,8.900000000000001E-2,635482.85,5886.119636189118,4713.1644708333333,508.38628,12090.423859339651,0,{"$f":"'Tabla Fijo'!E98+'Tabla Fijo'!H98","v":0},12090.423859339651,null,11954.871656261417]
[null,91,"2029-11-04",31,8.900000000000001E-2,1.0084638888888888,2.1270005003924806,0.47014563457576852,false,1,0.47014563457576852,11107.67045968789,629596.73920747486,5778.8336142290682,4825.1594540928418,299,47.84,346.56416666666667,55.450266666666664,503.67739136597993,84.482758620689665,13.517241379310347,117.15434395160798,18.74469503225728,12090.423932005089,8.900000000000001E-2,629596.73,5778.8336142290682,4825.1593835277781,503.67738400000002,12090.423854074046,0,{"$f":"'Tabla Fijo'!E99+'Tabla Fijo'!H99","v":0},12090.423854074046,null,11954.871650995812]
[null,92,"2029-12-04",30,8.900000000000001E-2,1.0082166666666665,2.1444773545040383,0.4663140871596072,false,1,0.4663140871596072,11107.67045968789,623817.90559324576,5981.9666687300542,4626.6494664832389,299,47.84,346.56416666666667,55.450266666666664,499.05432447459663,84.482758620689665,13.517241379310347,117.15434395160798,18.74469503225728,12090.423932005089,8.900000000000001E-2,623817.9,5981.9666687300542,4626.6494250000005,499.05432000000002,12090.423886047254,0,{"$f":"'Tabla Fijo'!E100+'Tabla Fijo'!H100","v":0},12090.423886047254,null,11954.87168296902]
[null,93,"2030-01-04",31,8.900000000000001E-2,1.0084638888888888,2.1626279725572988,0.46240038170666226,false,1,0.46240038170666226,11107.67045968789,617835.93892451574,5878.3757210684471,4735.0259874798303,299,47.84,346.56416666666667,55.450266666666664,494.26875113961262,84.482758620689665,13.517241379310347,117.15434395160798,18.74469503225728,12090.423932005089,8.900000000000001E-2,617835.93000000005,5878.3757210684471,4735.0259190833349,494.26874400000008,12090.423856468982,0,{"$f":"'Tabla Fijo'!E101+'Tabla Fijo'!H101","v":0},12090.423856468982,null,11954.871653390748]
[null,94,"2030-02-04",31,8.900000000000001E-2,1.0084638888888888,2.1809322154250266,0.45851952340715779,false,1,0.45851952340715779,11107.67045968789,611957.56320344727,5928.1296400187121,4689.9747691064204,299,47.84,346.56416666666667,55.450266666666664,489.56605056275782,84.482758620689665,13.517241379310347,117.15434395160798,18.74469503225728,12090.423932005089,8.900000000000001E-2,611957.55000000005,5928.1296400187121,4689.9746679166674,489.56604000000004,12090.423820252579,0,{"$f":"'Tabla Fijo'!E102+'Tabla Fijo'!H102","v":0},12090.423820252579,null,11954.871617174345]
[null,95,"2030-03-04",28,8.900000000000001E-2,1.0077222222222222,2.1977738586441418,0.45500586698984735,false,1,0.45500586698984735,11107.67045968789,606029.43356342858,6427.7765005036354,4195.0704123335117,299,47.84,346.56416666666667,55.450266666666664,484.8235468507429,84.482758620689665,13.517241379310347,117.15434395160798,18.74469503225728,12090.423932005089,8.900000000000001E-2,606029.42000000004,6427.7765005036354,4195.0703184444446,484.82353600000005,12090.42382726528,0,{"$f":"'Tabla Fijo'!E103+'Tabla Fijo'!H103","v":0},12090.42382726528,null,11954.871624187046]
[null,96,"2030-04-04",31,8.900000000000001E-2,1.0084638888888888,2.2163755723866103,0.45118706976326772,true,1,0.45118706976326772,11107.67045968789,599601.65706292493,6032.708656713633,4595.2804773239168,299,47.84,346.56416666666667,55.450266666666664,479.68132565033994,84.482758620689665,13.517241379310347,117.15434395160798,18.74469503225728,12090.423932005089,8.900000000000001E-2,599601.64,6032.708656713633,4595.2803465555562,479.68131200000005,12090.423787586389,0,{"$f":"'Tabla Fijo'!E104+'Tabla Fijo'!H104","v":0},12090.423787586389,null,11954.871584508155]
[null,97,"2030-05-04",30,8.900000000000001E-2,1.0082166666666665,2.2345867916730535,0.44751002902478082,false,1,0.44751002902478082,11107.67045968789,593568.94840621133,6230.5122669501861,4402.3030340127343,299,47.84,346.56416666666667,55.450266666666664,474.8551587249691,84.482758620689665,13.517241379310347,117.15434395160798,18.74469503225728,12090.423932005089,8.900000000000001E-2,593568.93000000005,{"$f":"MIN(AA111,N111)","v":6230.5122669501861},4402.3028975000007,474.85514400000005,12090.423780767385,0,{"$f":"'Tabla Fijo'!E105+'Tabla Fijo'!H105","v":0},12090.423780767385,null,11954.871577689151]
[null,98,"2030-06-04",31,8.900000000000001E-2,1.0084638888888888,2.2535000859903529,0.44375414326222529,false,1,0.44375414326222529,11107.67045968789,587338.43613926112,6136.5031960314209,4501.2965147450604,299,47.84,346.56416666666667,55.450266666666664,469.8707489114089,84.482758620689665,13.517241379310347,117.15434395160801,18.744695032257283,12090.423932005091,8.900000000000001E-2,587338.42000000004,6136.5031960314209,4501.2963910555554,469.87073600000008,12090.423795404176,0,{"$f":"'Tabla Fijo'!E106+'Tabla Fijo'!H106","v":0},12090.423795404176,null,11954.871592325942]
[null,99,"2030-07-04",30,8.900000000000001E-2,1.0082166666666665,2.2720163450302402,0.44013767866916037,false,1,0.44013767866916037,11107.67045968789,581201.93294322968,6332.127910671019,4310.5810026622867,299,47.84,346.56416666666667,55.450266666666664,464.96154635458379,84.482758620689665,13.517241379310347,117.15434395160798,18.74469503225728,12090.423932005089,8.900000000000001E-2,581201.92000000004,6332.127910671019,4310.5809066666679,464.96153600000008,12090.423825654887,0,{"$f":"'Tabla Fijo'!E107+'Tabla Fijo'!H107","v":0},12090.423825654887,null,11954.871622576653]
[null,100,"2030-08-04",31,8.900000000000001E-2,1.0084638888888888,2.2912464389283156,0.43644366795731054,false,1,0.43644366795731054,11107.67045968789,574869.80503255862,6242.0363043150946,4405.7383113467486,299,47.84,346.56416666666667,55.450266666666664,459.89584402604692,84.482758620689665,13.517241379310347,117.15434395160798,18.74469503225728,12090.423932005089,8.900000000000001E-2,574869.79,6242.0363043150946,4405.7381961388901,459.89583200000004,12090.423804771184,0,{"$f":"'Tabla Fijo'!E108+'Tabla Fijo'!H108","v":0},12090.423804771184,null,11954.87160169295]
[null,101,"2030-09-04",31,8.900000000000001E-2,1.0084638888888888,2.3106392942044671,0.43278066053329678,false,1,0.43278066053329678,11107.67045968789,568627.76872824354,6294.8682060352285,4357.9000386700664,299,47.84,346.56416666666667,55.450266666666664,454.90221498259484,84.482758620689665,13.517241379310347,117.15434395160797,18.744695032257276,12090.423932005087,8.900000000000001E-2,568627.75,6294.8682060352285,4357.8998951388894,454.90219999999999,12090.423773491319,0,{"$f":"'Tabla Fijo'!E109+'Tabla Fijo'!H109","v":0},12090.423773491319,null,11954.871570413085]
[null,102,"2030-10-04",30,8.900000000000001E-2,1.0082166666666665,2.3296250470718469,0.42925362656832711,false,1,0.42925362656832711,11107.67045968789,562332.90052220831,6487.168460397078,4170.6356788730454,299,47.84,346.56416666666667,55.450266666666664,449.86632041776664,84.482758620689665,13.517241379310347,117.15434395160798,18.74469503225728,12090.423932005089,8.900000000000001E-2,562332.88,6487.168460397078,4170.6355266666669,449.86630400000001,12090.423763380943,0,{"$f":"'Tabla Fijo'!E110+'Tabla Fijo'!H110","v":0},12090.423763380943,null,11954.871560302709]
[null,103,"2030-11-04",31,8.900000000000001E-2,1.0084638888888888,2.3493427346230353,0.42565096410271336,false,1,0.42565096410271336,11107.67045968789,555845.73206181126,6403.0539441536148,4259.9399298848257,299,47.84,346.56416666666667,55.450266666666664,444.67658564944901,84.482758620689665,13.517241379310347,117.15434395160798,18.74469503225728,12090.423932005089,8.900000000000001E-2,555845.71,6403.0539441536148,4259.9397608055551,444.67656799999997,12090.42374527637,0,{"$f":"'Tabla Fijo'!E111+'Tabla Fijo'!H111","v":0},12090.42374527637,null,11954.871542198136]
[null,104,"2030-12-04",30,8.900000000000001E-2,1.0082166666666665,2.3686465007591875,0.42218203504806845,false,1,0.42218203504806845,11107.67045968789,549442.67811765766,6593.0831211544701,4075.0331960392946,299,47.84,346.56416666666667,55.450266666666664,439.55414249412615,84.482758620689665,13.517241379310347,117.15434395160798,18.74469503225728,12090.423932005089,8.900000000000001E-2,549442.66,6593.0831211544701,4075.033061666667,439.55412800000005,12090.423783138336,0,{"$f":"'Tabla Fijo'!E112+'Tabla Fijo'!H112","v":0},12090.423783138336,null,11954.871580060102]
[null,105,"2031-01-04",31,8.900000000000001E-2,1.0084638888888888,2.3886944615586687,0.41863872340855218,false,1,0.41863872340855218,11107.67045968789,542849.59499650321,6513.051804259153,4160.3389794315344,299,47.84,346.56416666666667,55.450266666666664,434.27967599720256,84.482758620689665,13.517241379310347,117.15434395160798,18.74469503225728,12090.423932005089,8.900000000000001E-2,542849.57999999996,6513.051804259153,4160.3388645000005,434.27966399999997,12090.423805076352,0,{"$f":"'Tabla Fijo'!E113+'Tabla Fijo'!H113","v":0},12090.423805076352,null,11954.871601998118]
[null,106,"2031-02-04",31,8.900000000000001E-2,1.0084638888888888,2.4089121060708054,0.41512515026175345,false,1,0.41512515026175345,11107.67045968789,536336.54319224402,6568.1775510579791,4110.4236740761153,299,47.84,346.56416666666667,55.450266666666664,429.06923455379524,84.482758620689665,13.517241379310347,117.15434395160798,18.74469503225728,12090.423932005089,8.900000000000001E-2,536336.53,6568.1775510579791,4110.4235729722232,429.06922400000002,12090.423820347403,0,{"$f":"'Tabla Fijo'!E114+'Tabla Fijo'!H114","v":0},12090.423820347403,null,11954.871617269169]
[null,107,"2031-03-04",28,8.900000000000001E-2,1.0077222222222222,2.4275142606676856,0.41194402694258564,false,1,0.41194402694258564,11107.67045968789,529768.36564118601,7016.6814139031749,3667.174353271766,299,47.84,346.56416666666667,55.450266666666664,423.81469251294885,84.482758620689665,13.517241379310347,117.15434395160798,18.74469503225728,12090.423932005089,8.900000000000001E-2,529768.35,7016.6814139031749,3667.1742450000002,423.81468000000001,12090.423811220375,0,{"$f":"'Tabla Fijo'!E115+'Tabla Fijo'!H115","v":0},12090.423811220375,null,11954.871608142141]
[null,108,"2031-04-04",31,8.900000000000001E-2,1.0084638888888888,2.44806047164617,0.40848664139720436,true,1,0.40848664139720436,11107.67045968789,522751.68422728282,6683.1582879086382,4006.3108243974261,299,47.84,346.56416666666667,55.450266666666664,418.20134738182628,84.482758620689665,13.517241379310347,117.15434395160798,18.74469503225728,12090.423932005089,8.900000000000001E-2,522751.67,6683.1582879086382,4006.3107153611118,418.20133600000003,12090.42381158695,0,{"$f":"'Tabla Fijo'!E116+'Tabla Fijo'!H116","v":0},12090.42381158695,null,11954.871608508716]
[null,109,"2031-05-04",30,8.900000000000001E-2,1.0082166666666665,2.4681753685215289,0.40515759647946481,false,1,0.40515759647946481,11107.67045968789,516068.52593937417,6867.3074048860308,3827.5082340503591,299,47.84,346.56416666666667,55.450266666666664,412.85482075149935,84.482758620689665,13.517241379310347,117.15434395160798,18.74469503225728,12090.423932005089,8.900000000000001E-2,516068.51,6867.3074048860308,3827.5081158333342,412.85480800000005,12090.423801036564,0,{"$f":"'Tabla Fijo'!E117+'Tabla Fijo'!H117","v":0},12090.423801036564,null,11954.87159795833]
[null,110,"2031-06-04",31,8.900000000000001E-2,1.0084638888888888,2.4890657305989872,0.40175716844542814,false,1,0.40175716844542814,11107.67045968789,509201.21853448811,6797.8479239251528,3902.4615609351467,299,47.84,346.56416666666667,55.450266666666664,407.3609748275905,84.482758620689665,13.517241379310347,117.15434395160798,18.74469503225728,12090.423932005089,8.900000000000001E-2,509201.2,6797.8479239251528,3902.4614188888891,407.36096000000003,12090.423775131241,0,{"$f":"'Tabla Fijo'!E118+'Tabla Fijo'!H118","v":0},12090.423775131241,null,11954.871572053007]
[null,111,"2031-07-04",30,8.900000000000001E-2,1.0082166666666665,2.5095175540187418,0.39848296673541889,false,1,0.39848296673541889,11107.67045968789,502403.37061056297,6979.5894311710972,3726.1583320283421,299,47.84,346.56416666666667,55.450266666666664,401.92269648845041,84.482758620689665,13.517241379310347,117.15434395160798,18.74469503225728,12090.423932005089,8.900000000000001E-2,502403.35,6979.5894311710972,3726.1581791666672,401.92268000000001,12090.423762654964,0,{"$f":"'Tabla Fijo'!E119+'Tabla Fijo'!H119","v":0},12090.423762654964,null,11954.87155957673]
[null,112,"2031-08-04",31,8.900000000000001E-2,1.0084638888888888,2.5307578317606723,0.39513855788575808,false,1,0.39513855788575808,11107.67045968789,495423.7811793919,6914.4586228723147,3796.8728118720619,299,47.84,346.56416666666667,55.450266666666664,396.33902494351355,84.482758620689665,13.517241379310347,117.15434395160801,18.744695032257283,12090.423932005091,8.900000000000001E-2,495423.76,6914.4586228723147,3796.8726495555561,396.33900800000004,12090.423752745071,0,{"$f":"'Tabla Fijo'!E120+'Tabla Fijo'!H120","v":0},12090.423752745071,null,11954.871549666837]
[null,113,"2031-09-04",31,8.900000000000001E-2,1.0084638888888888,2.5521778848533798,0.3918222181669947,false,1,0.3918222181669947,11107.67045968789,488509.32255651959,6972.9818323831259,3743.8811692595486,299,47.84,346.56416666666667,55.450266666666664,390.8074580452157,84.482758620689665,13.517241379310347,117.15434395160798,18.74469503225728,12090.423932005089,8.900000000000001E-2,488509.3,6972.9818323831259,3743.8809963888889,390.80743999999999,12090.423741089215,0,{"$f":"'Tabla Fijo'!E121+'Tabla Fijo'!H121","v":0},12090.423741089215,null,11954.871538010981]
[null,114,"2031-10-04",30,8.900000000000001E-2,1.0082166666666665,2.573148279807258,0.38862898335377127,false,1,0.38862898335377127,11107.67045968789,481536.34072413645,7151.0468600712356,3571.3945270373451,299,47.84,346.56416666666667,55.450266666666664,385.22907257930916,84.482758620689665,13.517241379310347,117.15434395160801,18.744695032257283,12090.423932005091,8.900000000000001E-2,481536.32,7151.0468600712356,3571.394373333334,385.22905600000001,12090.42376172177,0,{"$f":"'Tabla Fijo'!E122+'Tabla Fijo'!H122","v":0},12090.42376172177,null,11954.871558643536]
[null,115,"2031-11-04",31,8.900000000000001E-2,1.0084638888888888,2.5949271209421823,0.38536727753529887,false,1,0.38536727753529887,11107.67045968789,474385.2938640652,7092.5260418995376,3635.6361826970997,299,47.84,346.56416666666667,55.450266666666664,379.50823509125217,84.482758620689665,13.517241379310347,117.15434395160798,18.74469503225728,12090.423932005089,8.900000000000001E-2,474385.27,7092.5260418995376,3635.6359998055559,379.50821600000006,12090.423730022294,0,{"$f":"'Tabla Fijo'!E123+'Tabla Fijo'!H123","v":0},12090.423730022294,null,11954.87152694406]
[null,116,"2031-12-04",30,8.900000000000001E-2,1.0082166666666665,2.6162487721192567,0.3822266485728586,false,1,0.3822266485728586,11107.67045968789,467292.76782216568,7268.0815507490952,3465.7546946810621,299,47.84,346.56416666666667,55.450266666666664,373.83421425773258,84.482758620689665,13.517241379310347,117.15434395160798,18.74469503225728,12090.423932005089,8.900000000000001E-2,467292.74,7268.0815507490952,3465.7544883333335,373.83419200000003,12090.423703399629,0,{"$f":"'Tabla Fijo'!E124+'Tabla Fijo'!H124","v":0},12090.423703399629,null,11954.871500321395]
[null,117,"2032-01-04",31,8.900000000000001E-2,1.0084638888888888,2.6383924110321657,0.37901867660724126,false,1,0.37901867660724126,11107.67045968789,460024.68627141661,7214.0726289406493,3525.578081730107,299,47.84,346.56416666666667,55.450266666666664,368.01974901713328,84.482758620689665,13.517241379310347,117.15434395160798,18.74469503225728,12090.423932005089,8.900000000000001E-2,460024.66,7214.0726289406493,3525.5778803888888,368.01972799999999,12090.423709646737,0,{"$f":"'Tabla Fijo'!E125+'Tabla Fijo'!H125","v":0},12090.423709646737,null,11954.871506568503]
[null,118,"2032-02-04",31,8.900000000000001E-2,1.0084638888888888,2.6607234712444296,0.37583762867784848,false,1,0.37583762867784848,11107.67045968789,452810.61364247598,7275.1317381083782,3470.290230665531,299,47.84,346.56416666666667,55.450266666666664,362.24849091398079,84.482758620689665,13.517241379310347,117.15434395160798,18.74469503225728,12090.423932005089,8.900000000000001E-2,452810.59,7275.1317381083782,3470.290049472223,362.24847200000005,12090.423731897799,0,{"$f":"'Tabla Fijo'!E126+'Tabla Fijo'!H126","v":0},12090.423731897799,null,11954.871528819565]
[null,119,"2032-03-04",29,8.900000000000001E-2,1.0079694444444443,2.6819279591305412,0.37286609306395824,false,1,0.37286609306395824,11107.67045968789,445535.48190436763,7557.0001886222481,3194.241885542147,299,47.84,346.56416666666667,55.450266666666664,356.42838552349411,84.482758620689665,13.517241379310347,117.15434395160797,18.744695032257276,12090.423932005087,8.900000000000001E-2,445535.46,7557.0001886222481,3194.2417285000001,356.42836800000003,12090.423757439448,0,{"$f":"'Tabla Fijo'!E127+'Tabla Fijo'!H127","v":0},12090.423757439448,null,11954.871554361214]
[null,120,"2032-04-04",31,8.900000000000001E-2,1.0084638888888888,2.7046274993846264,0.3697366828620674,true,1,0.3697366828620674,11107.67045968789,437978.48171574535,7400.6692547215671,3356.6184195937267,299,47.84,346.56416666666667,55.450266666666664,350.38278537259629,84.482758620689665,13.517241379310347,117.15434395160798,18.74469503225728,12090.423932005089,8.900000000000001E-2,437978.46,7400.6692547215671,3356.6182531666668,350.38276800000006,12090.423748205432,0,{"$f":"'Tabla Fijo'!E128+'Tabla Fijo'!H128","v":0},12090.423748205432,null,11954.871545127198]
[null,121,"2032-05-04",30,8.900000000000001E-2,1.0082166666666665,2.7268505220045696,0.36672343860817036,false,1,0.36672343860817036,11107.67045968789,430577.8124610238,7569.7561006331434,3193.4521090859271,299,47.84,346.56416666666667,55.450266666666664,344.46224996881904,84.482758620689665,13.517241379310347,117.15434395160798,18.74469503225728,12090.423932005089,8.900000000000001E-2,430577.79,7569.7561006331434,3193.4519424999999,344.46223199999997,12090.423747450342,0,{"$f":"'Tabla Fijo'!E129+'Tabla Fijo'!H129","v":0},12090.423747450342,null,11954.871544372108]
[null,122,"2032-06-04",31,8.900000000000001E-2,1.0084638888888888,2.7499302818394247,0.36364558280041243,false,1,0.36364558280041243,11107.67045968789,423008.05636039068,7527.3772715486939,3241.8867430508835,299,47.84,346.56416666666667,55.450266666666664,338.40644508831258,84.482758620689665,13.517241379310347,117.15434395160798,18.74469503225728,12090.423932005089,8.900000000000001E-2,423008.03,7527.3772715486939,3241.886541027779,338.40642400000002,12090.423708893673,0,{"$f":"'Tabla Fijo'!E130+'Tabla Fijo'!H130","v":0},12090.423708893673,null,11954.871505815439]
[null,123,"2032-07-04",30,8.900000000000001E-2,1.0082166666666665,2.7725255423218718,0.36068197920461453,false,1,0.36068197920461453,11107.67045968789,415480.67908884201,7693.8042131745715,3081.4817032422452,299,47.84,346.56416666666667,55.450266666666664,332.3845432710736,84.482758620689665,13.517241379310347,117.15434395160798,18.74469503225728,12090.423932005089,8.900000000000001E-2,415480.65,7693.8042131745715,3081.4814875000002,332.38452000000001,12090.423692991772,0,{"$f":"'Tabla Fijo'!E131+'Tabla Fijo'!H131","v":0},12090.423692991772,null,11954.871489913538]
[null,124,"2032-08-04",31,8.900000000000001E-2,1.0084638888888888,2.7959918904536902,0.35765482847582064,false,1,0.35765482847582064,11107.67045968789,407786.87487566745,7656.2076603930045,3125.2332993943514,299,47.84,346.56416666666667,55.450266666666664,326.22949990053399,84.482758620689665,13.517241379310347,117.15434395160798,18.74469503225728,12090.423932005089,8.900000000000001E-2,407786.85,7656.2076603930045,3125.2331087500006,326.22948000000002,12090.423721460205,0,{"$f":"'Tabla Fijo'!E132+'Tabla Fijo'!H132","v":0},12090.423721460205,null,11954.871518381971]
[null,125,"2032-09-04",31,8.900000000000001E-2,1.0084638888888888,2.8196568551487244,0.35465308417724273,false,1,0.35465308417724273,11107.67045968789,400130.66721527441,7721.0089513408302,3066.5569745748394,299,47.84,346.56416666666667,55.450266666666664,320.10453377221955,84.482758620689665,13.517241379310347,117.15434395160797,18.744695032257276,12090.423932005087,8.900000000000001E-2,400130.64,7721.0089513408302,3066.5567660000002,320.104512,12090.42370165803,0,{"$f":"'Tabla Fijo'!E133+'Tabla Fijo'!H133","v":0},12090.42370165803,null,11954.871498579796]
[null,126,"2032-10-04",30,8.900000000000001E-2,1.0082166666666665,2.8428250356418627,0.35176276677689261,false,1,0.35176276677689261,11107.67045968789,392409.65826393361,7883.3711009525678,2910.3716321241745,299,47.84,346.56416666666667,55.450266666666664,313.92772661114691,84.482758620689665,13.517241379310347,117.15434395160798,18.74469503225728,12090.423932005089,8.900000000000001E-2,392409.63,7883.3711009525678,2910.3714225000003,313.92770400000001,12090.423699769768,0,{"$f":"'Tabla Fijo'!E134+'Tabla Fijo'!H134","v":0},12090.423699769768,null,11954.871496691534]
[null,127,"2032-11-04",31,8.900000000000001E-2,1.0084638888888888,2.8668863908740869,0.34881047368434759,false,1,0.34881047368434759,11107.67045968789,384526.28716298105,7853.0826902834351,2946.9667396740692,299,47.84,346.56416666666667,55.450266666666664,307.62102973038486,84.482758620689665,13.517241379310347,117.15434395160797,18.744695032257276,12090.423932005087,8.900000000000001E-2,384526.26,7853.0826902834351,2946.9665315000002,307.62100800000002,12090.423702100636,0,{"$f":"'Tabla Fijo'!E135+'Tabla Fijo'!H135","v":0},12090.423702100636,null,11954.871499022402]
[null,128,"2032-12-04",30,{"$f":"IF(B142=0,TASA,IF(B142=MESES_INC_TASA,E141+INCREMENTO_TASA,E141))","v":8.900000000000001E-2},{"$f":"1 + D142 * E142 / 360 + FACTOR_SEG_DEUD","v":1.0082166666666665},2.890442640719102,0.34596777182584532,{"$f":"MOD(B142, MESES_INC)=0","v":false},1,{"$f":"H142*J142","v":0.34596777182584532},{"$f":"CUOTA_INIT*J142","v":11107.67045968789},376673.20447269763,8012.6722962705571,{"$f":"M142 * D142 * E142 /360","v":2793.6595998391745},{"$f":"COMISION_AMORT","v":299},{"$f":"P142*IVA","v":47.84},{"$f":"SEGURO_DAÑOS_MENS","v":346.56416666666667},{"$f":"R142*IVA","v":55.450266666666664},{"$f":"M142 * FACTOR_SEG_DEUD","v":301.33856357815813},{"$f":"SEGURO_INTERIORES","v":84.482758620689665},{"$f":"U142*IVA","v":13.517241379310347},{"$f":"SUM(N142:V142) * FACTOR_SEG_DESEMPLEO","v":117.15434395160798},{"$f":"W142*IVA","v":18.74469503225728},{"$f":"IF(B142>=PLAZO, 0, SUM(N142:X142))","v":12090.423932005089},{"$f":"ESQUEMA","v":8.900000000000001E-2},{"$f":"IF(B142=0,TOTAL_FINANCIADO, MAX(ROUND(AA141-N141-AF141-AG141,2), 0))","v":376673.18},{"$f":"MIN(AA142,N142)","v":8012.6722962705571},{"$f":"AA142 * D142 * Z142 /360","v":2793.6594183333336},{"$f":"AA142 * FACTOR_SEG_DEUD","v":301.33854400000001},{"$f":"IF(AA142>0, AB142+AC142+AD142+P142+Q142+R142+S142+U142+V142+W142+X142, 0)","v":12090.423730921089},{"$f":"IF(ACCION_EXCEDENTE_PP=\"MENOS PLAZO\", IF(AA142>N142, ROUND(Y142-AE142, 2), 0), 0)","v":0},{"$f":"'Tabla Fijo'!E136+'Tabla Fijo'!H136","v":0},12090.423730921089,null,{"$f":"IF(AA142> 0,AB142+AC142+AD142+P142+R142+U142+W142, 0)","v":11954.871527842855}]
[null,129,{"$f":"IF(B143=0,FECHA_1ER_PAGO,DATE(YEAR(C142),MONTH(C142)+1,4))","v":"2033-01-04"},{"$f":"IF(B143=0,C143-C135+1, C143-C142)","v":31},8.900000000000001E-2,1.0084638888888888,{"$f":"IF(B143 = 0, 0,\n            IF(G142=0, F143, G142 * F143 ))","v":2.9149070260698546},{"$f":"IF(G143=0, 0, 1/G143)","v":0.34306411527241465},false,{"$f":"IF(B143=0, 1, IF(I143,J142*(1+INCREMENTO),J142))","v":1},0.34306411527241465,11107.67045968789,{"$f":"IF(B143=0,TOTAL_FINANCIADO, M142-N142)","v":368660.53217642708},{"$f":"IF(B143=0, 0, L143-O143-T143)","v":7987.3686776279646},2825.3733563187843,299,47.84,346.56416666666667,55.450266666666664,294.92842574114167,84.482758620689665,13.517241379310347,117.15434395160801,18.744695032257283,12090.423932005091,8.900000000000001E-2,368660.51,7987.3686776279646,2825.3731863611115,294.92840800000005,12090.423744306276,0,{"$f":"'Tabla Fijo'!E137+'Tabla Fijo'!H137","v":0},{"$f":"AE143+AF143","v":12090.423744306276},null,11954.871541228042]
[null,130,"2033-02-04",31,8.900000000000001E-2,1.0084638888888888,2.9395784752599514,0.34018482868077488,false,1,0.34018482868077488,11107.67045968789,360673.16349879908,8054.9728786299975,2764.1590502588524,299,47.84,346.56416666666667,55.450266666666664,288.53853079903928,84.482758620689665,13.517241379310347,117.15434395160798,18.74469503225728,12090.423932005089,8.900000000000001E-2,360673.14,8054.9728786299975,2764.1588701666669,288.53851200000003,12090.423733113863,0,{"$f":"'Tabla Fijo'!E138+'Tabla Fijo'!H138","v":0},12090.423733113863,null,11954.871530035629]
[null,131,"2033-03-04",28,8.900000000000001E-2,1.0077222222222222,2.9622785534855698,0.3375779765286922,false,1,0.3375779765286922,11107.67045968789,352618.1906201691,8384.6744321210281,2440.9014750707265,299,47.84,346.56416666666667,55.450266666666664,282.09455249613529,84.482758620689665,13.517241379310347,117.15434395160798,18.74469503225728,12090.423932005089,8.900000000000001E-2,352618.17,8384.6744321210281,2440.9013323333334,282.09453600000001,12090.423772771561,0,{"$f":"'Tabla Fijo'!E139+'Tabla Fijo'!H139","v":0},12090.423772771561,null,11954.871569693327]
[null,132,"2033-04-04",31,8.900000000000001E-2,1.0084638888888888,2.9873509500202098,0.33474473429150831,true,1,0.33474473429150831,11107.67045968789,344233.51618804806,8194.1162268407152,2638.1674198967353,299,47.84,346.56416666666667,55.450266666666664,275.38681295043847,84.482758620689665,13.517241379310347,117.15434395160798,18.74469503225728,12090.423932005089,8.900000000000001E-2,344233.5,8194.1162268407152,2638.1672958333338,275.38679999999999,12090.423794991249,0,{"$f":"'Tabla Fijo'!E140+'Tabla Fijo'!H140","v":0},12090.423794991249,null,11954.871591913015]
[null,133,"2033-05-04",30,8.900000000000001E-2,1.0082166666666665,3.0118970169928754,0.33201666403535118,false,1,0.33201666403535118,11107.67045968789,336039.39996120735,8346.5467233399686,2492.2922163789549,299,47.84,346.56416666666667,55.450266666666664,268.83151996896589,84.482758620689665,13.517241379310347,117.15434395160798,18.74469503225728,12090.423932005089,8.900000000000001E-2,336039.38,8346.5467233399686,2492.2920683333336,268.831504,12090.423767990502,0,{"$f":"'Tabla Fijo'!E141+'Tabla Fijo'!H141","v":0},12090.423767990502,null,11954.871564912268]
[null,134,"2033-06-04",31,8.900000000000001E-2,1.0084638888888888,3.0373893786894786,0.32923009707483175,false,1,0.32923009707483175,11107.67045968789,327692.85323786736,8334.1145601996068,2511.4016168979892,299,47.84,346.56416666666667,55.450266666666664,262.15428259029392,84.482758620689665,13.517241379310347,117.15434395160798,18.74469503225728,12090.423932005089,8.900000000000001E-2,327692.83,8334.1145601996068,2511.4014388055562,262.15426400000001,12090.423735322363,0,{"$f":"'Tabla Fijo'!E142+'Tabla Fijo'!H142","v":0},12090.423735322363,null,11954.871532244129]
[null,135,"2033-07-04",30,8.900000000000001E-2,1.0082166666666665,3.0623465947510433,0.32654696947564033,false,1,0.32654696947564033,11107.67045968789,319358.73867766774,8483.6061568863861,2368.5773118593693,299,47.84,346.56416666666667,55.450266666666664,255.48699094213421,84.482758620689665,13.517241379310347,117.15434395160798,18.74469503225728,12090.423932005089,8.900000000000001E-2,319358.71999999997,8483.6061568863861,2368.5771733333336,255.486976,12090.423778536919,0,{"$f":"'Tabla Fijo'!E143+'Tabla Fijo'!H143","v":0},12090.423778536919,null,11954.871575458685]
[null,136,"2033-08-04",31,8.900000000000001E-2,1.0084638888888888,3.088265956068283,0.32380630885596223,false,1,0.32380630885596223,11107.67045968789,310875.13252078136,8476.4578797133872,2382.5124739578773,299,47.84,346.56416666666667,55.450266666666664,248.70010601662511,84.482758620689665,13.517241379310347,117.15434395160798,18.74469503225728,12090.423932005089,8.900000000000001E-2,310875.11,8476.4578797133872,2382.5123013611114,248.70008799999999,12090.423741391698,0,{"$f":"'Tabla Fijo'!E144+'Tabla Fijo'!H144","v":0},12090.423741391698,null,11954.871538313464]
[null,137,"2033-09-04",31,8.900000000000001E-2,1.0084638888888888,3.1144046959797831,0.32108865019720978,false,1,0.32108865019720978,11107.67045968789,302398.67464106798,8548.201677378629,2317.5498425964074,299,47.84,346.56416666666667,55.450266666666664,241.91893971285438,84.482758620689665,13.517241379310347,117.15434395160798,18.74469503225728,12090.423932005089,8.900000000000001E-2,302398.65000000002,8548.201677378629,2317.5496537500003,241.91892000000004,12090.423723445829,0,{"$f":"'Tabla Fijo'!E145+'Tabla Fijo'!H145","v":0},12090.423723445829,null,11954.871520367595]
[null,138,"2033-10-04",30,8.900000000000001E-2,1.0082166666666665,3.1399947212317501,0.31847187297427121,false,1,0.31847187297427121,11107.67045968789,293850.47296368936,8693.1990735029085,2179.3910078140298,299,47.84,346.56416666666667,55.450266666666664,235.08037837095151,84.482758620689665,13.517241379310347,117.15434395160798,18.74469503225728,12090.423932005089,8.900000000000001E-2,293850.45,8693.1990735029085,2179.3908375000001,235.08036000000001,12090.423743320109,0,{"$f":"'Tabla Fijo'!E146+'Tabla Fijo'!H146","v":0},12090.423743320109,null,11954.871540241875]
[null,139,"2033-11-04",31,8.900000000000001E-2,1.0084638888888888,3.1665712876639529,0.31579898545019691,false,1,0.31579898545019691,11107.67045968789,285157.27389018645,8694.1309776228954,2185.4136629528462,299,47.84,346.56416666666667,55.450266666666664,228.12581911214917,84.482758620689665,13.517241379310347,117.15434395160798,18.74469503225728,12090.423932005089,8.900000000000001E-2,285157.25,8694.1309776228954,2185.4134798611112,228.1258,12090.423729801207,0,{"$f":"'Tabla Fijo'!E147+'Tabla Fijo'!H147","v":0},12090.423729801207,null,11954.871526722973]
[null,140,"2033-12-04",30,8.900000000000001E-2,1.0082166666666665,3.1925899484109248,0.31322531742535198,false,1,0.31322531742535198,11107.67045968789,276463.14291256358,8836.0649687563255,2050.4349766015139,299,47.84,346.56416666666667,55.450266666666664,221.17051433005088,84.482758620689665,13.517241379310347,117.15434395160798,18.74469503225728,12090.423932005089,8.900000000000001E-2,276463.12,8836.0649687563255,2050.4348066666666,221.17049600000001,12090.423743740192,0,{"$f":"'Tabla Fijo'!E148+'Tabla Fijo'!H148","v":0},12090.423743740192,null,11954.871540661958]
[null,141,"2034-01-04",31,8.900000000000001E-2,1.0084638888888888,3.2196116750020582,0.31059646346926628,false,1,0.31059646346926628,11107.67045968789,267627.07794380723,8842.5046083134985,2051.0641890193451,299,47.84,346.56416666666667,55.450266666666664,214.10166235504579,84.482758620689665,13.517241379310347,117.15434395160798,18.74469503225728,12090.423932005089,8.900000000000001E-2,267627.06,8842.5046083134985,2051.0640515000005,214.10164800000001,12090.423780130699,0,{"$f":"'Tabla Fijo'!E149+'Tabla Fijo'!H149","v":0},12090.423780130699,null,11954.871577052465]
[null,142,"2034-02-04",31,8.900000000000001E-2,1.0084638888888888,3.2468621104846451,0.30798967309724595,false,1,0.30798967309724595,11107.67045968789,258784.57333549374,8917.3465848177511,1983.2962162017425,299,47.84,346.56416666666667,55.450266666666664,207.02765866839499,84.482758620689665,13.517241379310347,117.15434395160798,18.74469503225728,12090.423932005089,8.900000000000001E-2,258784.56,8917.3465848177511,1983.2961140000002,207.027648,12090.42381913495,0,{"$f":"'Tabla Fijo'!E150+'Tabla Fijo'!H150","v":0},12090.42381913495,null,11954.871616056716]
[null,143,"2034-03-04",28,8.900000000000001E-2,1.0077222222222222,3.2719351012267208,0.30562953391865194,false,1,0.30562953391865194,11107.67045968789,249867.226750676,9178.1402086687813,1729.6364696185683,299,47.84,346.56416666666667,55.450266666666664,199.8937814005408,84.482758620689665,13.517241379310347,117.15434395160798,18.74469503225728,12090.423932005089,8.900000000000001E-2,249867.21,9178.1402086687813,1729.6363536666668,199.89376799999999,12090.423802652647,0,{"$f":"'Tabla Fijo'!E151+'Tabla Fijo'!H151","v":0},12090.423802652647,null,11954.871599574413]
[null,144,"2034-04-04",31,8.900000000000001E-2,1.0084638888888888,3.2996283963751591,0.3030644302548009,true,1,0.3030644302548009,11107.67045968789,240689.08654200722,9070.5047744281801,1844.6144160261053,299,47.84,346.56416666666667,55.450266666666664,192.55126923360578,84.482758620689665,13.517241379310347,117.15434395160798,18.74469503225728,12090.423932005089,8.900000000000001E-2,240689.07,9070.5047744281801,1844.6142892500002,192.55125600000002,12090.423791995379,0,{"$f":"'Tabla Fijo'!E152+'Tabla Fijo'!H152","v":0},12090.423791995379,null,11954.871588917145]
[null,145,"2034-05-04",30,8.900000000000001E-2,1.0082166666666665,3.3267403430320415,0.3005945450760924,false,1,0.3005945450760924,11107.67045968789,231618.58176757905,9204.5377794976157,1717.8378147762114,299,47.84,346.56416666666667,55.450266666666664,185.29486541406325,84.482758620689665,13.517241379310347,117.15434395160801,18.744695032257283,12090.423932005091,8.900000000000001E-2,231618.57,9204.5377794976157,1717.8377275000003,185.29485600000001,12090.423835314816,0,{"$f":"'Tabla Fijo'!E153+'Tabla Fijo'!H153","v":0},12090.423835314816,null,11954.871632236582]
[null,146,"2034-06-04",31,8.900000000000001E-2,1.0084638888888888,3.3548975036576487,0.29807169933202382,false,1,0.29807169933202382,11107.67045968789,222414.04398808142,9225.1827040443241,1704.5565204531019,299,47.84,346.56416666666667,55.450266666666664,177.93123519046515,84.482758620689665,13.517241379310347,117.15434395160798,18.74469503225728,12090.423932005089,8.900000000000001E-2,222414.03,9225.1827040443241,1704.5564132500001,177.93122400000001,12090.423813611524,0,{"$f":"'Tabla Fijo'!E154+'Tabla Fijo'!H154","v":0},12090.423813611524,null,11954.87161053329]
[null,147,"2034-07-04",30,8.900000000000001E-2,1.0082166666666665,3.3824635781460355,0.29564250342885012,false,1,0.29564250342885012,11107.67045968789,213188.86128403709,9355.9686494707184,1581.150721189942,299,47.84,346.56416666666667,55.450266666666664,170.55108902722969,84.482758620689665,13.517241379310347,117.15434395160798,18.74469503225728,12090.423932005089,8.900000000000001E-2,213188.85,9355.9686494707184,1581.1506375000001,170.55108000000001,12090.423839287918,0,{"$f":"'Tabla Fijo'!E155+'Tabla Fijo'!H155","v":0},12090.423839287918,null,11954.871636209684]
[null,148,"2034-08-04",31,8.900000000000001E-2,1.0084638888888888,3.4110923740421768,0.29316121944097062,false,1,0.29316121944097062,11107.67045968789,203832.89263456638,9382.4515045281023,1562.1526410521353,299,47.84,346.56416666666667,55.450266666666664,163.06631410765311,84.482758620689665,13.517241379310347,117.15434395160798,18.74469503225728,12090.423932005089,8.900000000000001E-2,203832.88,9382.4515045281023,1562.1525442222223,163.066304,12090.423825067524,0,{"$f":"'Tabla Fijo'!E156+'Tabla Fijo'!H156","v":0},12090.423825067524,null,11954.87162198929]
[null,149,"2034-09-04",31,8.900000000000001E-2,1.0084638888888888,3.4399634808858059,0.290700760504148,false,1,0.290700760504148,11107.67045968789,194450.44113003826,9461.8635315678148,1490.2465752160435,299,47.84,346.56416666666667,55.450266666666664,155.56035290403062,84.482758620689665,13.517241379310347,117.15434395160798,18.74469503225728,12090.423932005089,8.900000000000001E-2,194450.43,9461.8635315678148,1490.2464899166669,155.56034400000001,12090.42383780168,0,{"$f":"'Tabla Fijo'!E157+'Tabla Fijo'!H157","v":0},12090.42383780168,null,11954.871634723446]
[null,150,"2034-10-04",30,8.900000000000001E-2,1.0082166666666665,3.4682285141537506,0.28833163556525354,false,1,0.28833163556525354,11107.67045968789,184988.57759847044,9587.6809804204586,1371.998617188656,299,47.84,346.56416666666667,55.450266666666664,147.99086207877636,84.482758620689665,13.517241379310347,117.15434395160798,18.74469503225728,12090.423932005089,8.900000000000001E-2,184988.57,9587.6809804204586,1371.9985608333336,147.99085600000001,12090.423869570992,0,{"$f":"'Tabla Fijo'!E158+'Tabla Fijo'!H158","v":0},12090.423869570992,null,11954.871666492758]
[null,151,"2034-11-04",31,8.900000000000001E-2,1.0084638888888888,3.4975832149388237,0.2859117106145796,false,1,0.2859117106145796,11107.67045968789,175400.89661804997,9623.0967597012277,1344.2529826922221,299,47.84,346.56416666666667,55.450266666666664,140.32071729443999,84.482758620689665,13.517241379310347,117.15434395160798,18.74469503225728,12090.423932005089,8.900000000000001E-2,175400.89,9623.0967597012277,1344.2529319722225,140.32071200000001,12090.423875990651,0,{"$f":"'Tabla Fijo'!E159+'Tabla Fijo'!H159","v":0},12090.423875990651,null,11954.871672912417]
[null,152,"2034-12-04",30,8.900000000000001E-2,1.0082166666666665,3.5263216903549042,0.2835816150112373,false,1,0.2835816150112373,11107.67045968789,165777.79985834874,9745.5295375184578,1229.5186822827532,299,47.84,346.56416666666667,55.450266666666664,132.62223988667898,84.482758620689665,13.517241379310347,117.15434395160798,18.74469503225728,12090.423932005089,8.900000000000001E-2,165777.79,9745.5295375184578,1229.5186091666667,132.62223200000003,12090.423851002324,0,{"$f":"'Tabla Fijo'!E160+'Tabla Fijo'!H160","v":0},12090.423851002324,null,11954.87164792409]
[null,153,"2035-01-04",31,8.900000000000001E-2,1.0084638888888888,3.5561680853285469,0.28120155628347138,false,1,0.28120155628347138,11107.67045968789,156032.27032083028,9787.0306606113081,1195.8139828199189,299,47.84,346.56416666666667,55.450266666666664,124.82581625666424,84.482758620689665,13.517241379310347,117.15434395160798,18.74469503225728,12090.423932005089,8.900000000000001E-2,156032.26,9787.0306606113081,1195.8139037222224,124.82580800000001,12090.42384465073,0,{"$f":"'Tabla Fijo'!E161+'Tabla Fijo'!H161","v":0},12090.42384465073,null,11954.871641572496]
[null,154,"2035-02-04",31,8.900000000000001E-2,1.0084638888888888,3.5862670968729802,0.27884147303806311,false,1,0.27884147303806311,11107.67045968789,146245.23966021897,9869.8670006748707,1120.807267284845,299,47.84,346.56416666666667,55.450266666666664,116.99619172817518,84.482758620689665,13.517241379310347,117.15434395160798,18.74469503225728,12090.423932005089,8.900000000000001E-2,146245.23000000001,9869.8670006748707,1120.80719325,116.99618400000001,12090.42385024207,0,{"$f":"'Tabla Fijo'!E162+'Tabla Fijo'!H162","v":0},12090.42385024207,null,11954.871647163836]
[null,155,"2035-03-04",28,8.900000000000001E-2,1.0077222222222222,3.6139610483432771,0.27670469787116908,false,1,0.27670469787116908,11107.67045968789,136375.37265954411,10054.549526372521,944.02063518773321,299,47.84,346.56416666666667,55.450266666666664,109.1002981276353,84.482758620689665,13.517241379310347,117.15434395160798,18.74469503225728,12090.423932005089,8.900000000000001E-2,136375.35999999999,10054.549526372521,944.02054755555548,109.10028799999999,12090.423834245275,0,{"$f":"'Tabla Fijo'!E163+'Tabla Fijo'!H163","v":0},12090.423834245275,null,11954.871631167041]
[null,156,"2035-04-04",31,8.900000000000001E-2,1.0084638888888888,3.6445492131052268,0.27438235609610018,true,1,0.27438235609610018,11107.67045968789,126320.82313317159,10038.505048335741,968.10875284561234,299,47.84,346.56416666666667,55.450266666666664,101.05665850653727,84.482758620689665,13.517241379310347,117.15434395160798,18.74469503225728,12090.423932005089,8.900000000000001E-2,126320.81,10038.505048335741,968.10865219444452,101.05664800000001,12090.423820847385,0,{"$f":"'Tabla Fijo'!E164+'Tabla Fijo'!H164","v":0},12090.423820847385,null,11954.871617769151]
[null,157,"2035-05-04",30,8.900000000000001E-2,1.0082166666666665,3.6744952591395745,0.27214622131099486,false,1,0.27214622131099486,11107.67045968789,116282.31808483586,10152.217412757487,862.42719246253273,299,47.84,346.56416666666667,55.450266666666664,93.025854467868697,84.482758620689665,13.517241379310347,117.15434395160797,18.744695032257276,12090.423932005087,8.900000000000001E-2,116282.3,10152.217412757487,862.42705833333343,93.025840000000002,12090.42378340802,0,{"$f":"'Tabla Fijo'!E165+'Tabla Fijo'!H165","v":0},12090.42378340802,null,11954.871580329786]
[null,158,"2035-06-04",31,8.900000000000001E-2,1.0084638888888888,3.7055957787356806,0.26986213815830501,false,1,0.26986213815830501,11107.67045968789,106130.10067207838,10209.397079832826,813.36929931740076,299,47.84,346.56416666666667,55.450266666666664,84.904080537662708,84.482758620689665,13.517241379310347,117.15434395160798,18.74469503225728,12090.423932005089,8.900000000000001E-2,106130.08,10209.397079832826,813.36914088888898,84.904064000000005,12090.423757038914,0,{"$f":"'Tabla Fijo'!E166+'Tabla Fijo'!H166","v":0},12090.423757038914,null,11954.87155396068]
[null,159,"2035-07-04",30,8.900000000000001E-2,1.0082166666666665,3.7360434240509584,0.267662841808115,false,1,0.267662841808115,11107.67045968789,95920.703592245554,10319.522011838271,711.41188497582129,299,47.84,346.56416666666667,55.450266666666664,76.736562873796444,84.482758620689665,13.517241379310347,117.15434395160798,18.74469503225728,12090.423932005089,8.900000000000001E-2,95920.68,10319.522011838271,711.41171000000008,76.736543999999995,12090.42373815547,0,{"$f":"'Tabla Fijo'!E167+'Tabla Fijo'!H167","v":0},12090.42373815547,null,11954.871535077236]
[null,160,"2035-08-04",31,8.900000000000001E-2,1.0084638888888888,3.7676648804761896,0.2654163869992629,false,1,0.2654163869992629,11107.67045968789,85601.181580407283,10383.15157003372,656.03794438984369,299,47.84,346.56416666666667,55.450266666666664,68.480945264325825,84.482758620689665,13.517241379310347,117.15434395160798,18.74469503225728,12090.423932005089,8.900000000000001E-2,85601.16,10383.15157003372,656.037779,68.480928000000006,12090.423749350921,0,{"$f":"'Tabla Fijo'!E168+'Tabla Fijo'!H168","v":0},12090.423749350921,null,11954.871546272687]
[null,161,"2035-09-04",31,8.900000000000001E-2,1.0084638888888888,3.7995539773951088,0.26318878635475479,false,1,0.26318878635475479,11107.67045968789,75218.030010373564,10471.033411238977,576.46262444061313,299,47.84,346.56416666666667,55.450266666666664,60.174424008298857,84.482758620689665,13.517241379310347,117.15434395160798,18.74469503225728,12090.423932005089,8.900000000000001E-2,75218.009999999995,10471.033411238977,576.46247108333341,60.174408,12090.423762639512,0,{"$f":"'Tabla Fijo'!E169+'Tabla Fijo'!H169","v":0},12090.423762639512,null,11954.871559561278]
[null,162,"2035-10-04",30,8.900000000000001E-2,1.0082166666666665,3.8307736459093715,0.26104387584158972,false,1,0.26104387584158972,11107.67045968789,64746.996599134589,10575.665970964999,480.20689144358158,299,47.84,346.56416666666667,55.450266666666664,51.797597279307674,84.482758620689665,13.517241379310347,117.15434395160798,18.74469503225728,12090.423932005089,8.900000000000001E-2,64746.98,10575.665970964999,480.20676833333346,51.797584000000008,12090.423795615532,0,{"$f":"'Tabla Fijo'!E170+'Tabla Fijo'!H170","v":0},12090.423795615532,null,11954.871592537298]
[null,163,"2035-11-04",31,8.900000000000001E-2,1.0084638888888888,3.863196888406832,0.25885297303922716,false,1,0.25885297303922716,11107.67045968789,54171.330628169591,10649.1703362878,415.16305889755529,299,47.84,346.56416666666667,55.450266666666664,43.337064502535675,84.482758620689665,13.517241379310347,117.15434395160798,18.74469503225728,12090.423932005089,8.900000000000001E-2,54171.31,10649.1703362878,415.16290080555552,43.337048000000003,12090.423757410554,0,{"$f":"'Tabla Fijo'!E171+'Tabla Fijo'!H171","v":0},12090.423757410554,null,11954.87155433232]
[null,164,"2035-12-04",30,8.900000000000001E-2,1.0082166666666665,3.8949394895065743,0.2567433981180241,false,1,0.2567433981180241,11107.67045968789,43522.160291881795,10750.063375956261,322.78935549812337,299,47.84,346.56416666666667,55.450266666666664,34.817728233505441,84.482758620689665,13.517241379310347,117.15434395160798,18.74469503225728,12090.423932005089,8.900000000000001E-2,43522.14,10750.063375956261,322.78920500000004,34.817712,12090.423765273459,0,{"$f":"'Tabla Fijo'!E172+'Tabla Fijo'!H172","v":0},12090.423765273459,null,11954.871562195225]
[null,165,"2036-01-04",31,8.900000000000001E-2,1.0084638888888888,3.9279058245747032,0.25458858859180405,false,1,0.25458858859180405,11107.67045968789,32772.096915925533,10830.291072735597,251.16170941955153,299,47.84,346.56416666666667,55.450266666666664,26.217677532740428,84.482758620689665,13.517241379310347,117.15434395160798,18.74469503225728,12090.423932005089,8.900000000000001E-2,32772.080000000002,10830.291072735597,251.16157977777783,26.217664000000003,12090.423788830574,0,{"$f":"'Tabla Fijo'!E173+'Tabla Fijo'!H173","v":0},12090.423788830574,null,11954.87158575234]
[null,166,"2036-02-04",31,8.900000000000001E-2,1.0084638888888888,3.9611511830399229,0.25245186406456865,false,1,0.25245186406456865,11107.67045968789,21941.805843189934,10921.957453009558,168.15956200378065,299,47.84,346.56416666666667,55.450266666666664,17.553444674551947,84.482758620689665,13.517241379310347,117.15434395160798,18.74469503225728,12090.423932005089,8.900000000000001E-2,21941.79,10921.957453009558,168.15944058333335,17.553432000000001,12090.423797910091,0,{"$f":"'Tabla Fijo'!E174+'Tabla Fijo'!H174","v":0},12090.423797910091,null,11954.871594831857]
[null,167,"2036-03-04",29,8.900000000000001E-2,1.0079694444444443,3.9927193573292041,0.25045586992342894,false,1,0.25045586992342894,11107.67045968789,11019.848390180376,11019.848390156147,79.006190819598743,299,47.84,346.56416666666667,55.450266666666664,8.8158787121443005,84.482758620689665,13.517241379310347,117.15434395160798,18.74469503225728,12090.423932005089,8.900000000000001E-2,11019.83,11019.83,79.006058972222235,8.8158639999999995,12090.405395289421,0,{"$f":"'Tabla Fijo'!E175+'Tabla Fijo'!H175","v":0},12090.405395289421,null,11954.853192211187]
[null,168,"2036-04-04",31,8.900000000000001E-2,1.0084638888888888,4.0265132903341545,0.24835383069529404,true,1,0.24835383069529404,11107.67045968789,2.4228938855230808E-8,11107.670459687684,1.8568789528217169E-10,299,47.84,346.56416666666667,55.450266666666664,1.9383151084184648E-11,84.482758620689665,13.517241379310347,117.15434395160798,18.74469503225728,0,8.900000000000001E-2,0,0,0,0,0,0,{"$f":"'Tabla Fijo'!E176+'Tabla Fijo'!H176","v":0},0,null,0]
[null,169,"2036-05-04",30,8.900000000000001E-2,1.0082166666666665,4.059597807869733,0.2463298206687988,false,1,0.2463298206687988,11107.67045968789,-11107.670459663455,11198.938485298126,-82.381889242503959,299,47.84,346.56416666666667,55.450266666666664,-8.8861363677307654,84.482758620689665,13.517241379310347,117.15434395160798,18.74469503225728,0,8.900000000000001E-2,0,0,0,0,0,0,{"$f":"'Tabla Fijo'!E177+'Tabla Fijo'!H177","v":0},0,null,0]
[null,170,"2036-06-04",31,8.900000000000001E-2,1.0084638888888888,4.0939577926491193,0.24426241076435712,false,1,0.24426241076435712,11107.67045968789,-22306.608944961583,11296.471119285939,-170.9553724420806,299,47.84,346.56416666666667,55.450266666666664,-17.845287155969267,84.482758620689665,13.517241379310347,117.15434395160798,18.74469503225728,0,8.900000000000001E-2,0,0,0,0,0,0,{"$f":"'Tabla Fijo'!E178+'Tabla Fijo'!H178","v":0},0,null,0]
[null,171,"2036-07-04",30,8.900000000000001E-2,1.0082166666666665,4.1275964791787194,0.24227174459625789,false,1,0.24227174459625789,11107.67045968789,-33603.080064247522,11383.775767549123,-249.22284380983584,299,47.84,346.56416666666667,55.450266666666664,-26.882464051398021,84.482758620689665,13.517241379310347,117.15434395160798,18.74469503225728,0,8.900000000000001E-2,0,0,0,0,0,0,{"$f":"'Tabla Fijo'!E179+'Tabla Fijo'!H179","v":0},0,null,0]
[null,172,"2036-08-04",31,8.900000000000001E-2,1.0084638888888888,4.1625319971566572,0.24023839352660353,false,1,0.24023839352660353,11107.67045968789,-44986.855831796645,11488.43420890868,-344.77426455535272,299,47.84,346.56416666666667,55.450266666666664,-35.989484665437317,84.482758620689665,13.517241379310347,117.15434395160798,18.74469503225728,0,8.900000000000001E-2,0,0,0,0,0,0,{"$f":"'Tabla Fijo'!E180+'Tabla Fijo'!H180","v":0},0,null,0]
[null,173,"2036-09-04",31,8.900000000000001E-2,1.0084638888888888,4.1977632054770355,0.23822210807299685,false,1,0.23822210807299685,11107.67045968789,-56475.290040705324,11585.671039560193,-432.82034783973893,299,47.84,346.56416666666667,55.450266666666664,-45.180232032564263,84.482758620689665,13.517241379310347,117.15434395160798,18.74469503225728,0,8.900000000000001E-2,0,0,0,0,0,0,{"$f":"'Tabla Fijo'!E181+'Tabla Fijo'!H181","v":0},0,null,0]
[null,174,"2036-10-04",30,8.900000000000001E-2,1.0082166666666665,4.2322548264820377,0.23628066857950197,false,1,0.23628066857950197,11107.67045968789,-68060.961080265522,11666.904689897405,-504.78546134530268,299,47.84,346.56416666666667,55.450266666666664,-54.448768864212418,84.482758620689665,13.517241379310347,117.15434395160798,18.74469503225728,0,8.900000000000001E-2,0,0,0,0,0,0,{"$f":"'Tabla Fijo'!E182+'Tabla Fijo'!H182","v":0},0,null,0]
[null,175,"2036-11-04",31,8.900000000000001E-2,1.0084638888888888,4.2680761610828455,0.23429759972846687,false,1,0.23429759972846687,11107.67045968789,-79727.865770162927,11782.478256914796,-611.02550461077647,299,47.84,346.56416666666667,55.450266666666664,-63.782292616130341,84.482758620689665,13.517241379310347,117.15434395160798,18.74469503225728,0,8.900000000000001E-2,0,0,0,0,0,0,{"$f":"'Tabla Fijo'!E183+'Tabla Fijo'!H183","v":0},0,null,0]
[null,176,"2036-12-04",30,8.900000000000001E-2,1.0082166666666665,4.3031455202064093,0.23238814381346623,false,1,0.23238814381346623,11107.67045968789,-91510.344027077721,11859.580453110379,-678.70171820082646,299,47.84,346.56416666666667,55.450266666666664,-73.208275221662177,84.482758620689665,13.517241379310347,117.15434395160798,18.74469503225728,0,8.900000000000001E-2,0,0,0,0,0,0,{"$f":"'Tabla Fijo'!E184+'Tabla Fijo'!H184","v":0},0,null,0]
[null,177,"2037-01-04",31,8.900000000000001E-2,1.0084638888888888,4.3395668657621558,0.23043774434948602,false,1,0.23043774434948602,11107.67045968789,-103369.9244801881,11982.582014941039,-792.2156156689972,299,47.84,346.56416666666667,55.450266666666664,-82.69593958415048,84.482758620689665,13.517241379310347,117.15434395160798,18.74469503225728,0,8.900000000000001E-2,0,0,0,0,0,0,{"$f":"'Tabla Fijo'!E185+'Tabla Fijo'!H185","v":0},0,null,0]
[null,178,"2037-02-04",31,8.900000000000001E-2,1.0084638888888888,4.3762964775398698,0.22850371430094446,false,1,0.22850371430094446,11107.67045968789,-115352.50649512914,12084.001257717497,-884.04879283350374,299,47.84,346.56416666666667,55.450266666666664,-92.282005196103313,84.482758620689665,13.517241379310347,117.15434395160798,18.74469503225728,0,8.900000000000001E-2,0,0,0,0,0,0,{"$f":"'Tabla Fijo'!E186+'Tabla Fijo'!H186","v":0},0,null,0]
[null,179,"2037-03-04",28,8.900000000000001E-2,1.0077222222222222,4.4100912114497612,0.22675267971867247,false,1,0.22675267971867247,11107.67045968789,-127436.50775284664,12091.763491779318,-882.14382588914953,299,47.84,346.56416666666667,55.450266666666664,-101.94920620227731,84.482758620689665,13.517241379310347,117.15434395160801,18.744695032257283,0,8.900000000000001E-2,0,0,0,0,0,0,{"$f":"'Tabla Fijo'!E187+'Tabla Fijo'!H187","v":0},0,null,0]
[null,180,"2037-04-04",31,8.900000000000001E-2,1.0084638888888888,4.4474177334533369,0.2248495778748264,true,1,0.2248495778748264,11107.67045968789,-139528.27124462597,12288.622244361155,-1069.3291676775643,299,47.84,346.56416666666667,55.450266666666664,-111.62261699570078,84.482758620689665,13.517241379310347,117.15434395160798,18.74469503225728,0,8.900000000000001E-2,0,0,0,0,0,0,{"$f":"'Tabla Fijo'!E188+'Tabla Fijo'!H188","v":0},0,null,0]
[null,181,"2037-05-04",30,8.900000000000001E-2,1.0082166666666665,4.4839606824965443,0.22301712053443518,false,1,0.22301712053443518,11107.67045968789,-151816.89348898712,12355.099267855734,-1125.9752933766545,299,47.84,346.56416666666667,55.450266666666664,-121.4535147911897,84.482758620689665,13.517241379310347,117.15434395160798,18.74469503225728,0,8.900000000000001E-2,0,0,0,0,0,0,{"$f":"'Tabla Fijo'!E189+'Tabla Fijo'!H189","v":0},0,null,0]
[null,182,"2037-06-04",31,8.900000000000001E-2,1.0084638888888888,4.5219124274953408,0.22114537068863446,false,1,0.22114537068863446,11107.67045968789,-164171.99275684284,12497.203965049279,-1258.1959111559152,299,47.84,346.56416666666667,55.450266666666664,-131.33759420547429,84.482758620689665,13.517241379310347,117.15434395160798,18.74469503225728,0,8.900000000000001E-2,0,0,0,0,0,0,{"$f":"'Tabla Fijo'!E190+'Tabla Fijo'!H190","v":0},0,null,0]
[null,183,"2037-07-04",30,8.900000000000001E-2,1.0082166666666665,4.5590674746079269,0.21934310153766665,false,1,0.21934310153766665,11107.67045968789,-176669.19672189211,12559.302359419436,-1310.2965423540334,299,47.84,346.56416666666667,55.450266666666664,-141.3353573775137,84.482758620689665,13.517241379310347,117.15434395160798,18.74469503225728,0,8.900000000000001E-2,0,0,0,0,0,0,{"$f":"'Tabla Fijo'!E191+'Tabla Fijo'!H191","v":0},0,null,0]
[null,184,"2037-08-04",31,8.900000000000001E-2,1.0084638888888888,4.5976549151499553,0.21750218719218173,false,1,0.21750218719218173,11107.67045968789,-189228.49908131154,12709.279450523323,-1450.2261915703848,299,47.84,346.56416666666667,55.450266666666664,-151.38279926504924,84.482758620689665,13.517241379310347,117.15434395160798,18.74469503225728,0,8.900000000000001E-2,0,0,0,0,0,0,{"$f":"'Tabla Fijo'!E192+'Tabla Fijo'!H192","v":0},0,null,0]
[null,185,"2037-09-04",31,8.900000000000001E-2,1.0084638888888888,4.6365689555012377,0.21567672336966132,false,1,0.21567672336966132,11107.67045968789,-201937.77853183486,12816.849379650392,-1547.6286971370346,299,47.84,346.56416666666667,55.450266666666664,-161.5502228254679,84.482758620689665,13.517241379310347,117.15434395160798,18.74469503225728,0,8.900000000000001E-2,0,0,0,0,0,0,{"$f":"'Tabla Fijo'!E193+'Tabla Fijo'!H193","v":0},0,null,0]
[null,186,"2037-10-04",30,8.900000000000001E-2,1.0082166666666665,4.6746660970856055,0.21391902207163938,false,1,0.21391902207163938,11107.67045968789,-214754.62791148527,12872.237652360594,-1592.763490343516,299,47.84,346.56416666666667,55.450266666666664,-171.80370232918821,84.482758620689665,13.517241379310347,117.15434395160798,18.74469503225728,0,8.900000000000001E-2,0,0,0,0,0,0,{"$f":"'Tabla Fijo'!E194+'Tabla Fijo'!H194","v":0},0,null,0]
[null,187,"2037-11-04",31,8.900000000000001E-2,1.0084638888888888,4.7142319515239937,0.21212363122623293,false,1,0.21212363122623293,11107.67045968789,-227626.86556384587,13034.27895794633,-1744.5070058073632,299,47.84,346.56416666666667,55.450266666666664,-182.10149245107669,84.482758620689665,13.517241379310347,117.15434395160798,18.74469503225728,0,8.900000000000001E-2,0,0,0,0,0,0,{"$f":"'Tabla Fijo'!E195+'Tabla Fijo'!H195","v":0},0,null,0]
[null,188,"2037-12-04",30,8.900000000000001E-2,1.0082166666666665,4.7529672240590148,0.21039488657487607,false,1,0.21039488657487607,11107.67045968789,-240661.14452179222,13085.102863841948,-1784.9034885366257,299,47.84,346.56416666666667,55.450266666666664,-192.52891561743377,84.482758620689665,13.517241379310347,117.15434395160798,18.74469503225728,0,8.900000000000001E-2,0,0,0,0,0,0,{"$f":"'Tabla Fijo'!E196+'Tabla Fijo'!H196","v":0},0,null,0]
[null,189,"2038-01-04",31,8.900000000000001E-2,1.0084638888888888,4.7931958105359804,0.20862907327964531,false,1,0.20862907327964531,11107.67045968789,-253746.24738563417,13255.350503532411,-1944.6830459360133,299,47.84,346.56416666666667,55.450266666666664,-202.99699790850735,84.482758620689665,13.517241379310347,117.15434395160798,18.74469503225728,0,8.900000000000001E-2,0,0,0,0,0,0,{"$f":"'Tabla Fijo'!E197+'Tabla Fijo'!H197","v":0},0,null,0]
[null,190,"2038-02-04",31,8.900000000000001E-2,1.0084638888888888,4.8337648872990444,0.20687808019532544,false,1,0.20687808019532544,11107.67045968789,-267001.59788916656,13367.542317377585,-2046.2705793783628,299,47.84,346.56416666666667,55.450266666666664,-213.60127831133326,84.482758620689665,13.517241379310347,117.15434395160798,18.74469503225728,0,8.900000000000001E-2,0,0,0,0,0,0,{"$f":"'Tabla Fijo'!E198+'Tabla Fijo'!H198","v":0},0,null,0]
[null,191,"2038-03-04",28,8.900000000000001E-2,1.0077222222222222,4.8710922939287427,0.20529276385224424,false,1,0.20529276385224424,11107.67045968789,-280369.14020654414,13272.743264616203,-1940.7774927630778,299,47.84,346.56416666666667,55.450266666666664,-224.29531216523532,84.482758620689665,13.517241379310347,117.15434395160798,18.74469503225728,0,8.900000000000001E-2,0,0,0,0,0,0,{"$f":"'Tabla Fijo'!E199+'Tabla Fijo'!H199","v":0},0,null,0]
[null,192,"2038-04-04",31,{"$f":"IF(B206=0,TASA,IF(B206=MESES_INC_TASA,E205+INCREMENTO_TASA,E205))","v":8.900000000000001E-2},{"$f":"1 + D206 * E206 / 360 + FACTOR_SEG_DEUD","v":1.0084638888888888},4.9123206778720778,0.2035697719215637,{"$f":"MOD(B206, MESES_INC)=0","v":true},1,{"$f":"H206*J206","v":0.2035697719215637},{"$f":"CUOTA_INIT*J206","v":11107.67045968789},-293641.88347116031,13593.022734511849,{"$f":"M206 * D206 * E206 /360","v":-2250.4387680470313},{"$f":"COMISION_AMORT","v":299},{"$f":"P206*IVA","v":47.84},{"$f":"SEGURO_DAÑOS_MENS","v":346.56416666666667},{"$f":"R206*IVA","v":55.450266666666664},{"$f":"M206 * FACTOR_SEG_DEUD","v":-234.91350677692827},{"$f":"SEGURO_INTERIORES","v":84.482758620689665},{"$f":"U206*IVA","v":13.517241379310347},{"$f":"SUM(N206:V206) * FACTOR_SEG_DESEMPLEO","v":117.15434395160798},{"$f":"W206*IVA","v":18.74469503225728},{"$f":"IF(B206>=PLAZO, 0, SUM(N206:X206))","v":0},{"$f":"ESQUEMA","v":8.900000000000001E-2},{"$f":"IF(B206=0,TOTAL_FINANCIADO, MAX(ROUND(AA205-N205-AF205-AG205,2), 0))","v":0},{"$f":"MIN(AA206,N206)","v":0},{"$f":"AA206 * D206 * Z206 /360","v":0},{"$f":"AA206 * FACTOR_SEG_DEUD","v":0},{"$f":"IF(AA206>0, AB206+AC206+AD206+P206+Q206+R206+S206+U206+V206+W206+X206, 0)","v":0},{"$f":"IF(ACCION_EXCEDENTE_PP=\"MENOS PLAZO\", IF(AA206>N206, ROUND(Y206-AE206, 2), 0), 0)","v":0},{"$f":"'Tabla Fijo'!E200+'Tabla Fijo'!H200","v":0},0,null,{"$f":"IF(AA206> 0,AB206+AC206+AD206+P206+R206+U206+W206, 0)","v":0}]
[null,193,{"$f":"IF(B207=0,FECHA_1ER_PAGO,DATE(YEAR(C206),MONTH(C206)+1,4))","v":"2038-05-04"},{"$f":"IF(B207=0,C207-C199+1, C207-C206)","v":30},8.900000000000001E-2,1.0082166666666665,{"$f":"IF(B207 = 0, 0,\n            IF(G206=0, F207, G206 * F207 ))","v":4.9526835794419259},{"$f":"IF(G207=0, 0, 1/G207)","v":0.20191073868536563},false,{"$f":"IF(B207=0, 1, IF(I207,J206*(1+INCREMENTO),J206))","v":1},0.20191073868536563,11107.67045968789,{"$f":"IF(B207=0,TOTAL_FINANCIADO, M206-N206)","v":-307234.90620567219},{"$f":"IF(B207=0, 0, L207-O207-T207)","v":13632.117272344496},-2278.6588876920691,299,47.84,346.56416666666667,55.450266666666664,-245.78792496453775,84.482758620689665,13.517241379310347,117.15434395160798,18.74469503225728,0,8.900000000000001E-2,0,0,0,0,0,0,{"$f":"'Tabla Fijo'!E201+'Tabla Fijo'!H201","v":0},{"$f":"AE207+AF207","v":0},null,0]
[null,194,"2038-06-04",31,8.900000000000001E-2,1.0084638888888888,4.9946025429601466,0.20021613159379262,false,1,0.20021613159379262,11107.67045968789,-320867.02347801666,13823.453294514326,-2459.0892160440226,299,47.84,346.56416666666667,55.450266666666664,-256.69361878241335,84.482758620689665,13.517241379310347,117.15434395160797,18.744695032257276,0,8.900000000000001E-2,0,0,0,0,0,0,{"$f":"'Tabla Fijo'!E202+'Tabla Fijo'!H202","v":0},0,null,0]
[null,195,"2038-07-04",30,8.900000000000001E-2,1.0082166666666665,5.035641527188135,0.19858442953114508,false,1,0.19858442953114508,11107.67045968789,-334690.47677253099,13857.710543835519,-2482.2877027296049,299,47.84,346.56416666666667,55.450266666666664,-267.75238141802481,84.482758620689665,13.517241379310347,117.15434395160798,18.74469503225728,0,8.900000000000001E-2,0,0,0,0,0,0,{"$f":"'Tabla Fijo'!E203+'Tabla Fijo'!H203","v":0},0,null,0]
[null,196,"2038-08-04",31,8.900000000000001E-2,1.0084638888888888,5.07826263755853,0.19691773966239146,false,1,0.19691773966239146,11107.67045968789,-348548.18731636653,14057.743589557247,-2671.2345800162648,299,47.84,346.56416666666667,55.450266666666664,-278.83854985309324,84.482758620689665,13.517241379310347,117.15434395160798,18.74469503225728,0,8.900000000000001E-2,0,0,0,0,0,0,{"$f":"'Tabla Fijo'!E204+'Tabla Fijo'!H204","v":0},0,null,0]
[null,197,"2038-09-04",31,8.900000000000001E-2,1.0084638888888888,5.1212444882714205,0.19526503807622961,false,1,0.19526503807622961,11107.67045968789,-362605.93090592377,14176.726769327752,-2778.9715649151217,299,47.84,346.56416666666667,55.450266666666664,-290.08474472473904,84.482758620689665,13.517241379310347,117.15434395160798,18.74469503225728,0,8.900000000000001E-2,0,0,0,0,0,0,{"$f":"'Tabla Fijo'!E205+'Tabla Fijo'!H205","v":0},0,null,0]
[null,198,"2038-10-04",30,8.900000000000001E-2,1.0082166666666665,5.1633240471500503,0.19367368595661941,false,1,0.19367368595661941,11107.67045968789,-376782.65767525154,14203.567963586207,-2794.471377758116,299,47.84,346.56416666666667,55.450266666666664,-301.42612614020123,84.482758620689665,13.517241379310347,117.15434395160798,18.74469503225728,0,8.900000000000001E-2,0,0,0,0,0,0,{"$f":"'Tabla Fijo'!E206+'Tabla Fijo'!H206","v":0},0,null,0]
[null,199,"2038-11-04",31,8.900000000000001E-2,1.0084638888888888,5.2070258481824565,0.19204821123541302,false,1,0.19204821123541302,11107.67045968789,-390986.22563883773,14416.934430581052,-2996.4749903820925,299,47.84,346.56416666666667,55.450266666666664,-312.78898051107018,84.482758620689665,13.517241379310347,117.15434395160798,18.74469503225728,0,8.900000000000001E-2,0,0,0,0,0,0,{"$f":"'Tabla Fijo'!E207+'Tabla Fijo'!H207","v":0},0,null,0]
[null,200,"2038-12-04",30,8.900000000000001E-2,1.0082166666666665,5.2498102439016883,0.19048307530003111,false,1,0.19048307530003111,11107.67045968789,-405403.16006941878,14438.733091591614,-3006.7401038481894,299,47.84,346.56416666666667,55.450266666666664,-324.32252805553503,84.482758620689665,13.517241379310347,117.15434395160798,18.74469503225728,0,8.900000000000001E-2,0,0,0,0,0,0,{"$f":"'Tabla Fijo'!E208+'Tabla Fijo'!H208","v":0},0,null,0]
[null,201,"2039-01-04",31,8.900000000000001E-2,1.0084638888888888,5.2942440544938227,0.1888843789041397,false,1,0.1888843789041397,11107.67045968789,-419841.8931610104,14661.165594303442,-3217.6216200867443,299,47.84,346.56416666666667,55.450266666666664,-335.87351452880836,84.482758620689665,13.517241379310347,117.15434395160798,18.74469503225728,0,8.900000000000001E-2,0,0,0,0,0,0,{"$f":"'Tabla Fijo'!E209+'Tabla Fijo'!H209","v":0},0,null,0]
[null,202,"2039-02-04",31,8.900000000000001E-2,1.0084638888888888,5.3390539479217187,0.18729910013163667,false,1,0.18729910013163667,11107.67045968789,-434503.05875531386,14785.256070875226,-3329.983164183086,299,47.84,346.56416666666667,55.450266666666664,-347.60244700425113,84.482758620689665,13.517241379310347,117.15434395160798,18.74469503225728,0,8.900000000000001E-2,0,0,0,0,0,0,{"$f":"'Tabla Fijo'!E210+'Tabla Fijo'!H210","v":0},0,null,0]
[null,203,"2039-03-04",28,8.900000000000001E-2,1.0077222222222222,5.3802833089640032,0.18586381842270575,false,1,0.18586381842270575,11107.67045968789,-449288.31482618907,14577.174668623462,-3110.0735570746201,299,47.84,346.56416666666667,55.450266666666664,-359.43065186095129,84.482758620689665,13.517241379310347,117.15434395160798,18.74469503225728,0,8.900000000000001E-2,0,0,0,0,0,0,{"$f":"'Tabla Fijo'!E211+'Tabla Fijo'!H211","v":0},0,null,0]
[null,204,"2039-04-04",31,8.900000000000001E-2,1.0084638888888888,5.4258214290818172,0.18430389076944331,true,1,0.18430389076944331,11107.67045968789,-463865.48949481256,15033.77642216204,-3555.0135708783005,299,47.84,346.56416666666667,55.450266666666664,-371.09239159585007,84.482758620689665,13.517241379310347,117.15434395160798,18.74469503225728,0,8.900000000000001E-2,0,0,0,0,0,0,{"$f":"'Tabla Fijo'!E212+'Tabla Fijo'!H212","v":0},0,null,0]
[null,205,"2039-05-04",30,8.900000000000001E-2,1.0082166666666665,5.470403595157439,0.18280186874789808,false,1,0.18280186874789808,11107.67045968789,-478899.26591697457,15042.626094639032,-3551.836222217562,299,47.84,346.56416666666667,55.450266666666664,-383.11941273357968,84.482758620689665,13.517241379310347,117.15434395160798,18.74469503225728,0,8.900000000000001E-2,0,0,0,0,0,0,{"$f":"'Tabla Fijo'!E213+'Tabla Fijo'!H213","v":0},0,null,0]
[null,206,"2039-06-04",31,8.900000000000001E-2,1.0084638888888888,5.5167044833642294,0.1812676395872802,false,1,0.1812676395872802,11107.67045968789,-493941.89201161359,15288.339751241743,-3785.5157779445613,299,47.84,346.56416666666667,55.450266666666664,-395.15351360929088,84.482758620689665,13.517241379310347,117.15434395160798,18.74469503225728,0,8.900000000000001E-2,0,0,0,0,0,0,{"$f":"'Tabla Fijo'!E214+'Tabla Fijo'!H214","v":0},0,null,0]
[null,207,"2039-07-04",30,8.900000000000001E-2,1.0082166666666665,5.5620334052025378,0.17979036211192725,false,1,0.17979036211192725,11107.67045968789,-509230.23176285531,15291.845530672685,-3776.7908855745109,299,47.84,346.56416666666667,55.450266666666664,-407.38418541028426,84.482758620689665,13.517241379310347,117.15434395160798,18.74469503225728,0,8.900000000000001E-2,0,0,0,0,0,0,{"$f":"'Tabla Fijo'!E215+'Tabla Fijo'!H215","v":0},0,null,0]
[null,208,"2039-08-04",31,8.900000000000001E-2,1.0084638888888888,5.6091098379404603,0.17828140808295842,false,1,0.17828140808295842,11107.67045968789,-524522.07729352801,15547.1670416695,-4019.8789201467885,299,47.84,346.56416666666667,55.450266666666664,-419.61766183482246,84.482758620689665,13.517241379310347,117.15434395160798,18.74469503225728,0,8.900000000000001E-2,0,0,0,0,0,0,{"$f":"'Tabla Fijo'!E216+'Tabla Fijo'!H216","v":0},0,null,0]
[null,209,"2039-09-04",31,8.900000000000001E-2,1.0084638888888888,5.6565847203743616,0.17678511848291004,false,1,0.17678511848291004,11107.67045968789,-540069.24433519749,15678.756536047187,-4139.0306808911391,299,47.84,346.56416666666667,55.450266666666664,-432.055395468158,84.482758620689665,13.517241379310347,117.15434395160798,18.74469503225728,0,8.900000000000001E-2,0,0,0,0,0,0,{"$f":"'Tabla Fijo'!E217+'Tabla Fijo'!H217","v":0},0,null,0]
[null,210,"2039-10-04",30,8.900000000000001E-2,1.0082166666666665,5.7030629914934368,0.17534437222446569,false,1,0.17534437222446569,11107.67045968789,-555748.0008712447,15674.066533513284,-4121.7976731283989,299,47.84,346.56416666666667,55.450266666666664,-444.59840069699578,84.482758620689665,13.517241379310347,117.15434395160797,18.744695032257276,0,8.900000000000001E-2,0,0,0,0,0,0,{"$f":"'Tabla Fijo'!E218+'Tabla Fijo'!H218","v":0},0,null,0]
[null,211,"2039-11-04",31,8.900000000000001E-2,1.0084638888888888,5.7513330829797713,0.17387273273379936,false,1,0.17387273273379936,11107.67045968789,-571422.06740475795,15944.123346860939,-4379.3152332492427,299,47.84,346.56416666666667,55.450266666666664,-457.1376539238064,84.482758620689665,13.517241379310347,117.15434395160798,18.74469503225728,0,8.900000000000001E-2,0,0,0,0,0,0,{"$f":"'Tabla Fijo'!E219+'Tabla Fijo'!H219","v":0},0,null,0]
[null,212,"2039-12-04",30,8.900000000000001E-2,1.0082166666666665,5.7985898698115879,0.17245572155502226,false,1,0.17245572155502226,11107.67045968789,-587366.19075161894,15933.862660363691,-4356.299248074507,299,47.84,346.56416666666667,55.450266666666664,-469.89295260129518,84.482758620689665,13.517241379310347,117.15434395160798,18.74469503225728,0,8.900000000000001E-2,0,0,0,0,0,0,{"$f":"'Tabla Fijo'!E220+'Tabla Fijo'!H220","v":0},0,null,0]
[null,213,"2040-01-04",31,8.900000000000001E-2,1.0084638888888888,5.8476684901819098,0.17100832608397265,false,1,0.17100832608397265,11107.67045968789,-603300.0534119826,16213.935078427645,-4623.6245760101674,299,47.84,346.56416666666667,55.450266666666664,-482.64004272958613,84.482758620689665,13.517241379310347,117.15434395160798,18.74469503225728,0,8.900000000000001E-2,0,0,0,0,0,0,{"$f":"'Tabla Fijo'!E221+'Tabla Fijo'!H221","v":0},0,null,0]
[null,214,"2040-02-04",31,8.900000000000001E-2,1.0084638888888888,5.897162506541866,0.16957307838993341,false,1,0.16957307838993341,11107.67045968789,-619513.98849041027,16351.168023383112,-4747.8863729028953,299,47.84,346.56416666666667,55.450266666666664,-495.61119079232822,84.482758620689665,13.517241379310347,117.15434395160798,18.74469503225728,0,8.900000000000001E-2,0,0,0,0,0,0,{"$f":"'Tabla Fijo'!E222+'Tabla Fijo'!H222","v":0},0,null,0]
[null,215,"2040-03-04",29,8.900000000000001E-2,1.0079694444444443,5.9441596155176111,0.16823235994360508,false,1,0.16823235994360508,11107.67045968789,-635865.15651379339,16175.162498682539,-4558.7999137836141,299,47.84,346.56416666666667,55.450266666666664,-508.69212521103475,84.482758620689665,13.517241379310347,117.15434395160798,18.74469503225728,0,8.900000000000001E-2,0,0,0,0,0,0,{"$f":"'Tabla Fijo'!E223+'Tabla Fijo'!H223","v":0},0,null,0]
[null,216,"2040-04-04",31,8.900000000000001E-2,1.0084638888888888,5.9944703220411721,0.16682041052452667,true,1,0.16682041052452667,11107.67045968789,-652040.3190124759,16626.46727088515,-4997.1645559872813,299,47.84,346.56416666666667,55.450266666666664,-521.63225520998071,84.482758620689665,13.517241379310347,117.15434395160797,18.744695032257276,0,8.900000000000001E-2,0,0,0,0,0,0,{"$f":"'Tabla Fijo'!E224+'Tabla Fijo'!H224","v":0},0,null,0]
[null,217,"2040-05-04",30,8.900000000000001E-2,1.0082166666666665,6.0437248865206099,0.16546087367912984,false,1,0.16546087367912984,11107.67045968789,-668666.78628336103,16601.882553649506,-4959.2786649349282,299,47.84,346.56416666666667,55.450266666666664,-534.93342902668883,84.482758620689665,13.517241379310347,117.15434395160797,18.744695032257276,0,8.900000000000001E-2,0,0,0,0,0,0,{"$f":"'Tabla Fijo'!E225+'Tabla Fijo'!H225","v":0},0,null,0]
[null,218,"2040-06-04",31,8.900000000000001E-2,1.0084638888888888,6.0948783024351325,0.1640721849360737,false,1,0.1640721849360737,11107.67045968789,-685268.66883701051,16907.708331761143,-5251.8229370036443,299,47.84,346.56416666666667,55.450266666666664,-548.21493506960849,84.482758620689665,13.517241379310347,117.15434395160798,18.74469503225728,0,8.900000000000001E-2,0,0,0,0,0,0,{"$f":"'Tabla Fijo'!E226+'Tabla Fijo'!H226","v":0},0,null,0]
[null,219,"2040-07-04",30,8.900000000000001E-2,1.0082166666666665,6.1449578858201406,0.16273504531374577,false,1,0.16273504531374577,11107.67045968789,-702176.37716877169,16877.219692091297,-5207.8081306683907,299,47.84,346.56416666666667,55.450266666666664,-561.74110173501742,84.482758620689665,13.517241379310347,117.15434395160798,18.74469503225728,0,8.900000000000001E-2,0,0,0,0,0,0,{"$f":"'Tabla Fijo'!E227+'Tabla Fijo'!H227","v":0},0,null,0]
[null,220,"2040-08-04",31,8.900000000000001E-2,1.0084638888888888,6.1969681265926235,0.16136923404668949,false,1,0.16136923404668949,11107.67045968789,-719053.59686086304,17193.66020867414,-5510.7468714975594,299,47.84,346.56416666666667,55.450266666666664,-575.24287748869051,84.482758620689665,13.517241379310347,117.15434395160801,18.744695032257283,0,8.900000000000001E-2,0,0,0,0,0,0,{"$f":"'Tabla Fijo'!E228+'Tabla Fijo'!H228","v":0},0,null,0]
[null,221,"2040-09-04",31,8.900000000000001E-2,1.0084638888888888,6.2494185762640893,0.16001488583243553,false,1,0.16001488583243553,11107.67045968789,-736247.25706953718,17339.185438273667,-5642.5171729301483,299,47.84,346.56416666666667,55.450266666666664,-588.9978056556298,84.482758620689665,13.517241379310347,117.15434395160798,18.74469503225728,0,8.900000000000001E-2,0,0,0,0,0,0,{"$f":"'Tabla Fijo'!E229+'Tabla Fijo'!H229","v":0},0,null,0]
[null,222,"2040-10-04",30,8.900000000000001E-2,1.0082166666666665,6.3007679655657247,0.15871081199388579,false,1,0.15871081199388579,11107.67045968789,-753586.44250781089,17299.63906229374,-5589.099448599598,299,47.84,346.56416666666667,55.450266666666664,-602.86915400624878,84.482758620689665,13.517241379310347,117.15434395160803,18.744695032257283,0,8.900000000000001E-2,0,0,0,0,0,0,{"$f":"'Tabla Fijo'!E230+'Tabla Fijo'!H230","v":0},0,null,0]
[null,223,"2040-11-04",31,8.900000000000001E-2,1.0084638888888888,6.3540969655409434,0.15737877552437807,false,1,0.15737877552437807,11107.67045968789,-770886.08157010458,17632.364600088193,-5907.9852751442195,299,47.84,346.56416666666667,55.450266666666664,-616.70886525608364,84.482758620689665,13.517241379310347,117.15434395160798,18.74469503225728,0,8.900000000000001E-2,0,0,0,0,0,0,{"$f":"'Tabla Fijo'!E231+'Tabla Fijo'!H231","v":0},0,null,0]
[null,224,"2040-12-04",30,8.900000000000001E-2,1.0082166666666665,6.406306462274471,0.1560961852026298,false,1,0.1560961852026298,11107.67045968789,-788518.44617019279,17586.663692386308,-5848.1784757622645,299,47.84,346.56416666666667,55.450266666666664,-630.81475693615425,84.482758620689665,13.517241379310347,117.15434395160798,18.74469503225728,0,8.900000000000001E-2,0,0,0,0,0,0,{"$f":"'Tabla Fijo'!E232+'Tabla Fijo'!H232","v":0},0,null,0]
[null,225,"2041-01-04",31,8.900000000000001E-2,1.0084638888888888,6.4605287283593329,0.15478609291068851,false,1,0.15478609291068851,11107.67045968789,-806105.10986257915,17930.454542330332,-6177.899994752378,299,47.84,346.56416666666667,55.450266666666664,-644.88408789006337,84.482758620689665,13.517241379310347,117.15434395160801,18.744695032257283,0,8.900000000000001E-2,0,0,0,0,0,0,{"$f":"'Tabla Fijo'!E233+'Tabla Fijo'!H233","v":0},0,null,0,4527.9306125484045]
[null,226,"2041-02-04",31,8.900000000000001E-2,1.0084638888888888,6.5152099256796401,0.15348699603039792,false,1,0.15348699603039792,11107.67045968789,-824035.5644049095,18082.215917303885,-6315.3170060920711,299,47.84,346.56416666666667,55.450266666666664,-659.22845152392767,84.482758620689665,13.517241379310347,117.15434395160796,18.744695032257273,0,8.900000000000001E-2,0,0,0,0,0,0,{"$f":"'Tabla Fijo'!E234+'Tabla Fijo'!H234","v":0},0,null,0]
[null,227,"2041-03-04",28,8.900000000000001E-2,1.0077222222222222,6.5655218245501663,0.15231081804659366,false,1,0.15231081804659366,11107.67045968789,-842117.78032221342,17610.69109662054,-5829.3264126748782,299,47.84,346.56416666666667,55.450266666666664,-673.69422425777077,84.482758620689665,13.517241379310347,117.15434395160798,18.74469503225728,0,8.900000000000001E-2,0,0,0,0,0,0,{"$f":"'Tabla Fijo'!E235+'Tabla Fijo'!H235","v":0},0,null,0]
[null,228,"2041-04-04",31,8.900000000000001E-2,1.0084638888888888,6.621091671770734,0.15103249578366909,true,1,0.15103249578366909,11107.67045968789,-859728.47141883394,18384.316716391189,-6588.863479568231,299,47.84,346.56416666666667,55.450266666666664,-687.78277713506714,84.482758620689665,13.517241379310347,117.15434395160801,18.744695032257283,0,8.900000000000001E-2,0,0,0,0,0,0,{"$f":"'Tabla Fijo'!E236+'Tabla Fijo'!H236","v":0},0,null,0]
[null,229,"2041-05-04",30,8.900000000000001E-2,1.0082166666666665,6.6754949750071164,0.14980162575868525,false,1,0.14980162575868525,11107.67045968789,-878112.78813522519,18322.830535532325,-6512.6698453362542,299,47.84,346.56416666666667,55.450266666666664,-702.49023050818016,84.482758620689665,13.517241379310347,117.15434395160798,18.74469503225728,0,8.900000000000001E-2,0,0,0,0,0,0,{"$f":"'Tabla Fijo'!E237+'Tabla Fijo'!H237","v":0},0,null,0]
[null,230,"2041-06-04",31,8.900000000000001E-2,1.0084638888888888,6.7319956227539119,0.14854436277706934,false,1,0.14854436277706934,11107.67045968789,-896435.61867075751,18695.00193215955,-6870.1829775350552,299,47.84,346.56416666666667,55.450266666666664,-717.14849493660608,84.482758620689665,13.517241379310347,117.15434395160797,18.744695032257276,0,8.900000000000001E-2,0,0,0,0,0,0,{"$f":"'Tabla Fijo'!E238+'Tabla Fijo'!H238","v":0},0,null,0]
[null,231,"2041-07-04",30,8.900000000000001E-2,1.0082166666666665,6.7873101867875389,0.14733377029778921,false,1,0.14733377029778921,11107.67045968789,-915130.62060291704,18626.99372564186,-6787.2187694716358,299,47.84,346.56416666666667,55.450266666666664,-732.10449648233362,84.482758620689665,13.517241379310347,117.15434395160798,18.74469503225728,0,8.900000000000001E-2,0,0,0,0,0,0,{"$f":"'Tabla Fijo'!E239+'Tabla Fijo'!H239","v":0},0,null,0]
[null,232,"2041-08-04",31,8.900000000000001E-2,1.0084638888888888,6.8447572260629324,0.14609721966358105,false,1,0.14609721966358105,11107.67045968789,-933757.61432855891,19010.891156518777,-7156.2146053680399,299,47.84,346.56416666666667,55.450266666666664,-747.00609146284717,84.482758620689665,13.517241379310347,117.15434395160798,18.74469503225728,0,8.900000000000001E-2,0,0,0,0,0,0,{"$f":"'Tabla Fijo'!E240+'Tabla Fijo'!H240","v":0},0,null,0]
[null,233,"2041-09-04",31,8.900000000000001E-2,1.0084638888888888,6.9026904906957478,0.14487104721672175,false,1,0.14487104721672175,11107.67045968789,-952768.50548507774,19171.797226946313,-7301.9119628703611,299,47.84,346.56416666666667,55.450266666666664,-762.21480438806225,84.482758620689665,13.517241379310347,117.15434395160798,18.74469503225728,0,8.900000000000001E-2,0,0,0,0,0,0,{"$f":"'Tabla Fijo'!E241+'Tabla Fijo'!H241","v":0},0,null,0]
[null,234,"2041-10-04",30,8.900000000000001E-2,1.0082166666666665,6.9594075975609639,0.14369039116928084,false,1,0.14369039116928084,11107.67045968789,-971940.30271202407,19093.779946971688,-7208.5572451141788,299,47.84,346.56416666666667,55.450266666666664,-777.55224216961926,84.482758620689665,13.517241379310347,117.15434395160801,18.744695032257283,0,8.900000000000001E-2,0,0,0,0,0,0,{"$f":"'Tabla Fijo'!E242+'Tabla Fijo'!H242","v":0},0,null,0]
[null,235,"2041-11-04",31,8.900000000000001E-2,1.0084638888888888,7.0183112501992087,0.14248441887948698,false,1,0.14248441887948698,11107.67045968789,-991034.08265899576,19495.672820415555,-7595.1750946004704,299,47.84,346.56416666666667,55.450266666666664,-792.82726612719659,84.482758620689665,13.517241379310347,117.15434395160797,18.744695032257276,0,8.900000000000001E-2,0,0,0,0,0,0,{"$f":"'Tabla Fijo'!E243+'Tabla Fijo'!H243","v":0},0,null,0]
[null,236,"2041-12-04",30,8.900000000000001E-2,1.0082166666666665,7.0759783743050111,0.14132321314481378,false,1,0.14132321314481378,11107.67045968789,-1010529.7554794113,19410.856617210386,-7494.7623531389681,299,47.84,346.56416666666667,55.450266666666664,-808.42380438352916,84.482758620689665,13.517241379310347,117.15434395160797,18.744695032257276,0,8.900000000000001E-2,0,0,0,0,0,0,{"$f":"'Tabla Fijo'!E244+'Tabla Fijo'!H244","v":0},0,null,0]
[null,237,"2042-01-04",31,8.900000000000001E-2,1.0084638888888888,7.1358686690453093,0.14013710823153191,false,1,0.14013710823153191,11107.67045968789,-1029940.6120966218,19824.973362627909,-7893.3504132627213,299,47.84,346.56416666666667,55.450266666666664,-823.95248967729742,84.482758620689665,13.517241379310347,117.15434395160798,18.74469503225728,0,8.900000000000001E-2,0,0,0,0,0,0,{"$f":"'Tabla Fijo'!E245+'Tabla Fijo'!H245","v":0},0,null,0]
[null,238,"2042-02-04",31,8.900000000000001E-2,1.0084638888888888,7.1962658685858116,0.13896095812209297,false,1,0.13896095812209297,11107.67045968789,-1049765.5854592498,19992.769734394376,-8045.2868063390852,299,47.84,346.56416666666667,55.450266666666664,-839.8124683673999,84.482758620689665,13.517241379310347,117.15434395160801,18.744695032257283,0,8.900000000000001E-2,0,0,0,0,0,0,{"$f":"'Tabla Fijo'!E246+'Tabla Fijo'!H246","v":0},0,null,0]
[null,239,"2042-03-04",28,8.900000000000001E-2,1.0077222222222222,7.2518370327932242,0.13789609384186965,false,1,0.13789609384186965,11107.67045968789,-1069758.3551936441,19368.582202572143,-7405.1050587293366,299,47.84,346.56416666666667,55.450266666666664,-855.80668415491527,84.482758620689665,13.517241379310347,117.15434395160801,18.744695032257283,0,8.900000000000001E-2,0,0,0,0,0,0,{"$f":"'Tabla Fijo'!E247+'Tabla Fijo'!H247","v":0},0,null,0]
[null,240,"2042-04-04",31,8.900000000000001E-2,1.0084638888888888,7.3132157756791152,0.13673875223613768,true,1,0.13673875223613768,11107.67045968789,-1089126.9373962162,20325.919843705309,-8346.9478341004469,299,47.84,346.56416666666667,55.450266666666664,-871.30154991697304,84.482758620689665,13.517241379310347,117.15434395160798,18.74469503225728,0,8.900000000000001E-2,0,0,0,0,0,0,{"$f":"'Tabla Fijo'!E248+'Tabla Fijo'!H248","v":0},0,null,0]
[null,241,"2042-05-04",30,8.900000000000001E-2,1.0082166666666665,7.3733060319692774,0.13562437197970448,false,1,0.13562437197970448,11107.67045968789,-1109452.8572399216,20223.674770009246,-8228.4420245294205,299,47.84,346.56416666666667,55.450266666666664,-887.56228579193726,84.482758620689665,13.517241379310347,117.15434395160797,18.744695032257276,0,8.900000000000001E-2,0,0,0,0,0,0,{"$f":"'Tabla Fijo'!E249+'Tabla Fijo'!H249","v":0},0,null,0]
[null,242,"2042-06-04",31,8.900000000000001E-2,1.0084638888888888,7.4357128749676393,0.13448609660097346,false,1,0.13448609660097346,11107.67045968789,-1129676.5320099308,20669.127107005279,-8657.715421709443,299,47.84,346.56416666666667,55.450266666666664,-903.74122560794467,84.482758620689665,13.517241379310347,117.15434395160801,18.744695032257283,0,8.900000000000001E-2,0,0,0,0,0,0,{"$f":"'Tabla Fijo'!E250+'Tabla Fijo'!H250","v":0},0,null,0]
[null,243,"2042-07-04",30,8.900000000000001E-2,1.0082166666666665,7.4968096490902889,0.1333900748195396,false,1,0.1333900748195396,11107.67045968789,-1150345.6591169361,20559.67729209872,-8531.7303051172785,299,47.84,346.56416666666667,55.450266666666664,-920.27652729354895,84.482758620689665,13.517241379310347,117.15434395160803,18.744695032257283,0,8.900000000000001E-2,0,0,0,0,0,0,{"$f":"'Tabla Fijo'!E251+'Tabla Fijo'!H251","v":0},0,null,0]
[null,244,"2042-08-04",31,8.900000000000001E-2,1.0084638888888888,7.5602618129813388,0.13227055156779771,false,1,0.13227055156779771,11107.67045968789,-1170905.3364090349,21018.083126461028,-8973.6883976459103,299,47.84,346.56416666666667,55.450266666666664,-936.72426912722801,84.482758620689665,13.517241379310347,117.15434395160798,18.74469503225728,0,8.900000000000001E-2,0,0,0,0,0,0,{"$f":"'Tabla Fijo'!E252+'Tabla Fijo'!H252","v":0},0,null,0]
[null,245,"2042-09-04",31,8.900000000000001E-2,1.0084638888888888,7.624251028937322,0.13116042430981989,false,1,0.13116042430981989,11107.67045968789,-1191923.419535496,21195.977846700829,-9134.7686513845401,299,47.84,346.56416666666667,55.450266666666664,-953.53873562839692,84.482758620689665,13.517241379310347,117.15434395160801,18.744695032257283,0,8.900000000000001E-2,0,0,0,0,0,0,{"$f":"'Tabla Fijo'!E253+'Tabla Fijo'!H253","v":0},0,null,0]

{"sheet":"Tabla Fijo","index":5,"n_rows":248,"n_cols":17,"rows_kept":248,"cut":false,"hidden":false,"merged":[[0,4,0,11],[1,4,1,11],[250,0,250,14]]}
[null,null,null,null,"TABLA DE AMORTIZACIONES"]
[null,null,null,null,"CRÉDITO HIPOTECARIO PAGOS FIJOS"]
[]
[null,null,"Destino",{"$f":"'Parametros Fijo'!E23","v":"SUSTITUCION"},null,"Tasa",{"$f":"ESQUEMA","v":8.900000000000001E-2},null,null,null,null,{"$f":"IF(M4=\"\",\"\",\"CAT\")","v":"CAT"},{"$f":"IF(E248<>0,\"\",'Tabla Amortización Fijo'!M4)","v":0.12420590347901306},null,null,"MENOS PLAZO"]
[null,null,null,null,null,"Plazo",{"$f":"PLAZO_SIMULACION","v":14},null,null,null,null,null,null,null,null,"MENOS CUOTA",{"$f":"IRR(Q7:Q247,0)","v":9.806836192308932E-3}]
[]
["Mes","FECHA\n PAGO","Saldo","Amortización","Prepagos","Intereses","Pago del crédito","Apoyo Infonavit","Seguro de Vida","Seguro de daños",{"$f":"IF('Parametros Fijo'!E23=\"TERRENO\",\"Seguro de  desempleo\",\"Seguro de  desempleo y contenidos\")","v":"Seguro de  desempleo y contenidos"},"Comisión Mensual","Iva de comisión y Seguros","Pago Mensual",null,null,{"$f":"-C8+Simulación!K40+Simulación!K41","v":-977500}]
[1,{"$f":"'Tabla Amortización Fijo'!C14","v":"2022-04-04"},{"$f":"MTO_SOLICITADO","v":1000000},{"$f":"'Tabla Amortización Fijo'!AB14","v":0},null,{"$f":"'Tabla Amortización Fijo'!AC14","v":5191.666666666667},{"$f":"D8+F8","v":5191.666666666667},null,{"$f":"(C8*0.8/1000)","v":800},{"$f":"'Tabla Amortización Fijo'!R14","v":346.56416666666667},{"$f":"'Tabla Amortización Fijo'!W14+'Tabla Amortización Fijo'!U14","v":151.50026540068967},{"$f":"IF(C8<=0,,299)","v":299},{"$f":"IF(C8=0,0,'Tabla Amortización Fijo'!X14+'Tabla Amortización Fijo'!V14+'Tabla Amortización Fijo'!S14+'Tabla Amortización Fijo'!Q14)","v":127.53030913077701},{"$f":"G8+K8+J8+L8+M8+I8","v":6916.2614078648003},null,{"$f":"C8-D8-E8-H8","v":1000000},{"$f":"N8-M8+H8+E8","v":6788.7310987340234}]
[2,{"$f":"'Tabla Amortización Fijo'!C15","v":"2022-05-04"},{"$f":"IF(P8<0.01,0,P8)","v":1000000},{"$f":"IF(C9<=0,0,IF(C9<D8,C9,'Tabla Amortización Fijo'!AB15))","v":2891.003793021222},null,{"$f":"IF(C9<=0,0,'Tabla Amortización Fijo'!AC15)","v":7416.6666666666679},10307.67045968789,null,{"$f":"IF(C9<=0,0,(C9*0.8/1000))","v":800},{"$f":"IF(P8<=0.01,0,'Tabla Amortización Fijo'!R15)","v":346.56416666666667},{"$f":"IF(D9<=0,0,'Tabla Amortización Fijo'!W15+'Tabla Amortización Fijo'!U15)","v":201.63710257229764},{"$f":"IF(C9<=0,,299)","v":299},{"$f":"IF(C9=0,0,'Tabla Amortización Fijo'!X15+'Tabla Amortización Fijo'!V15+'Tabla Amortización Fijo'!S15+'Tabla Amortización Fijo'!Q15)","v":135.5522030782343},{"$f":"G9+K9+J9+L9+M9+I9","v":12090.423932005089},null,{"$f":"C9-D9-E9-H9","v":997108.9962069788},{"$f":"N9-M9+H9+E9","v":11954.871728926855}]
[3,{"$f":"'Tabla Amortización Fijo'!C16","v":"2022-06-04"},{"$f":"IF(P9<=0.01,0,P9)","v":997108.9962069788},{"$f":"IF(C10<=0,0,IF(C10<D9,C10,'Tabla Amortización Fijo'!AB16))","v":2668.250705680488},null,{"$f":"IF(C10<=0,0,'Tabla Amortización Fijo'!AC16)","v":7641.7325861111112},10309.983291791599,null,797.6871969655831,{"$f":"IF(P9<=0.01,0,'Tabla Amortización Fijo'!R16)","v":346.56416666666667},{"$f":"IF(D10<=0,0,'Tabla Amortización Fijo'!W16+'Tabla Amortización Fijo'!U16)","v":201.63710257229769},299,{"$f":"IF(C10=0,0,'Tabla Amortización Fijo'!X16+'Tabla Amortización Fijo'!V16+'Tabla Amortización Fijo'!S16+'Tabla Amortización Fijo'!Q16)","v":135.5522030782343},{"$f":"G10+K10+J10+L10+M10+I10","v":12090.423961074383},null,{"$f":"C10-D10-E10-H10","v":994440.74550129834},{"$f":"N10-M10+H10+E10","v":11954.871757996149}]
[4,{"$f":"'Tabla Amortización Fijo'!C17","v":"2022-07-04"},{"$f":"IF(P10<=0.01,0,P10)","v":994440.74550129834},{"$f":"IF(C11<=0,0,IF(C11<D10,C11,'Tabla Amortización Fijo'!AB17))","v":2936.6823341522222},null,{"$f":"IF(C11<=0,0,'Tabla Amortización Fijo'!AC17)","v":7375.4355625000007},10312.117896652224,null,795.55259640103873,{"$f":"IF(P10<=0.01,0,'Tabla Amortización Fijo'!R17)","v":346.56416666666667},{"$f":"IF(D11<=0,0,'Tabla Amortización Fijo'!W17+'Tabla Amortización Fijo'!U17)","v":201.63710257229764},299,{"$f":"IF(C11=0,0,'Tabla Amortización Fijo'!X17+'Tabla Amortización Fijo'!V17+'Tabla Amortización Fijo'!S17+'Tabla Amortización Fijo'!Q17)","v":135.5522030782343},{"$f":"G11+K11+J11+L11+M11+I11","v":12090.423965370463},null,991504.06316714617,11954.871762292229]
[5,{"$f":"'Tabla Amortización Fijo'!C18","v":"2022-08-04"},991504.06316714617,{"$f":"IF(C12<=0,0,IF(C12<D11,C12,'Tabla Amortización Fijo'!AB18))","v":2715.6902361592934},null,{"$f":"IF(C12<=0,0,'Tabla Amortización Fijo'!AC18)","v":7598.7770253611125},10314.467261520405,null,793.20325053371698,{"$f":"IF(P11<=0.01,0,'Tabla Amortización Fijo'!R18)","v":346.56416666666667},{"$f":"IF(D12<=0,0,'Tabla Amortización Fijo'!W18+'Tabla Amortización Fijo'!U18)","v":201.63710257229764},299,{"$f":"IF(C12=0,0,'Tabla Amortización Fijo'!X18+'Tabla Amortización Fijo'!V18+'Tabla Amortización Fijo'!S18+'Tabla Amortización Fijo'!Q18)","v":135.5522030782343},{"$f":"G12+K12+J12+L12+M12+I12","v":12090.423984371322},null,988788.37293098692,{"$f":"N12-M12+H12+E12","v":11954.871781293088}]
[6,{"$f":"'Tabla Amortización Fijo'!C19","v":"2022-09-04"},988788.37293098692,{"$f":"IF(C13<=0,0,IF(C13<D12,C13,'Tabla Amortización Fijo'!AB19))","v":2738.6755365747872},null,{"$f":"IF(C13<=0,0,'Tabla Amortización Fijo'!AC19)","v":7577.9642789444461},10316.639815519233,null,791.03069834478958,{"$f":"IF(P12<=0.01,0,'Tabla Amortización Fijo'!R19)","v":346.56416666666667},{"$f":"IF(D13<=0,0,'Tabla Amortización Fijo'!W19+'Tabla Amortización Fijo'!U19)","v":201.63710257229764},299,{"$f":"IF(C13=0,0,'Tabla Amortización Fijo'!X19+'Tabla Amortización Fijo'!V19+'Tabla Amortización Fijo'!S19+'Tabla Amortización Fijo'!Q19)","v":135.5522030782343},12090.423986181222,null,986049.69739441213,11954.871783102988]
[7,{"$f":"'Tabla Amortización Fijo'!C20","v":"2022-10-04"},986049.69739441213,{"$f":"IF(C14<=0,0,IF(C14<D13,C14,'Tabla Amortización Fijo'!AB20))","v":3005.6287794304699},null,{"$f":"IF(C14<=0,0,'Tabla Amortización Fijo'!AC20)","v":7313.2019416666681},10318.830721097138,null,788.83975791552973,{"$f":"IF(P13<=0.01,0,'Tabla Amortización Fijo'!R20)","v":346.56416666666667},{"$f":"IF(D14<=0,0,'Tabla Amortización Fijo'!W20+'Tabla Amortización Fijo'!U20)","v":201.63710257229764},299,{"$f":"IF(C14=0,0,'Tabla Amortización Fijo'!X20+'Tabla Amortización Fijo'!V20+'Tabla Amortización Fijo'!S20+'Tabla Amortización Fijo'!Q20)","v":135.5522030782343},12090.423951329867,null,983044.0686149816,11954.871748251633]
[8,{"$f":"'Tabla Amortización Fijo'!C21","v":"2022-11-04"},983044.0686149816,{"$f":"IF(C15<=0,0,IF(C15<D14,C15,'Tabla Amortización Fijo'!AB21))","v":2787.2946900494208},null,{"$f":"IF(C15<=0,0,'Tabla Amortización Fijo'!AC21)","v":7533.9405253611121},10321.235215410532,null,786.43525489198532,{"$f":"IF(P14<=0.01,0,'Tabla Amortización Fijo'!R21)","v":346.56416666666667},{"$f":"IF(D15<=0,0,'Tabla Amortización Fijo'!W21+'Tabla Amortización Fijo'!U21)","v":201.63710257229764},299,{"$f":"IF(C15=0,0,'Tabla Amortización Fijo'!X21+'Tabla Amortización Fijo'!V21+'Tabla Amortización Fijo'!S21+'Tabla Amortización Fijo'!Q21)","v":135.5522030782343},12090.423942619716,null,980256.77392493223,11954.871739541482]
[9,{"$f":"'Tabla Amortización Fijo'!C22","v":"2022-12-04"},980256.77392493223,{"$f":"IF(C16<=0,0,IF(C16<D15,C16,'Tabla Amortización Fijo'!AB22))","v":3053.2273006046953},null,{"$f":"IF(C16<=0,0,'Tabla Amortización Fijo'!AC22)","v":7270.2377850000012},10323.465085604697,null,784.20541913994589,{"$f":"IF(P15<=0.01,0,'Tabla Amortización Fijo'!R22)","v":346.56416666666667},{"$f":"IF(D16<=0,0,'Tabla Amortización Fijo'!W22+'Tabla Amortización Fijo'!U22)","v":201.63710257229764},299,{"$f":"IF(C16=0,0,'Tabla Amortización Fijo'!X22+'Tabla Amortización Fijo'!V22+'Tabla Amortización Fijo'!S22+'Tabla Amortización Fijo'!Q22)","v":135.5522030782343},12090.423977061842,null,977203.54662432754,11954.871773983608]
[10,{"$f":"'Tabla Amortización Fijo'!C23","v":"2023-01-04"},977203.54662432754,{"$f":"IF(C17<=0,0,IF(C17<D16,C17,'Tabla Amortización Fijo'!AB23))","v":2836.7282192314287},null,{"$f":"IF(C17<=0,0,'Tabla Amortización Fijo'!AC23)","v":7489.1794290277785},10325.907648259206,null,781.76283729946203,{"$f":"IF(P16<=0.01,0,'Tabla Amortización Fijo'!R23)","v":346.56416666666667},{"$f":"IF(D17<=0,0,'Tabla Amortización Fijo'!W23+'Tabla Amortización Fijo'!U23)","v":201.63710257229764},299,{"$f":"IF(C17=0,0,'Tabla Amortización Fijo'!X23+'Tabla Amortización Fijo'!V23+'Tabla Amortización Fijo'!S23+'Tabla Amortización Fijo'!Q23)","v":135.5522030782343},12090.423957875868,null,974366.81840509607,11954.871754797634]
[11,{"$f":"'Tabla Amortización Fijo'!C24","v":"2023-02-04"},974366.81840509607,{"$f":"IF(C18<=0,0,IF(C18<D17,C18,'Tabla Amortización Fijo'!AB24))","v":2860.7379716869787},null,{"$f":"IF(C18<=0,0,'Tabla Amortización Fijo'!AC24)","v":7467.4390455000002},10328.177017186979,null,779.49345472407686,{"$f":"IF(P17<=0.01,0,'Tabla Amortización Fijo'!R24)","v":346.56416666666667},{"$f":"IF(D18<=0,0,'Tabla Amortización Fijo'!W24+'Tabla Amortización Fijo'!U24)","v":201.63710257229764},299,{"$f":"IF(C18=0,0,'Tabla Amortización Fijo'!X24+'Tabla Amortización Fijo'!V24+'Tabla Amortización Fijo'!S24+'Tabla Amortización Fijo'!Q24)","v":135.5522030782343},12090.423944228256,null,971506.08043340908,11954.871741150022]
[12,{"$f":"'Tabla Amortización Fijo'!C25","v":"2023-03-04"},971506.08043340908,{"$f":"IF(C19<=0,0,IF(C19<D18,C19,'Tabla Amortización Fijo'!AB25))","v":3605.4846163410079},null,{"$f":"IF(C19<=0,0,'Tabla Amortización Fijo'!AC25)","v":6724.9809759999998},10330.465592341008,null,777.20486434672728,{"$f":"IF(P18<=0.01,0,'Tabla Amortización Fijo'!R25)","v":346.56416666666667},{"$f":"IF(D19<=0,0,'Tabla Amortización Fijo'!W25+'Tabla Amortización Fijo'!U25)","v":201.63710257229764},299,{"$f":"IF(C19=0,0,'Tabla Amortización Fijo'!X25+'Tabla Amortización Fijo'!V25+'Tabla Amortización Fijo'!S25+'Tabla Amortización Fijo'!Q25)","v":135.5522030782343},12090.423929004935,null,967900.59581706813,11954.871725926701]
[13,{"$f":"'Tabla Amortización Fijo'!C26","v":"2023-04-04"},967900.59581706813,{"$f":"IF(C20<=0,0,IF(C20<D19,C20,'Tabla Amortización Fijo'!AB26))","v":2915.4673612028701},null,{"$f":"IF(C20<=0,0,'Tabla Amortización Fijo'!AC26)","v":7417.8826538888889},10333.350015091759,null,774.32047665365462,{"$f":"IF(P19<=0.01,0,'Tabla Amortización Fijo'!R26)","v":346.56416666666667},{"$f":"IF(D20<=0,0,'Tabla Amortización Fijo'!W26+'Tabla Amortización Fijo'!U26)","v":201.63710257229764},299,{"$f":"IF(C20=0,0,'Tabla Amortización Fijo'!X26+'Tabla Amortización Fijo'!V26+'Tabla Amortización Fijo'!S26+'Tabla Amortización Fijo'!Q26)","v":135.5522030782343},12090.423964062613,null,964985.12845586531,11954.871760984379]
[14,{"$f":"'Tabla Amortización Fijo'!C27","v":"2023-05-04"},964985.12845586531,{"$f":"IF(C21<=0,0,IF(C21<D20,C21,'Tabla Amortización Fijo'!AB27))","v":3178.7093208755296},null,{"$f":"IF(C21<=0,0,'Tabla Amortización Fijo'!AC27)","v":7156.9730475000006},10335.68236837553,null,771.98810276469226,{"$f":"IF(P20<=0.01,0,'Tabla Amortización Fijo'!R27)","v":346.56416666666667},{"$f":"IF(D21<=0,0,'Tabla Amortización Fijo'!W27+'Tabla Amortización Fijo'!U27)","v":201.63710257229764},299,{"$f":"IF(C21=0,0,'Tabla Amortización Fijo'!X27+'Tabla Amortización Fijo'!V27+'Tabla Amortización Fijo'!S27+'Tabla Amortización Fijo'!Q27)","v":135.5522030782343},12090.423943457421,null,961806.41913498973,11954.871740379187]
[15,{"$f":"'Tabla Amortización Fijo'!C28","v":"2023-06-04"},961806.41913498973,{"$f":"IF(C22<=0,0,IF(C22<D21,C22,'Tabla Amortización Fijo'!AB28))","v":2967.0477955092406},null,{"$f":"IF(C22<=0,0,'Tabla Amortización Fijo'!AC28)","v":7371.1775355000009},10338.225331009242,null,769.4451353079919,{"$f":"IF(P21<=0.01,0,'Tabla Amortización Fijo'!R28)","v":346.56416666666667},{"$f":"IF(D22<=0,0,'Tabla Amortización Fijo'!W28+'Tabla Amortización Fijo'!U28)","v":201.63710257229764},299,{"$f":"IF(C22=0,0,'Tabla Amortización Fijo'!X28+'Tabla Amortización Fijo'!V28+'Tabla Amortización Fijo'!S28+'Tabla Amortización Fijo'!Q28)","v":135.5522030782343},12090.423938634432,null,958839.37133948051,11954.871735556198]
[16,{"$f":"'Tabla Amortización Fijo'!C29","v":"2023-07-04"},958839.37133948051,{"$f":"IF(C23<=0,0,IF(C23<D22,C23,'Tabla Amortización Fijo'!AB29))","v":3229.2069585151576},null,{"$f":"IF(C23<=0,0,'Tabla Amortización Fijo'!AC29)","v":7111.3919941666682},10340.598952681827,null,767.07149707158442,{"$f":"IF(P22<=0.01,0,'Tabla Amortización Fijo'!R29)","v":346.56416666666667},{"$f":"IF(D23<=0,0,'Tabla Amortización Fijo'!W29+'Tabla Amortización Fijo'!U29)","v":201.63710257229769},299,{"$f":"IF(C23=0,0,'Tabla Amortización Fijo'!X29+'Tabla Amortización Fijo'!V29+'Tabla Amortización Fijo'!S29+'Tabla Amortización Fijo'!Q29)","v":135.5522030782343},12090.423922070611,null,955610.16438096541,11954.871718992377]
[17,{"$f":"'Tabla Amortización Fijo'!C30","v":"2023-08-04"},955610.16438096541,{"$f":"IF(C24<=0,0,IF(C24<D23,C24,'Tabla Amortización Fijo'!AB30))","v":3019.4922072745512},null,{"$f":"IF(C24<=0,0,'Tabla Amortización Fijo'!AC30)","v":7323.6900873333343},10343.182294607886,null,764.48813150477235,{"$f":"IF(P23<=0.01,0,'Tabla Amortización Fijo'!R30)","v":346.56416666666667},{"$f":"IF(D24<=0,0,'Tabla Amortización Fijo'!W30+'Tabla Amortización Fijo'!U30)","v":201.63710257229764},299,{"$f":"IF(C24=0,0,'Tabla Amortización Fijo'!X30+'Tabla Amortización Fijo'!V30+'Tabla Amortización Fijo'!S30+'Tabla Amortización Fijo'!Q30)","v":135.5522030782343},12090.423898429857,null,952590.67217369087,11954.871695351623]
[18,{"$f":"'Tabla Amortización Fijo'!C31","v":"2023-09-04"},952590.67217369087,{"$f":"IF(C25<=0,0,IF(C25<D24,C25,'Tabla Amortización Fijo'!AB31))","v":3045.0488538177879},null,{"$f":"IF(C25<=0,0,'Tabla Amortización Fijo'!AC31)","v":7300.5490514722223},10345.597905290011,null,762.07253773895275,{"$f":"IF(P24<=0.01,0,'Tabla Amortización Fijo'!R31)","v":346.56416666666667},{"$f":"IF(D25<=0,0,'Tabla Amortización Fijo'!W31+'Tabla Amortización Fijo'!U31)","v":201.63710257229769},299,{"$f":"IF(C25=0,0,'Tabla Amortización Fijo'!X31+'Tabla Amortización Fijo'!V31+'Tabla Amortización Fijo'!S31+'Tabla Amortización Fijo'!Q31)","v":135.5522030782343},12090.423915346164,null,949545.62331987312,11954.87171226793]
[19,{"$f":"'Tabla Amortización Fijo'!C32","v":"2023-10-04"},949545.62331987312,{"$f":"IF(C26<=0,0,IF(C26<D25,C26,'Tabla Amortización Fijo'!AB32))","v":3305.5705880762653},null,{"$f":"IF(C26<=0,0,'Tabla Amortización Fijo'!AC32)","v":7042.4633483333346},10348.0339364096,null,759.63649865589855,{"$f":"IF(P25<=0.01,0,'Tabla Amortización Fijo'!R32)","v":346.56416666666667},{"$f":"IF(D26<=0,0,'Tabla Amortización Fijo'!W32+'Tabla Amortización Fijo'!U32)","v":201.63710257229764},299,{"$f":"IF(C26=0,0,'Tabla Amortización Fijo'!X32+'Tabla Amortización Fijo'!V32+'Tabla Amortización Fijo'!S32+'Tabla Amortización Fijo'!Q32)","v":135.5522030782343},12090.423907382698,null,946240.05273179687,11954.871704304463]
[20,{"$f":"'Tabla Amortización Fijo'!C33","v":"2023-11-04"},946240.05273179687,{"$f":"IF(C27<=0,0,IF(C27<D26,C27,'Tabla Amortización Fijo'!AB33))","v":3098.7997911495968},null,{"$f":"IF(C27<=0,0,'Tabla Amortización Fijo'!AC33)","v":7251.8786054166685},10350.678396566265,null,756.99204218543753,{"$f":"IF(P26<=0.01,0,'Tabla Amortización Fijo'!R33)","v":346.56416666666667},{"$f":"IF(D27<=0,0,'Tabla Amortización Fijo'!W33+'Tabla Amortización Fijo'!U33)","v":201.63710257229764},299,{"$f":"IF(C27=0,0,'Tabla Amortización Fijo'!X33+'Tabla Amortización Fijo'!V33+'Tabla Amortización Fijo'!S33+'Tabla Amortización Fijo'!Q33)","v":135.5522030782343},12090.423911068901,null,943141.2529406473,11954.871707990667]
[21,{"$f":"'Tabla Amortización Fijo'!C34","v":"2023-12-04"},943141.2529406473,{"$f":"IF(C28<=0,0,IF(C28<D27,C28,'Tabla Amortización Fijo'!AB34))","v":3358.1931646922367},null,{"$f":"IF(C28<=0,0,'Tabla Amortización Fijo'!AC34)","v":6994.964270833334},10353.157435525571,null,754.5130023525179,{"$f":"IF(P27<=0.01,0,'Tabla Amortización Fijo'!R34)","v":346.56416666666667},{"$f":"IF(D28<=0,0,'Tabla Amortización Fijo'!W34+'Tabla Amortización Fijo'!U34)","v":201.63710257229764},299,{"$f":"IF(C28=0,0,'Tabla Amortización Fijo'!X34+'Tabla Amortización Fijo'!V34+'Tabla Amortización Fijo'!S34+'Tabla Amortización Fijo'!Q34)","v":135.5522030782343},12090.423910195288,null,939783.05977595504,11954.871707117054]
[22,{"$f":"'Tabla Amortización Fijo'!C35","v":"2024-01-04"},939783.05977595504,{"$f":"IF(C29<=0,0,IF(C29<D28,C29,'Tabla Amortización Fijo'!AB35))","v":3153.451062084182},null,{"$f":"IF(C29<=0,0,'Tabla Amortización Fijo'!AC35)","v":7202.3929515000018},10355.844013584185,null,751.82644782076409,{"$f":"IF(P28<=0.01,0,'Tabla Amortización Fijo'!R35)","v":346.56416666666667},{"$f":"IF(D29<=0,0,'Tabla Amortización Fijo'!W35+'Tabla Amortización Fijo'!U35)","v":201.63710257229764},299,{"$f":"IF(C29=0,0,'Tabla Amortización Fijo'!X35+'Tabla Amortización Fijo'!V35+'Tabla Amortización Fijo'!S35+'Tabla Amortización Fijo'!Q35)","v":135.5522030782343},12090.423933722148,null,936629.60871387087,11954.871730643914]
[23,{"$f":"'Tabla Amortización Fijo'!C36","v":"2024-02-04"},936629.60871387087,{"$f":"IF(C30<=0,0,IF(C30<D29,C30,'Tabla Amortización Fijo'!AB36))","v":3180.1415214902108},null,{"$f":"IF(C30<=0,0,'Tabla Amortización Fijo'!AC36)","v":7178.2252610833348},10358.366782573547,null,749.30368697109679,{"$f":"IF(P29<=0.01,0,'Tabla Amortización Fijo'!R36)","v":346.56416666666667},{"$f":"IF(D30<=0,0,'Tabla Amortización Fijo'!W36+'Tabla Amortización Fijo'!U36)","v":201.63710257229764},299,{"$f":"IF(C30=0,0,'Tabla Amortización Fijo'!X36+'Tabla Amortización Fijo'!V36+'Tabla Amortización Fijo'!S36+'Tabla Amortización Fijo'!Q36)","v":135.5522030782343},12090.423941861842,null,933449.46719238069,11954.871738783608]
[24,{"$f":"'Tabla Amortización Fijo'!C37","v":"2024-03-04"},933449.46719238069,{"$f":"IF(C31<=0,0,IF(C31<D30,C31,'Tabla Amortización Fijo'!AB37))","v":3668.5967892019439},null,{"$f":"IF(C31<=0,0,'Tabla Amortización Fijo'!AC37)","v":6692.314116861111},10360.910906063054,null,746.75957375390453,{"$f":"IF(P30<=0.01,0,'Tabla Amortización Fijo'!R37)","v":346.56416666666667},{"$f":"IF(D31<=0,0,'Tabla Amortización Fijo'!W37+'Tabla Amortización Fijo'!U37)","v":201.63710257229764},299,{"$f":"IF(C31=0,0,'Tabla Amortización Fijo'!X37+'Tabla Amortización Fijo'!V37+'Tabla Amortización Fijo'!S37+'Tabla Amortización Fijo'!Q37)","v":135.5522030782343},12090.423952134159,null,929780.87040317873,11954.871749055925]
[25,{"$f":"'Tabla Amortización Fijo'!C38","v":"2024-04-04"},929780.87040317873,{"$f":"IF(C32<=0,0,IF(C32<D31,C32,'Tabla Amortización Fijo'!AB38))","v":3238.1084815809845},null,{"$f":"IF(C32<=0,0,'Tabla Amortización Fijo'!AC38)","v":7125.7372786944452},10363.84576027543,null,743.8246963225431,{"$f":"IF(P31<=0.01,0,'Tabla Amortización Fijo'!R38)","v":346.56416666666667},{"$f":"IF(D32<=0,0,'Tabla Amortización Fijo'!W38+'Tabla Amortización Fijo'!U38)","v":201.63710257229764},299,{"$f":"IF(C32=0,0,'Tabla Amortización Fijo'!X38+'Tabla Amortización Fijo'!V38+'Tabla Amortización Fijo'!S38+'Tabla Amortización Fijo'!Q38)","v":135.5522030782343},12090.423928915172,null,926542.76192159776,11954.871725836938]
[26,{"$f":"'Tabla Amortización Fijo'!C39","v":"2024-05-04"},926542.76192159776,{"$f":"IF(C33<=0,0,IF(C33<D32,C33,'Tabla Amortización Fijo'!AB39))","v":3494.5774325654279},null,{"$f":"IF(C33<=0,0,'Tabla Amortización Fijo'!AC39)","v":6871.8588033333344},10366.436235898762,null,741.23420953727828,{"$f":"IF(P32<=0.01,0,'Tabla Amortización Fijo'!R39)","v":346.56416666666667},{"$f":"IF(D33<=0,0,'Tabla Amortización Fijo'!W39+'Tabla Amortización Fijo'!U39)","v":201.63710257229764},299,{"$f":"IF(C33=0,0,'Tabla Amortización Fijo'!X39+'Tabla Amortización Fijo'!V39+'Tabla Amortización Fijo'!S39+'Tabla Amortización Fijo'!Q39)","v":135.5522030782343},12090.42391775324,null,923048.18448903237,11954.871714675006]
[27,{"$f":"'Tabla Amortización Fijo'!C40","v":"2024-06-04"},923048.18448903237,{"$f":"IF(C34<=0,0,IF(C34<D33,C34,'Tabla Amortización Fijo'!AB40))","v":3295.0931870821069},null,{"$f":"IF(C34<=0,0,'Tabla Amortización Fijo'!AC40)","v":7074.138690611112},10369.231877693219,null,738.43854759122598,{"$f":"IF(P33<=0.01,0,'Tabla Amortización Fijo'!R40)","v":346.56416666666667},{"$f":"IF(D34<=0,0,'Tabla Amortización Fijo'!W40+'Tabla Amortización Fijo'!U40)","v":201.63710257229764},299,{"$f":"IF(C34=0,0,'Tabla Amortización Fijo'!X40+'Tabla Amortización Fijo'!V40+'Tabla Amortización Fijo'!S40+'Tabla Amortización Fijo'!Q40)","v":135.5522030782343},12090.423897601644,null,919753.09130195028,11954.87169452341]
[28,{"$f":"'Tabla Amortización Fijo'!C41","v":"2024-07-04"},919753.09130195028,{"$f":"IF(C35<=0,0,IF(C35<D34,C35,'Tabla Amortización Fijo'!AB41))","v":3550.3658928235309},null,{"$f":"IF(C35<=0,0,'Tabla Amortización Fijo'!AC41)","v":6821.5020841666683},10371.867976990199,null,735.80247304156023,{"$f":"IF(P34<=0.01,0,'Tabla Amortización Fijo'!R41)","v":346.56416666666667},{"$f":"IF(D35<=0,0,'Tabla Amortización Fijo'!W41+'Tabla Amortización Fijo'!U41)","v":201.63710257229764},299,{"$f":"IF(C35=0,0,'Tabla Amortización Fijo'!X41+'Tabla Amortización Fijo'!V41+'Tabla Amortización Fijo'!S41+'Tabla Amortización Fijo'!Q41)","v":135.5522030782343},12090.423922348959,null,916202.72540912672,11954.871719270724]
[29,{"$f":"'Tabla Amortización Fijo'!C42","v":"2024-08-04"},916202.72540912672,{"$f":"IF(C36<=0,0,IF(C36<D35,C36,'Tabla Amortización Fijo'!AB42))","v":3353.032392127865},null,{"$f":"IF(C36<=0,0,'Tabla Amortización Fijo'!AC42)","v":7021.6758457777787},10374.708237905645,null,732.96218032730133,{"$f":"IF(P35<=0.01,0,'Tabla Amortización Fijo'!R42)","v":346.56416666666667},{"$f":"IF(D36<=0,0,'Tabla Amortización Fijo'!W42+'Tabla Amortización Fijo'!U42)","v":201.63710257229764},299,{"$f":"IF(C36=0,0,'Tabla Amortización Fijo'!X42+'Tabla Amortización Fijo'!V42+'Tabla Amortización Fijo'!S42+'Tabla Amortización Fijo'!Q42)","v":135.5522030782343},12090.423890550146,null,912849.69301699882,11954.871687471912]
[30,{"$f":"'Tabla Amortización Fijo'!C43","v":"2024-09-04"},912849.69301699882,{"$f":"IF(C37<=0,0,IF(C37<D36,C37,'Tabla Amortización Fijo'!AB43))","v":3381.4120857356793},null,{"$f":"IF(C37<=0,0,'Tabla Amortización Fijo'!AC43)","v":6995.9785964166667},10377.390682152345,null,730.27975441359911,{"$f":"IF(P36<=0.01,0,'Tabla Amortización Fijo'!R43)","v":346.56416666666667},{"$f":"IF(D37<=0,0,'Tabla Amortización Fijo'!W43+'Tabla Amortización Fijo'!U43)","v":201.63710257229764},299,{"$f":"IF(C37=0,0,'Tabla Amortización Fijo'!X43+'Tabla Amortización Fijo'!V43+'Tabla Amortización Fijo'!S43+'Tabla Amortización Fijo'!Q43)","v":135.5522030782343},12090.423908883144,null,909468.28093126311,11954.87170580491]
[31,{"$f":"'Tabla Amortización Fijo'!C44","v":"2024-10-04"},909468.28093126311,{"$f":"IF(C38<=0,0,IF(C38<D37,C38,'Tabla Amortización Fijo'!AB44))","v":3634.8727513693439},null,{"$f":"IF(C38<=0,0,'Tabla Amortización Fijo'!AC44)","v":6745.223076666668},10380.095828036012,null,727.57462474501051,{"$f":"IF(P37<=0.01,0,'Tabla Amortización Fijo'!R44)","v":346.56416666666667},{"$f":"IF(D38<=0,0,'Tabla Amortización Fijo'!W44+'Tabla Amortización Fijo'!U44)","v":201.63710257229764},299,{"$f":"IF(C38=0,0,'Tabla Amortización Fijo'!X44+'Tabla Amortización Fijo'!V44+'Tabla Amortización Fijo'!S44+'Tabla Amortización Fijo'!Q44)","v":135.5522030782343},12090.423925098221,null,905833.40817989374,11954.871722019987]
[32,{"$f":"'Tabla Amortización Fijo'!C45","v":"2024-11-04"},905833.40817989374,{"$f":"IF(C39<=0,0,IF(C39<D38,C39,'Tabla Amortización Fijo'!AB45))","v":3440.797141009733},null,{"$f":"IF(C39<=0,0,'Tabla Amortización Fijo'!AC45)","v":6942.2066060833349},10383.003747093067,null,724.66672654391505,{"$f":"IF(P38<=0.01,0,'Tabla Amortización Fijo'!R45)","v":346.56416666666667},{"$f":"IF(D39<=0,0,'Tabla Amortización Fijo'!W45+'Tabla Amortización Fijo'!U45)","v":201.63710257229764},299,{"$f":"IF(C39=0,0,'Tabla Amortización Fijo'!X45+'Tabla Amortización Fijo'!V45+'Tabla Amortización Fijo'!S45+'Tabla Amortización Fijo'!Q45)","v":135.5522030782343},12090.423945954182,null,902392.61103888403,11954.871742875948]
[33,{"$f":"'Tabla Amortización Fijo'!C46","v":"2024-12-04"},902392.61103888403,{"$f":"IF(C40<=0,0,IF(C40<D39,C40,'Tabla Amortización Fijo'!AB46))","v":3693.0111723183913},null,{"$f":"IF(C40<=0,0,'Tabla Amortización Fijo'!AC46)","v":6692.7451908333342},10385.756363151726,null,721.91408883110728,{"$f":"IF(P39<=0.01,0,'Tabla Amortización Fijo'!R46)","v":346.56416666666667},{"$f":"IF(D40<=0,0,'Tabla Amortización Fijo'!W46+'Tabla Amortización Fijo'!U46)","v":201.63710257229764},299,{"$f":"IF(C40=0,0,'Tabla Amortización Fijo'!X46+'Tabla Amortización Fijo'!V46+'Tabla Amortización Fijo'!S46+'Tabla Amortización Fijo'!Q46)","v":135.5522030782343},12090.423924300032,null,898699.59986656567,11954.871721221798]
[34,{"$f":"'Tabla Amortización Fijo'!C47","v":"2025-01-04"},898699.59986656567,{"$f":"IF(C41<=0,0,IF(C41<D40,C41,'Tabla Amortización Fijo'!AB47))","v":3501.1769019283738},null,{"$f":"IF(C41<=0,0,'Tabla Amortización Fijo'!AC47)","v":6887.5338788888894},10388.710780817262,null,718.95967989325254,{"$f":"IF(P40<=0.01,0,'Tabla Amortización Fijo'!R47)","v":346.56416666666667},{"$f":"IF(D41<=0,0,'Tabla Amortización Fijo'!W47+'Tabla Amortización Fijo'!U47)","v":201.63710257229764},299,{"$f":"IF(C41=0,0,'Tabla Amortización Fijo'!X47+'Tabla Amortización Fijo'!V47+'Tabla Amortización Fijo'!S47+'Tabla Amortización Fijo'!Q47)","v":135.5522030782343},12090.423933027714,null,895198.42296463728,11954.87172994948]
[35,{"$f":"'Tabla Amortización Fijo'!C48","v":"2025-02-04"},895198.42296463728,{"$f":"IF(C42<=0,0,IF(C42<D41,C42,'Tabla Amortización Fijo'!AB48))","v":3530.8104742066398},null,{"$f":"IF(C42<=0,0,'Tabla Amortización Fijo'!AC48)","v":6860.7012243888894},10391.511698595528,null,716.15873837170977,{"$f":"IF(P41<=0.01,0,'Tabla Amortización Fijo'!R48)","v":346.56416666666667},{"$f":"IF(D42<=0,0,'Tabla Amortización Fijo'!W48+'Tabla Amortización Fijo'!U48)","v":201.63710257229764},299,{"$f":"IF(C42=0,0,'Tabla Amortización Fijo'!X48+'Tabla Amortización Fijo'!V48+'Tabla Amortización Fijo'!S48+'Tabla Amortización Fijo'!Q48)","v":135.5522030782343},12090.423909284438,null,891667.61249043059,11954.871706206204]
[36,{"$f":"'Tabla Amortización Fijo'!C49","v":"2025-03-04"},891667.61249043059,{"$f":"IF(C43<=0,0,IF(C43<D42,C43,'Tabla Amortización Fijo'!AB49))","v":4222.015007678453},null,{"$f":"IF(C43<=0,0,'Tabla Amortización Fijo'!AC49)","v":6172.3213447777771},10394.33635245623,null,713.3340899923445,{"$f":"IF(P42<=0.01,0,'Tabla Amortización Fijo'!R49)","v":346.56416666666667},{"$f":"IF(D43<=0,0,'Tabla Amortización Fijo'!W49+'Tabla Amortización Fijo'!U49)","v":201.63710257229764},299,{"$f":"IF(C43=0,0,'Tabla Amortización Fijo'!X49+'Tabla Amortización Fijo'!V49+'Tabla Amortización Fijo'!S49+'Tabla Amortización Fijo'!Q49)","v":135.5522030782343},12090.423914765774,null,887445.59748275217,11954.87171168754]
[37,{"$f":"'Tabla Amortización Fijo'!C50","v":"2025-04-04"},887445.59748275217,{"$f":"IF(C44<=0,0,IF(C44<D43,C44,'Tabla Amortización Fijo'!AB50))","v":3596.429527660262},null,{"$f":"IF(C44<=0,0,'Tabla Amortización Fijo'!AC50)","v":6801.2843966944456},10397.713924354708,null,709.95647798620178,{"$f":"IF(P43<=0.01,0,'Tabla Amortización Fijo'!R50)","v":346.56416666666667},{"$f":"IF(D44<=0,0,'Tabla Amortización Fijo'!W50+'Tabla Amortización Fijo'!U50)","v":201.63710257229764},299,{"$f":"IF(C44=0,0,'Tabla Amortización Fijo'!X50+'Tabla Amortización Fijo'!V50+'Tabla Amortización Fijo'!S50+'Tabla Amortización Fijo'!Q50)","v":135.5522030782343},12090.423874658109,null,883849.16795509192,11954.871671579875]
[38,{"$f":"'Tabla Amortización Fijo'!C51","v":"2025-05-04"},883849.16795509192,{"$f":"IF(C45<=0,0,IF(C45<D44,C45,'Tabla Amortización Fijo'!AB51))","v":3845.3764629902162},null,{"$f":"IF(C45<=0,0,'Tabla Amortización Fijo'!AC51)","v":6555.2146033333347},10400.591066323552,null,707.07933436407359,{"$f":"IF(P44<=0.01,0,'Tabla Amortización Fijo'!R51)","v":346.56416666666667},{"$f":"IF(D45<=0,0,'Tabla Amortización Fijo'!W51+'Tabla Amortización Fijo'!U51)","v":201.63710257229764},299,{"$f":"IF(C45=0,0,'Tabla Amortización Fijo'!X51+'Tabla Amortización Fijo'!V51+'Tabla Amortización Fijo'!S51+'Tabla Amortización Fijo'!Q51)","v":135.5522030782343},12090.423873004826,null,880003.79149210174,11954.871669926591]
[39,{"$f":"'Tabla Amortización Fijo'!C52","v":"2025-06-04"},880003.79149210174,{"$f":"IF(C46<=0,0,IF(C46<D45,C46,'Tabla Amortización Fijo'!AB52))","v":3659.4161466977939},null,{"$f":"IF(C46<=0,0,'Tabla Amortización Fijo'!AC52)","v":6744.2511917222228},10403.667338420017,null,704.0030331936814,{"$f":"IF(P45<=0.01,0,'Tabla Amortización Fijo'!R52)","v":346.56416666666667},{"$f":"IF(D46<=0,0,'Tabla Amortización Fijo'!W52+'Tabla Amortización Fijo'!U52)","v":201.63710257229764},299,{"$f":"IF(C46=0,0,'Tabla Amortización Fijo'!X52+'Tabla Amortización Fijo'!V52+'Tabla Amortización Fijo'!S52+'Tabla Amortización Fijo'!Q52)","v":135.5522030782343},12090.423843930897,null,876344.37534540391,11954.871640852663]
[40,{"$f":"'Tabla Amortización Fijo'!C53","v":"2025-07-04"},876344.37534540391,{"$f":"IF(C47<=0,0,IF(C47<D46,C47,'Tabla Amortización Fijo'!AB53))","v":3907.0408422664864},null,{"$f":"IF(C47<=0,0,'Tabla Amortización Fijo'!AC53)","v":6499.5540033333336},10406.59484559982,null,701.07550027632317,{"$f":"IF(P46<=0.01,0,'Tabla Amortización Fijo'!R53)","v":346.56416666666667},{"$f":"IF(D47<=0,0,'Tabla Amortización Fijo'!W53+'Tabla Amortización Fijo'!U53)","v":201.63710257229764},299,{"$f":"IF(C47=0,0,'Tabla Amortización Fijo'!X53+'Tabla Amortización Fijo'!V53+'Tabla Amortización Fijo'!S53+'Tabla Amortización Fijo'!Q53)","v":135.5522030782343},12090.423818193343,null,872437.33450313739,11954.871615115109]
[41,{"$f":"'Tabla Amortización Fijo'!C54","v":"2025-08-04"},872437.33450313739,{"$f":"IF(C48<=0,0,IF(C48<D47,C48,'Tabla Amortización Fijo'!AB54))","v":3723.4577979349456},null,{"$f":"IF(C48<=0,0,'Tabla Amortización Fijo'!AC54)","v":6686.2626829999999},10409.720480934946,null,697.94986760250993,{"$f":"IF(P47<=0.01,0,'Tabla Amortización Fijo'!R54)","v":346.56416666666667},{"$f":"IF(D48<=0,0,'Tabla Amortización Fijo'!W54+'Tabla Amortización Fijo'!U54)","v":201.63710257229764},299,{"$f":"IF(C48=0,0,'Tabla Amortización Fijo'!X54+'Tabla Amortización Fijo'!V54+'Tabla Amortización Fijo'!S54+'Tabla Amortización Fijo'!Q54)","v":135.5522030782343},12090.423820854656,null,868713.87670520239,11954.871617776422]
[42,{"$f":"'Tabla Amortización Fijo'!C55","v":"2025-09-04"},868713.87670520239,{"$f":"IF(C49<=0,0,IF(C49<D48,C49,'Tabla Amortización Fijo'!AB55))","v":3754.9727310191347},null,{"$f":"IF(C49<=0,0,'Tabla Amortización Fijo'!AC55)","v":6657.7264992777791},10412.699230296914,null,694.97110136416188,{"$f":"IF(P48<=0.01,0,'Tabla Amortización Fijo'!R55)","v":346.56416666666667},{"$f":"IF(D49<=0,0,'Tabla Amortización Fijo'!W55+'Tabla Amortización Fijo'!U55)","v":201.63710257229764},299,{"$f":"IF(C49=0,0,'Tabla Amortización Fijo'!X55+'Tabla Amortización Fijo'!V55+'Tabla Amortización Fijo'!S55+'Tabla Amortización Fijo'!Q55)","v":135.5522030782343},12090.423803978276,null,864958.90397418325,11954.871600900042]
[43,{"$f":"'Tabla Amortización Fijo'!C56","v":"2025-10-04"},864958.90397418325,{"$f":"IF(C50<=0,0,IF(C50<D49,C50,'Tabla Amortización Fijo'!AB56))","v":4000.5914653666828},null,{"$f":"IF(C50<=0,0,'Tabla Amortización Fijo'!AC56)","v":6415.1117674999996},10415.703232866683,null,691.96712317934669,{"$f":"IF(P49<=0.01,0,'Tabla Amortización Fijo'!R56)","v":346.56416666666667},{"$f":"IF(D50<=0,0,'Tabla Amortización Fijo'!W56+'Tabla Amortización Fijo'!U56)","v":201.63710257229764},299,{"$f":"IF(C50=0,0,'Tabla Amortización Fijo'!X56+'Tabla Amortización Fijo'!V56+'Tabla Amortización Fijo'!S56+'Tabla Amortización Fijo'!Q56)","v":135.5522030782343},12090.423828363229,null,860958.3125088166,11954.871625284995]
[44,{"$f":"'Tabla Amortización Fijo'!C57","v":"2025-11-04"},860958.3125088166,{"$f":"IF(C51<=0,0,IF(C51<D50,C51,'Tabla Amortización Fijo'!AB57))","v":3820.6149646479885},null,{"$f":"IF(C51<=0,0,'Tabla Amortización Fijo'!AC57)","v":6598.288749166667},10418.903713814656,null,688.76665000705327,{"$f":"IF(P50<=0.01,0,'Tabla Amortización Fijo'!R57)","v":346.56416666666667},{"$f":"IF(D51<=0,0,'Tabla Amortización Fijo'!W57+'Tabla Amortización Fijo'!U57)","v":201.63710257229764},299,{"$f":"IF(C51=0,0,'Tabla Amortización Fijo'!X57+'Tabla Amortización Fijo'!V57+'Tabla Amortización Fijo'!S57+'Tabla Amortización Fijo'!Q57)","v":135.5522030782343},12090.423836138909,null,857137.69754416856,11954.871633060675]
[45,{"$f":"'Tabla Amortización Fijo'!C58","v":"2025-12-04"},857137.69754416856,{"$f":"IF(C52<=0,0,IF(C52<D51,C52,'Tabla Amortización Fijo'!AB58))","v":4064.8557115333042},null,{"$f":"IF(C52<=0,0,'Tabla Amortización Fijo'!AC58)","v":6357.1045341666668},10421.960245699971,null,685.71015803533487,{"$f":"IF(P51<=0.01,0,'Tabla Amortización Fijo'!R58)","v":346.56416666666667},{"$f":"IF(D52<=0,0,'Tabla Amortización Fijo'!W58+'Tabla Amortización Fijo'!U58)","v":201.63710257229764},299,{"$f":"IF(C52=0,0,'Tabla Amortización Fijo'!X58+'Tabla Amortización Fijo'!V58+'Tabla Amortización Fijo'!S58+'Tabla Amortización Fijo'!Q58)","v":135.5522030782343},12090.423876052506,null,853072.84183263523,11954.871672974272]
[46,{"$f":"'Tabla Amortización Fijo'!C59","v":"2026-01-04"},853072.84183263523,{"$f":"IF(C53<=0,0,IF(C53<D52,C53,'Tabla Amortización Fijo'!AB59))","v":3887.3567122877794},null,{"$f":"IF(C53<=0,0,'Tabla Amortización Fijo'!AC59)","v":6537.8553832500011},10425.21209553778,null,682.45827346610827,{"$f":"IF(P52<=0.01,0,'Tabla Amortización Fijo'!R59)","v":346.56416666666667},{"$f":"IF(D53<=0,0,'Tabla Amortización Fijo'!W59+'Tabla Amortización Fijo'!U59)","v":201.63710257229769},299,{"$f":"IF(C53=0,0,'Tabla Amortización Fijo'!X59+'Tabla Amortización Fijo'!V59+'Tabla Amortización Fijo'!S59+'Tabla Amortización Fijo'!Q59)","v":135.5522030782343},12090.423841321088,null,849185.48512034747,11954.871638242854]
[47,{"$f":"'Tabla Amortización Fijo'!C60","v":"2026-02-04"},849185.48512034747,{"$f":"IF(C54<=0,0,IF(C54<D53,C54,'Tabla Amortización Fijo'!AB60))","v":3920.2588675720604},null,{"$f":"IF(C54<=0,0,'Tabla Amortización Fijo'!AC60)","v":6508.0630881388888},10428.32195571095,null,679.34838809627809,{"$f":"IF(P53<=0.01,0,'Tabla Amortización Fijo'!R60)","v":346.56416666666667},{"$f":"IF(D54<=0,0,'Tabla Amortización Fijo'!W60+'Tabla Amortización Fijo'!U60)","v":201.63710257229764},299,{"$f":"IF(C54=0,0,'Tabla Amortización Fijo'!X60+'Tabla Amortización Fijo'!V60+'Tabla Amortización Fijo'!S60+'Tabla Amortización Fijo'!Q60)","v":135.5522030782343},12090.423816124427,null,845265.22625277541,11954.871613046193]
[48,{"$f":"'Tabla Amortización Fijo'!C61","v":"2026-03-04"},845265.22625277541,{"$f":"IF(C55<=0,0,IF(C55<D54,C55,'Tabla Amortización Fijo'!AB61))","v":4580.3445458470123},null,{"$f":"IF(C55<=0,0,'Tabla Amortización Fijo'!AC61)","v":5851.1136203333335},10431.458166180346,null,676.2121810022204,{"$f":"IF(P54<=0.01,0,'Tabla Amortización Fijo'!R61)","v":346.56416666666667},{"$f":"IF(D55<=0,0,'Tabla Amortización Fijo'!W61+'Tabla Amortización Fijo'!U61)","v":201.63710257229764},299,{"$f":"IF(C55=0,0,'Tabla Amortización Fijo'!X61+'Tabla Amortización Fijo'!V61+'Tabla Amortización Fijo'!S61+'Tabla Amortización Fijo'!Q61)","v":135.5522030782343},12090.423819499765,null,840684.88170692837,11954.871616421531]
[49,{"$f":"'Tabla Amortización Fijo'!C62","v":"2026-04-04"},840684.88170692837,{"$f":"IF(C56<=0,0,IF(C56<D55,C56,'Tabla Amortización Fijo'!AB62))","v":3992.2070303517476},null,{"$f":"IF(C56<=0,0,'Tabla Amortización Fijo'!AC62)","v":6442.9154342500005},10435.122464601747,null,672.54790536554276,{"$f":"IF(P55<=0.01,0,'Tabla Amortización Fijo'!R62)","v":346.56416666666667},{"$f":"IF(D56<=0,0,'Tabla Amortización Fijo'!W62+'Tabla Amortización Fijo'!U62)","v":201.63710257229769},299,{"$f":"IF(C56=0,0,'Tabla Amortización Fijo'!X62+'Tabla Amortización Fijo'!V62+'Tabla Amortización Fijo'!S62+'Tabla Amortización Fijo'!Q62)","v":135.5522030782343},12090.42384228449,null,836692.67467657663,11954.871639206256]
[50,{"$f":"'Tabla Amortización Fijo'!C63","v":"2026-05-04"},836692.67467657663,{"$f":"IF(C57<=0,0,IF(C57<D56,C57,'Tabla Amortización Fijo'!AB63))","v":4232.8456494286847},null,{"$f":"IF(C57<=0,0,'Tabla Amortización Fijo'!AC63)","v":6205.4705616666679},10438.316211095353,null,669.35413974126141,{"$f":"IF(P56<=0.01,0,'Tabla Amortización Fijo'!R63)","v":346.56416666666667},{"$f":"IF(D57<=0,0,'Tabla Amortización Fijo'!W63+'Tabla Amortización Fijo'!U63)","v":201.63710257229764},299,{"$f":"IF(C57=0,0,'Tabla Amortización Fijo'!X63+'Tabla Amortización Fijo'!V63+'Tabla Amortización Fijo'!S63+'Tabla Amortización Fijo'!Q63)","v":135.5522030782343},12090.423823153813,null,832459.82902714796,11954.871620075579]
[51,{"$f":"'Tabla Amortización Fijo'!C64","v":"2026-06-04"},832459.82902714796,{"$f":"IF(C58<=0,0,IF(C58<D57,C58,'Tabla Amortización Fijo'!AB64))","v":4061.8229623386669},null,{"$f":"IF(C58<=0,0,'Tabla Amortización Fijo'!AC64)","v":6379.8794883055571},10441.702450644225,null,665.96786322171852,{"$f":"IF(P57<=0.01,0,'Tabla Amortización Fijo'!R64)","v":346.56416666666667},{"$f":"IF(D58<=0,0,'Tabla Amortización Fijo'!W64+'Tabla Amortización Fijo'!U64)","v":201.63710257229764},299,{"$f":"IF(C58=0,0,'Tabla Amortización Fijo'!X64+'Tabla Amortización Fijo'!V64+'Tabla Amortización Fijo'!S64+'Tabla Amortización Fijo'!Q64)","v":135.5522030782343},12090.423786183143,null,828398.00606480928,11954.871583104908]
[52,{"$f":"'Tabla Amortización Fijo'!C65","v":"2026-07-04"},828398.00606480928,{"$f":"IF(C59<=0,0,IF(C59<D58,C59,'Tabla Amortización Fijo'!AB65))","v":4301.0001765220404},null,{"$f":"IF(C59<=0,0,'Tabla Amortización Fijo'!AC65)","v":6143.9517591666672},10444.951935688707,null,662.71840485184748,{"$f":"IF(P58<=0.01,0,'Tabla Amortización Fijo'!R65)","v":346.56416666666667},{"$f":"IF(D59<=0,0,'Tabla Amortización Fijo'!W65+'Tabla Amortización Fijo'!U65)","v":201.63710257229764},299,{"$f":"IF(C59=0,0,'Tabla Amortización Fijo'!X65+'Tabla Amortización Fijo'!V65+'Tabla Amortización Fijo'!S65+'Tabla Amortización Fijo'!Q65)","v":135.5522030782343},12090.423812857753,null,824097.00588828721,11954.871609779519]
[53,{"$f":"'Tabla Amortización Fijo'!C66","v":"2026-08-04"},824097.00588828721,{"$f":"IF(C60<=0,0,IF(C60<D59,C60,'Tabla Amortización Fijo'!AB66))","v":4132.6049681834129},null,{"$f":"IF(C60<=0,0,'Tabla Amortización Fijo'!AC66)","v":6315.7877650277796},10448.392733211193,null,659.27760471062982,{"$f":"IF(P59<=0.01,0,'Tabla Amortización Fijo'!R66)","v":346.56416666666667},{"$f":"IF(D60<=0,0,'Tabla Amortización Fijo'!W66+'Tabla Amortización Fijo'!U66)","v":201.63710257229764},299,{"$f":"IF(C60=0,0,'Tabla Amortización Fijo'!X66+'Tabla Amortización Fijo'!V66+'Tabla Amortización Fijo'!S66+'Tabla Amortización Fijo'!Q66)","v":135.5522030782343},12090.423810239021,null,819964.40092010377,11954.871607160787]
[54,{"$f":"'Tabla Amortización Fijo'!C67","v":"2026-09-04"},819964.40092010377,{"$f":"IF(C61<=0,0,IF(C61<D60,C61,'Tabla Amortización Fijo'!AB67))","v":4167.5828774557885},null,{"$f":"IF(C61<=0,0,'Tabla Amortización Fijo'!AC67)","v":6284.1159778055571},10451.698855261346,null,655.97152073608299,{"$f":"IF(P60<=0.01,0,'Tabla Amortización Fijo'!R67)","v":346.56416666666667},{"$f":"IF(D61<=0,0,'Tabla Amortización Fijo'!W67+'Tabla Amortización Fijo'!U67)","v":201.63710257229764},299,{"$f":"IF(C61=0,0,'Tabla Amortización Fijo'!X67+'Tabla Amortización Fijo'!V67+'Tabla Amortización Fijo'!S67+'Tabla Amortización Fijo'!Q67)","v":135.5522030782343},12090.423848314627,null,815796.81804264802,11954.871645236393]
[55,{"$f":"'Tabla Amortización Fijo'!C68","v":"2026-10-04"},815796.81804264802,{"$f":"IF(C62<=0,0,IF(C62<D61,C62,'Tabla Amortización Fijo'!AB68))","v":4404.5399381041307},null,{"$f":"IF(C62<=0,0,'Tabla Amortización Fijo'!AC68)","v":6050.4930075000011},10455.032945604133,null,652.63745443411847,{"$f":"IF(P61<=0.01,0,'Tabla Amortización Fijo'!R68)","v":346.56416666666667},{"$f":"IF(D62<=0,0,'Tabla Amortización Fijo'!W68+'Tabla Amortización Fijo'!U68)","v":201.63710257229764},299,{"$f":"IF(C62=0,0,'Tabla Amortización Fijo'!X68+'Tabla Amortización Fijo'!V68+'Tabla Amortización Fijo'!S68+'Tabla Amortización Fijo'!Q68)","v":135.5522030782343},12090.42387235545,null,811392.27810454392,11954.871669277216]
[56,{"$f":"'Tabla Amortización Fijo'!C69","v":"2026-11-04"},811392.27810454392,{"$f":"IF(C63<=0,0,IF(C63<D62,C63,'Tabla Amortización Fijo'!AB69))","v":4240.1363725085967},null,{"$f":"IF(C63<=0,0,'Tabla Amortización Fijo'!AC69)","v":6218.4202025833347},10458.55657509193,null,649.1138224836352,{"$f":"IF(P62<=0.01,0,'Tabla Amortización Fijo'!R69)","v":346.56416666666667},{"$f":"IF(D63<=0,0,'Tabla Amortización Fijo'!W69+'Tabla Amortización Fijo'!U69)","v":201.63710257229769},299,{"$f":"IF(C63=0,0,'Tabla Amortización Fijo'!X69+'Tabla Amortización Fijo'!V69+'Tabla Amortización Fijo'!S69+'Tabla Amortización Fijo'!Q69)","v":135.5522030782343},12090.423869892766,null,807152.14173203532,11954.871666814532]
[57,{"$f":"'Tabla Amortización Fijo'!C70","v":"2026-12-04"},807152.14173203532,{"$f":"IF(C64<=0,0,IF(C64<D63,C64,'Tabla Amortización Fijo'!AB70))","v":4475.5703617896661},null,{"$f":"IF(C64<=0,0,'Tabla Amortización Fijo'!AC70)","v":5986.3782975000004},10461.948659289666,null,645.72171338562828,{"$f":"IF(P63<=0.01,0,'Tabla Amortización Fijo'!R70)","v":346.56416666666667},{"$f":"IF(D64<=0,0,'Tabla Amortización Fijo'!W70+'Tabla Amortización Fijo'!U70)","v":201.63710257229764},299,{"$f":"IF(C64=0,0,'Tabla Amortización Fijo'!X70+'Tabla Amortización Fijo'!V70+'Tabla Amortización Fijo'!S70+'Tabla Amortización Fijo'!Q70)","v":135.5522030782343},12090.423844992494,null,802676.57137024566,11954.87164191426]
[58,{"$f":"'Tabla Amortización Fijo'!C71","v":"2027-01-04"},802676.57137024566,{"$f":"IF(C65<=0,0,IF(C65<D64,C65,'Tabla Amortización Fijo'!AB71))","v":4313.9051458958374},null,{"$f":"IF(C65<=0,0,'Tabla Amortización Fijo'!AC71)","v":6151.6239695555569},10465.529115451394,null,642.14125709619657,{"$f":"IF(P64<=0.01,0,'Tabla Amortización Fijo'!R71)","v":346.56416666666667},{"$f":"IF(D65<=0,0,'Tabla Amortización Fijo'!W71+'Tabla Amortización Fijo'!U71)","v":201.63710257229764},299,{"$f":"IF(C65=0,0,'Tabla Amortización Fijo'!X71+'Tabla Amortización Fijo'!V71+'Tabla Amortización Fijo'!S71+'Tabla Amortización Fijo'!Q71)","v":135.5522030782343},12090.42384486479,null,798362.66622434987,11954.871641786556]
[59,{"$f":"'Tabla Amortización Fijo'!C72","v":"2027-02-04"},798362.66622434987,{"$f":"IF(C66<=0,0,IF(C66<D65,C66,'Tabla Amortización Fijo'!AB72))","v":4350.4175597279054},null,{"$f":"IF(C66<=0,0,'Tabla Amortización Fijo'!AC72)","v":6118.5626426388899},10468.980202366794,null,638.69013297947993,{"$f":"IF(P65<=0.01,0,'Tabla Amortización Fijo'!R72)","v":346.56416666666667},{"$f":"IF(D66<=0,0,'Tabla Amortización Fijo'!W72+'Tabla Amortización Fijo'!U72)","v":201.63710257229764},299,{"$f":"IF(C66=0,0,'Tabla Amortización Fijo'!X72+'Tabla Amortización Fijo'!V72+'Tabla Amortización Fijo'!S72+'Tabla Amortización Fijo'!Q72)","v":135.5522030782343},12090.423807663474,null,794012.24866462196,11954.87160458524]
[60,{"$f":"'Tabla Amortización Fijo'!C73","v":"2027-03-04"},794012.24866462196,{"$f":"IF(C67<=0,0,IF(C67<D66,C67,'Tabla Amortización Fijo'!AB73))","v":4976.1314283333086},null,{"$f":"IF(C67<=0,0,'Tabla Amortización Fijo'!AC73)","v":5496.3291032222223},10472.460531555531,null,635.20979893169761,{"$f":"IF(P66<=0.01,0,'Tabla Amortización Fijo'!R73)","v":346.56416666666667},{"$f":"IF(D67<=0,0,'Tabla Amortización Fijo'!W73+'Tabla Amortización Fijo'!U73)","v":201.63710257229764},299,{"$f":"IF(C67=0,0,'Tabla Amortización Fijo'!X73+'Tabla Amortización Fijo'!V73+'Tabla Amortización Fijo'!S73+'Tabla Amortización Fijo'!Q73)","v":135.5522030782343},12090.423802804427,null,789036.11723628861,11954.871599726193]
[61,{"$f":"'Tabla Amortización Fijo'!C74","v":"2027-04-04"},789036.11723628861,{"$f":"IF(C68<=0,0,IF(C68<D67,C68,'Tabla Amortización Fijo'!AB74))","v":4429.3564340796365},null,{"$f":"IF(C68<=0,0,'Tabla Amortización Fijo'!AC74)","v":6047.0849997222231},10476.44143380186,null,631.22889378903096,{"$f":"IF(P67<=0.01,0,'Tabla Amortización Fijo'!R74)","v":346.56416666666667},{"$f":"IF(D68<=0,0,'Tabla Amortización Fijo'!W74+'Tabla Amortización Fijo'!U74)","v":201.63710257229764},299,{"$f":"IF(C68=0,0,'Tabla Amortización Fijo'!X74+'Tabla Amortización Fijo'!V74+'Tabla Amortización Fijo'!S74+'Tabla Amortización Fijo'!Q74)","v":135.5522030782343},12090.423799908091,null,784606.76080220903,11954.871596829857]
[62,{"$f":"'Tabla Amortización Fijo'!C75","v":"2027-05-04"},784606.76080220903,{"$f":"IF(C69<=0,0,IF(C69<D68,C69,'Tabla Amortización Fijo'!AB75))","v":4660.8182417630724},null,{"$f":"IF(C69<=0,0,'Tabla Amortización Fijo'!AC75)","v":5819.166655},10479.984896763071,null,627.68540864176725,{"$f":"IF(P68<=0.01,0,'Tabla Amortización Fijo'!R75)","v":346.56416666666667},{"$f":"IF(D69<=0,0,'Tabla Amortización Fijo'!W75+'Tabla Amortización Fijo'!U75)","v":201.63710257229764},299,{"$f":"IF(C69=0,0,'Tabla Amortización Fijo'!X75+'Tabla Amortización Fijo'!V75+'Tabla Amortización Fijo'!S75+'Tabla Amortización Fijo'!Q75)","v":135.5522030782343},12090.423777722039,null,779945.94256044598,11954.871574643805]
[63,{"$f":"'Tabla Amortización Fijo'!C76","v":"2027-06-04"},779945.94256044598,{"$f":"IF(C70<=0,0,IF(C70<D69,C70,'Tabla Amortización Fijo'!AB76))","v":4506.2946625165587},null,{"$f":"IF(C70<=0,0,'Tabla Amortización Fijo'!AC76)","v":5977.4188702222227},10483.71353273878,null,623.95675404835674,{"$f":"IF(P69<=0.01,0,'Tabla Amortización Fijo'!R76)","v":346.56416666666667},{"$f":"IF(D70<=0,0,'Tabla Amortización Fijo'!W76+'Tabla Amortización Fijo'!U76)","v":201.63710257229764},299,{"$f":"IF(C70=0,0,'Tabla Amortización Fijo'!X76+'Tabla Amortización Fijo'!V76+'Tabla Amortización Fijo'!S76+'Tabla Amortización Fijo'!Q76)","v":135.5522030782343},12090.423759104337,null,775439.64789792942,11954.871556026103]
[64,{"$f":"'Tabla Amortización Fijo'!C77","v":"2027-07-04"},775439.64789792942,{"$f":"IF(C71<=0,0,IF(C71<D70,C71,'Tabla Amortización Fijo'!AB77))","v":4736.1413527932355},null,{"$f":"IF(C71<=0,0,'Tabla Amortización Fijo'!AC77)","v":5751.1772558333332},10487.318608626569,null,620.3517183183435,{"$f":"IF(P70<=0.01,0,'Tabla Amortización Fijo'!R77)","v":346.56416666666667},{"$f":"IF(D71<=0,0,'Tabla Amortización Fijo'!W77+'Tabla Amortización Fijo'!U77)","v":201.63710257229764},299,{"$f":"IF(C71=0,0,'Tabla Amortización Fijo'!X77+'Tabla Amortización Fijo'!V77+'Tabla Amortización Fijo'!S77+'Tabla Amortización Fijo'!Q77)","v":135.5522030782343},12090.423799262111,null,770703.50654513622,11954.871596183877]
[65,{"$f":"'Tabla Amortización Fijo'!C78","v":"2027-08-04"},770703.50654513622,{"$f":"IF(C72<=0,0,IF(C72<D71,C72,'Tabla Amortización Fijo'!AB78))","v":4584.5216140128068},null,{"$f":"IF(C72<=0,0,'Tabla Amortización Fijo'!AC78)","v":5906.5859136388899},{"$f":"D72+F72","v":10491.107527651697},null,616.56280523610894,{"$f":"IF(P71<=0.01,0,'Tabla Amortización Fijo'!R78)","v":346.56416666666667},{"$f":"IF(D72<=0,0,'Tabla Amortización Fijo'!W78+'Tabla Amortización Fijo'!U78)","v":201.63710257229769},299,{"$f":"IF(C72=0,0,'Tabla Amortización Fijo'!X78+'Tabla Amortización Fijo'!V78+'Tabla Amortización Fijo'!S78+'Tabla Amortización Fijo'!Q78)","v":135.5522030782343},12090.423805205006,null,{"$f":"C72-D72-E72-H72","v":766118.98493112344},11954.871602126772]
[66,{"$f":"'Tabla Amortización Fijo'!C79","v":"2027-09-04"},766118.98493112344,{"$f":"IF(C73<=0,0,IF(C73<D72,C73,'Tabla Amortización Fijo'!AB79))","v":4623.3244955625187},null,{"$f":"IF(C73<=0,0,'Tabla Amortización Fijo'!AC79)","v":5871.450661750001},10494.775157312521,null,{"$f":"IF(C73<=0,0,(C73*0.8/1000))","v":612.89518794489868},{"$f":"IF(P72<=0.01,0,'Tabla Amortización Fijo'!R79)","v":346.56416666666667},{"$f":"IF(D73<=0,0,'Tabla Amortización Fijo'!W79+'Tabla Amortización Fijo'!U79)","v":201.63710257229764},{"$f":"IF(C73<=0,,299)","v":299},{"$f":"IF(C73=0,0,'Tabla Amortización Fijo'!X79+'Tabla Amortización Fijo'!V79+'Tabla Amortización Fijo'!S79+'Tabla Amortización Fijo'!Q79)","v":135.5522030782343},12090.423817574618,null,761495.66043556097,11954.871614496384]
[67,{"$f":"'Tabla Amortización Fijo'!C80","v":"2027-10-04"},761495.66043556097,{"$f":"IF(C74<=0,0,IF(C74<D73,C74,'Tabla Amortización Fijo'!AB80))","v":4850.7144497756972},null,{"$f":"IF(C74<=0,0,'Tabla Amortización Fijo'!AC80)","v":5647.759404166668},10498.473853942365,null,609.19652834844885,{"$f":"IF(P73<=0.01,0,'Tabla Amortización Fijo'!R80)","v":346.56416666666667},{"$f":"IF(D74<=0,0,'Tabla Amortización Fijo'!W80+'Tabla Amortización Fijo'!U80)","v":201.63710257229769},299,{"$f":"IF(C74=0,0,'Tabla Amortización Fijo'!X80+'Tabla Amortización Fijo'!V80+'Tabla Amortización Fijo'!S80+'Tabla Amortización Fijo'!Q80)","v":135.5522030782343},12090.423854608014,null,756644.94598578522,{"$f":"N74-M74+H74+E74","v":11954.87165152978}]
[68,{"$f":"'Tabla Amortización Fijo'!C81","v":"2027-11-04"},{"$f":"IF(P74<=0.01,0,P74)","v":756644.94598578522},{"$f":"IF(C75<=0,0,IF(C75<D74,C75,'Tabla Amortización Fijo'!AB81))","v":4703.5117085248676},null,{"$f":"IF(C75<=0,0,'Tabla Amortización Fijo'!AC81)","v":5798.8427485000002},10502.354457024867,null,605.31595678862823,{"$f":"IF(P74<=0.01,0,'Tabla Amortización Fijo'!R81)","v":346.56416666666667},{"$f":"IF(D75<=0,0,'Tabla Amortización Fijo'!W81+'Tabla Amortización Fijo'!U81)","v":201.63710257229764},299,{"$f":"IF(C75=0,0,'Tabla Amortización Fijo'!X81+'Tabla Amortización Fijo'!V81+'Tabla Amortización Fijo'!S81+'Tabla Amortización Fijo'!Q81)","v":135.5522030782343},12090.423886130695,null,751941.43427726033,11954.871683052461]
[69,{"$f":"'Tabla Amortización Fijo'!C82","v":"2027-12-04"},751941.43427726033,{"$f":"IF(C76<=0,0,IF(C76<D75,C76,'Tabla Amortización Fijo'!AB82))","v":4929.2183413764014},null,{"$f":"IF(C76<=0,0,'Tabla Amortización Fijo'!AC82)","v":5576.8989391666673},10506.117280543069,null,601.55314742180838,{"$f":"IF(P75<=0.01,0,'Tabla Amortización Fijo'!R82)","v":346.56416666666667},{"$f":"IF(D76<=0,0,'Tabla Amortización Fijo'!W82+'Tabla Amortización Fijo'!U82)","v":201.63710257229764},299,{"$f":"IF(C76=0,0,'Tabla Amortización Fijo'!X82+'Tabla Amortización Fijo'!V82+'Tabla Amortización Fijo'!S82+'Tabla Amortización Fijo'!Q82)","v":135.5522030782343},{"$f":"G76+K76+J76+L76+M76+I76","v":12090.423900282076},null,747012.21593588393,11954.871697203842]
[70,{"$f":"'Tabla Amortización Fijo'!C83","v":"2028-01-04"},747012.21593588393,{"$f":"IF(C77<=0,0,IF(C77<D76,C77,'Tabla Amortización Fijo'!AB83))","v":4785.0420653638939},null,{"$f":"IF(C77<=0,0,'Tabla Amortización Fijo'!AC83)","v":5725.0185760833338},10510.060641447228,null,597.6097727487072,{"$f":"IF(P76<=0.01,0,'Tabla Amortización Fijo'!R83)","v":346.56416666666667},{"$f":"IF(D77<=0,0,'Tabla Amortización Fijo'!W83+'Tabla Amortización Fijo'!U83)","v":201.63710257229764},299,{"$f":"IF(C77=0,0,'Tabla Amortización Fijo'!X83+'Tabla Amortización Fijo'!V83+'Tabla Amortización Fijo'!S83+'Tabla Amortización Fijo'!Q83)","v":135.5522030782343},12090.423886513134,null,742227.17387052008,11954.8716834349]
[71,{"$f":"'Tabla Amortización Fijo'!C84","v":"2028-02-04"},742227.17387052008,{"$f":"IF(C78<=0,0,IF(C78<D77,C78,'Tabla Amortización Fijo'!AB84))","v":4825.5421297337925},null,{"$f":"IF(C78<=0,0,'Tabla Amortización Fijo'!AC84)","v":5688.3465611944448},10513.888690928237,null,593.781739096416,{"$f":"IF(P77<=0.01,0,'Tabla Amortización Fijo'!R84)","v":346.56416666666667},{"$f":"IF(D78<=0,0,'Tabla Amortización Fijo'!W84+'Tabla Amortización Fijo'!U84)","v":201.63710257229764},299,{"$f":"IF(C78=0,0,'Tabla Amortización Fijo'!X84+'Tabla Amortización Fijo'!V84+'Tabla Amortización Fijo'!S84+'Tabla Amortización Fijo'!Q84)","v":135.5522030782343},12090.423902341852,null,737401.63174078625,11954.871699263618]
[72,{"$f":"'Tabla Amortización Fijo'!C85","v":"2028-03-04"},737401.63174078625,{"$f":"IF(C79<=0,0,IF(C79<D78,C79,'Tabla Amortización Fijo'!AB85))","v":5230.9891222870128},null,{"$f":"IF(C79<=0,0,'Tabla Amortización Fijo'!AC85)","v":5286.7600195277782},10517.749141814791,null,589.92130539262905,{"$f":"IF(P78<=0.01,0,'Tabla Amortización Fijo'!R85)","v":346.56416666666667},{"$f":"IF(D79<=0,0,'Tabla Amortización Fijo'!W85+'Tabla Amortización Fijo'!U85)","v":201.63710257229764},299,{"$f":"IF(C79=0,0,'Tabla Amortización Fijo'!X85+'Tabla Amortización Fijo'!V85+'Tabla Amortización Fijo'!S85+'Tabla Amortización Fijo'!Q85)","v":135.5522030782343},12090.423919524619,null,732170.64261849923,11954.871716446385]
[73,{"$f":"'Tabla Amortización Fijo'!C86","v":"2028-04-04"},732170.64261849923,{"$f":"IF(C80<=0,0,IF(C80<D79,C80,'Tabla Amortización Fijo'!AB86))","v":4910.6594928585364},null,{"$f":"IF(C80<=0,0,'Tabla Amortización Fijo'!AC86)","v":5611.2744326666671},10521.933925525203,null,585.73651409479942,{"$f":"IF(P79<=0.01,0,'Tabla Amortización Fijo'!R86)","v":346.56416666666667},{"$f":"IF(D80<=0,0,'Tabla Amortización Fijo'!W86+'Tabla Amortización Fijo'!U86)","v":201.63710257229764},299,{"$f":"IF(C80=0,0,'Tabla Amortización Fijo'!X86+'Tabla Amortización Fijo'!V86+'Tabla Amortización Fijo'!S86+'Tabla Amortización Fijo'!Q86)","v":135.5522030782343},12090.423911937201,null,727259.98312564066,11954.871708858967]
[74,{"$f":"'Tabla Amortización Fijo'!C87","v":"2028-05-04"},727259.98312564066,{"$f":"IF(C81<=0,0,IF(C81<D80,C81,'Tabla Amortización Fijo'!AB87))","v":5132.0175983388744},null,{"$f":"IF(C81<=0,0,'Tabla Amortización Fijo'!AC87)","v":5393.8448516666667},10525.862450005541,null,581.80798650051258,{"$f":"IF(P80<=0.01,0,'Tabla Amortización Fijo'!R87)","v":346.56416666666667},{"$f":"IF(D81<=0,0,'Tabla Amortización Fijo'!W87+'Tabla Amortización Fijo'!U87)","v":201.63710257229764},299,{"$f":"IF(C81=0,0,'Tabla Amortización Fijo'!X87+'Tabla Amortización Fijo'!V87+'Tabla Amortización Fijo'!S87+'Tabla Amortización Fijo'!Q87)","v":135.5522030782343},12090.423908823253,null,722127.96552730177,11954.871705745019]
[75,{"$f":"'Tabla Amortización Fijo'!C88","v":"2028-06-04"},722127.96552730177,{"$f":"IF(C82<=0,0,IF(C82<D81,C82,'Tabla Amortización Fijo'!AB88))","v":4995.6595959054212},null,{"$f":"IF(C82<=0,0,'Tabla Amortización Fijo'!AC88)","v":5534.3084490000001},10529.968044905421,null,577.70237242184146,{"$f":"IF(P81<=0.01,0,'Tabla Amortización Fijo'!R88)","v":346.56416666666667},{"$f":"IF(D82<=0,0,'Tabla Amortización Fijo'!W88+'Tabla Amortización Fijo'!U88)","v":201.63710257229764},299,{"$f":"IF(C82=0,0,'Tabla Amortización Fijo'!X88+'Tabla Amortización Fijo'!V88+'Tabla Amortización Fijo'!S88+'Tabla Amortización Fijo'!Q88)","v":135.5522030782343},12090.423889644462,null,717132.30593139632,11954.871686566228]
[76,{"$f":"'Tabla Amortización Fijo'!C89","v":"2028-07-04"},717132.30593139632,{"$f":"IF(C83<=0,0,IF(C83<D82,C83,'Tabla Amortización Fijo'!AB89))","v":5215.233345951583},null,{"$f":"IF(C83<=0,0,'Tabla Amortización Fijo'!AC89)","v":5318.7312250000004},10533.964570951583,null,573.70584474511713,{"$f":"IF(P82<=0.01,0,'Tabla Amortización Fijo'!R89)","v":346.56416666666667},{"$f":"IF(D83<=0,0,'Tabla Amortización Fijo'!W89+'Tabla Amortización Fijo'!U89)","v":201.63710257229764},299,{"$f":"IF(C83=0,0,'Tabla Amortización Fijo'!X89+'Tabla Amortización Fijo'!V89+'Tabla Amortización Fijo'!S89+'Tabla Amortización Fijo'!Q89)","v":135.5522030782343},12090.423888013898,null,711917.07258544478,11954.871684935664]
[77,{"$f":"'Tabla Amortización Fijo'!C90","v":"2028-08-04"},711917.07258544478,{"$f":"IF(C84<=0,0,IF(C84<D83,C84,'Tabla Amortización Fijo'!AB90))","v":5082.0834592216388},null,{"$f":"IF(C84<=0,0,'Tabla Amortización Fijo'!AC90)","v":5456.0533225833333},10538.136781804973,null,569.53365806835586,{"$f":"IF(P83<=0.01,0,'Tabla Amortización Fijo'!R90)","v":346.56416666666667},{"$f":"IF(D84<=0,0,'Tabla Amortización Fijo'!W90+'Tabla Amortización Fijo'!U90)","v":201.63710257229764},299,{"$f":"IF(C84=0,0,'Tabla Amortización Fijo'!X90+'Tabla Amortización Fijo'!V90+'Tabla Amortización Fijo'!S90+'Tabla Amortización Fijo'!Q90)","v":135.5522030782343},12090.423912190528,null,706834.98912622314,11954.871709112294]
[78,{"$f":"'Tabla Amortización Fijo'!C91","v":"2028-09-04"},706834.98912622314,{"$f":"IF(C85<=0,0,IF(C85<D84,C85,'Tabla Amortización Fijo'!AB91))","v":5125.0976489445511},null,{"$f":"IF(C85<=0,0,'Tabla Amortización Fijo'!AC91)","v":5417.1048261388896},10542.202475083441,null,565.46799130097861,{"$f":"IF(P84<=0.01,0,'Tabla Amortización Fijo'!R91)","v":346.56416666666667},{"$f":"IF(D85<=0,0,'Tabla Amortización Fijo'!W91+'Tabla Amortización Fijo'!U91)","v":201.63710257229764},299,{"$f":"IF(C85=0,0,'Tabla Amortización Fijo'!X91+'Tabla Amortización Fijo'!V91+'Tabla Amortización Fijo'!S91+'Tabla Amortización Fijo'!Q91)","v":135.5522030782343},12090.423938701619,null,701709.89147727855,11954.871735623385]
[79,{"$f":"'Tabla Amortización Fijo'!C92","v":"2028-10-04"},701709.89147727855,{"$f":"IF(C86<=0,0,IF(C86<D85,C86,'Tabla Amortización Fijo'!AB92))","v":5341.9541847162509},null,{"$f":"IF(C86<=0,0,'Tabla Amortización Fijo'!AC92)","v":5204.3483508333338},10546.302535549585,null,561.36791318182281,{"$f":"IF(P85<=0.01,0,'Tabla Amortización Fijo'!R92)","v":346.56416666666667},{"$f":"IF(D86<=0,0,'Tabla Amortización Fijo'!W92+'Tabla Amortización Fijo'!U92)","v":201.63710257229764},299,{"$f":"IF(C86=0,0,'Tabla Amortización Fijo'!X92+'Tabla Amortización Fijo'!V92+'Tabla Amortización Fijo'!S92+'Tabla Amortización Fijo'!Q92)","v":135.5522030782343},12090.423921048607,null,696367.93729256233,11954.871717970373]
[80,{"$f":"'Tabla Amortización Fijo'!C93","v":"2028-11-04"},696367.93729256233,{"$f":"IF(C87<=0,0,IF(C87<D86,C87,'Tabla Amortización Fijo'!AB93))","v":5213.6896126588954},null,{"$f":"IF(C87<=0,0,'Tabla Amortización Fijo'!AC93)","v":5336.8865179444447},10550.57613060334,null,557.09434983404992,{"$f":"IF(P86<=0.01,0,'Tabla Amortización Fijo'!R93)","v":346.56416666666667},{"$f":"IF(D87<=0,0,'Tabla Amortización Fijo'!W93+'Tabla Amortización Fijo'!U93)","v":201.63710257229764},299,{"$f":"IF(C87=0,0,'Tabla Amortización Fijo'!X93+'Tabla Amortización Fijo'!V93+'Tabla Amortización Fijo'!S93+'Tabla Amortización Fijo'!Q93)","v":135.5522030782343},12090.423952754589,null,691154.2476799034,11954.871749676355]
[81,{"$f":"'Tabla Amortización Fijo'!C94","v":"2028-12-04"},691154.2476799034,{"$f":"IF(C88<=0,0,IF(C88<D87,C88,'Tabla Amortización Fijo'!AB94))","v":5428.68639125135},null,{"$f":"IF(C88<=0,0,'Tabla Amortización Fijo'!AC94)","v":5126.0606875000003},10554.74707875135,null,552.92339814392278,{"$f":"IF(P87<=0.01,0,'Tabla Amortización Fijo'!R94)","v":346.56416666666667},{"$f":"IF(D88<=0,0,'Tabla Amortización Fijo'!W94+'Tabla Amortización Fijo'!U94)","v":201.63710257229764},299,{"$f":"IF(C88=0,0,'Tabla Amortización Fijo'!X94+'Tabla Amortización Fijo'!V94+'Tabla Amortización Fijo'!S94+'Tabla Amortización Fijo'!Q94)","v":135.5522030782343},12090.423949212473,null,685725.56128865201,11954.871746134238]
[82,{"$f":"'Tabla Amortización Fijo'!C95","v":"2029-01-04"},685725.56128865201,{"$f":"IF(C89<=0,0,IF(C89<D88,C89,'Tabla Amortización Fijo'!AB95))","v":5303.7655006697705},null,{"$f":"IF(C89<=0,0,'Tabla Amortización Fijo'!AC95)","v":5255.3245001111118},10559.090000780881,null,548.58044903092173,{"$f":"IF(P88<=0.01,0,'Tabla Amortización Fijo'!R95)","v":346.56416666666667},{"$f":"IF(D89<=0,0,'Tabla Amortización Fijo'!W95+'Tabla Amortización Fijo'!U95)","v":201.63710257229764},299,{"$f":"IF(C89=0,0,'Tabla Amortización Fijo'!X95+'Tabla Amortización Fijo'!V95+'Tabla Amortización Fijo'!S95+'Tabla Amortización Fijo'!Q95)","v":135.5522030782343},12090.423922129003,null,680421.79578798229,11954.871719050769]
[83,{"$f":"'Tabla Amortización Fijo'!C96","v":"2029-02-04"},680421.79578798229,{"$f":"IF(C90<=0,0,IF(C90<D89,C90,'Tabla Amortización Fijo'!AB96))","v":5348.6559825601616},null,{"$f":"IF(C90<=0,0,'Tabla Amortización Fijo'!AC96)","v":5214.67699613889},10563.332978699051,null,544.33743663038581,{"$f":"IF(P89<=0.01,0,'Tabla Amortización Fijo'!R96)","v":346.56416666666667},{"$f":"IF(D90<=0,0,'Tabla Amortización Fijo'!W96+'Tabla Amortización Fijo'!U96)","v":201.63710257229764},299,{"$f":"IF(C90=0,0,'Tabla Amortización Fijo'!X96+'Tabla Amortización Fijo'!V96+'Tabla Amortización Fijo'!S96+'Tabla Amortización Fijo'!Q96)","v":135.5522030782343},12090.423887646635,null,675073.13980542216,11954.871684568401]
[84,{"$f":"'Tabla Amortización Fijo'!C97","v":"2029-03-04"},675073.13980542216,{"$f":"IF(C91<=0,0,IF(C91<D90,C91,'Tabla Amortización Fijo'!AB97))","v":5894.6056578571297},null,{"$f":"IF(C91<=0,0,'Tabla Amortización Fijo'!AC97)","v":4673.0062221111111},10567.611879968241,null,540.05851184433777,{"$f":"IF(P90<=0.01,0,'Tabla Amortización Fijo'!R97)","v":346.56416666666667},{"$f":"IF(D91<=0,0,'Tabla Amortización Fijo'!W97+'Tabla Amortización Fijo'!U97)","v":201.63710257229764},299,{"$f":"IF(C91=0,0,'Tabla Amortización Fijo'!X97+'Tabla Amortización Fijo'!V97+'Tabla Amortización Fijo'!S97+'Tabla Amortización Fijo'!Q97)","v":135.5522030782343},12090.423864129778,null,669178.53414756502,11954.871661051544]
[85,{"$f":"'Tabla Amortización Fijo'!C98","v":"2029-04-04"},669178.53414756502,{"$f":"IF(C92<=0,0,IF(C92<D91,C92,'Tabla Amortización Fijo'!AB98))","v":5443.8176998333602},null,{"$f":"IF(C92<=0,0,'Tabla Amortización Fijo'!AC98)","v":5128.5098241111118},10572.327523944472,null,535.34282731805206,{"$f":"IF(P91<=0.01,0,'Tabla Amortización Fijo'!R98)","v":346.56416666666667},{"$f":"IF(D92<=0,0,'Tabla Amortización Fijo'!W98+'Tabla Amortización Fijo'!U98)","v":201.63710257229764},299,{"$f":"IF(C92=0,0,'Tabla Amortización Fijo'!X98+'Tabla Amortización Fijo'!V98+'Tabla Amortización Fijo'!S98+'Tabla Amortización Fijo'!Q98)","v":135.5522030782343},12090.423823579724,null,663734.71644773171,11954.87162050149]
[86,{"$f":"'Tabla Amortización Fijo'!C99","v":"2029-05-04"},663734.71644773171,{"$f":"IF(C93<=0,0,IF(C93<D92,C93,'Tabla Amortización Fijo'!AB99))","v":5653.9835395423606},null,{"$f":"IF(C93<=0,0,'Tabla Amortización Fijo'!AC99)","v":4922.6990250000008},10576.682564542361,null,530.98777315818541,{"$f":"IF(P92<=0.01,0,'Tabla Amortización Fijo'!R99)","v":346.56416666666667},{"$f":"IF(D93<=0,0,'Tabla Amortización Fijo'!W99+'Tabla Amortización Fijo'!U99)","v":201.63710257229764},299,{"$f":"IF(C93=0,0,'Tabla Amortización Fijo'!X99+'Tabla Amortización Fijo'!V99+'Tabla Amortización Fijo'!S99+'Tabla Amortización Fijo'!Q99)","v":135.5522030782343},12090.423810017746,null,658080.7329081893,11954.871606939512]
[87,{"$f":"'Tabla Amortización Fijo'!C100","v":"2029-06-04"},658080.7329081893,{"$f":"IF(C94<=0,0,IF(C94<D93,C94,'Tabla Amortización Fijo'!AB100))","v":5537.74825643441},null,{"$f":"IF(C94<=0,0,'Tabla Amortización Fijo'!AC100)","v":5043.4575180000002},10581.205774434409,null,526.46458632655151,{"$f":"IF(P93<=0.01,0,'Tabla Amortización Fijo'!R100)","v":346.56416666666667},{"$f":"IF(D94<=0,0,'Tabla Amortización Fijo'!W100+'Tabla Amortización Fijo'!U100)","v":201.63710257229764},299,{"$f":"IF(C94=0,0,'Tabla Amortización Fijo'!X100+'Tabla Amortización Fijo'!V100+'Tabla Amortización Fijo'!S100+'Tabla Amortización Fijo'!Q100)","v":135.5522030782343},12090.423833078161,null,652542.98465175484,11954.871629999927]
[88,{"$f":"'Tabla Amortización Fijo'!C101","v":"2029-07-04"},652542.98465175484,{"$f":"IF(C95<=0,0,IF(C95<D94,C95,'Tabla Amortización Fijo'!AB101))","v":5745.9422691326372},null,{"$f":"IF(C95<=0,0,'Tabla Amortización Fijo'!AC101)","v":4839.6936941666663},10585.635963299304,null,522.03438772140396,{"$f":"IF(P94<=0.01,0,'Tabla Amortización Fijo'!R101)","v":346.56416666666667},{"$f":"IF(D95<=0,0,'Tabla Amortización Fijo'!W101+'Tabla Amortización Fijo'!U101)","v":201.63710257229764},299,{"$f":"IF(C95=0,0,'Tabla Amortización Fijo'!X101+'Tabla Amortización Fijo'!V101+'Tabla Amortización Fijo'!S101+'Tabla Amortización Fijo'!Q101)","v":135.5522030782343},12090.423823337907,null,646797.04238262225,11954.871620259673]
[89,{"$f":"'Tabla Amortización Fijo'!C102","v":"2029-08-04"},646797.04238262225,{"$f":"IF(C96<=0,0,IF(C96<D95,C96,'Tabla Amortización Fijo'!AB102))","v":5633.2521592994171},null,{"$f":"IF(C96<=0,0,'Tabla Amortización Fijo'!AC102)","v":4956.9805715833336},10590.232730882752,null,517.43763390609786,{"$f":"IF(P95<=0.01,0,'Tabla Amortización Fijo'!R102)","v":346.56416666666667},{"$f":"IF(D96<=0,0,'Tabla Amortización Fijo'!W102+'Tabla Amortización Fijo'!U102)","v":201.63710257229764},299,{"$f":"IF(C96=0,0,'Tabla Amortización Fijo'!X102+'Tabla Amortización Fijo'!V102+'Tabla Amortización Fijo'!S102+'Tabla Amortización Fijo'!Q102)","v":135.5522030782343},12090.423837106049,null,641163.79022332281,11954.871634027815]
[90,{"$f":"'Tabla Amortización Fijo'!C103","v":"2029-09-04"},641163.79022332281,{"$f":"IF(C97<=0,0,IF(C97<D96,C97,'Tabla Amortización Fijo'!AB103))","v":5680.9313796588212},null,{"$f":"IF(C97<=0,0,'Tabla Amortización Fijo'!AC103)","v":4913.8079695000006},10594.739349158823,null,512.93103217865826,{"$f":"IF(P96<=0.01,0,'Tabla Amortización Fijo'!R103)","v":346.56416666666667},{"$f":"IF(D97<=0,0,'Tabla Amortización Fijo'!W103+'Tabla Amortización Fijo'!U103)","v":201.63710257229764},299,{"$f":"IF(C97=0,0,'Tabla Amortización Fijo'!X103+'Tabla Amortización Fijo'!V103+'Tabla Amortización Fijo'!S103+'Tabla Amortización Fijo'!Q103)","v":135.5522030782343},12090.42385365468,null,635482.85884366394,11954.871650576446]
[91,{"$f":"'Tabla Amortización Fijo'!C104","v":"2029-10-04"},635482.85884366394,{"$f":"IF(C98<=0,0,IF(C98<D97,C98,'Tabla Amortización Fijo'!AB104))","v":5886.119636189118},null,{"$f":"IF(C98<=0,0,'Tabla Amortización Fijo'!AC104)","v":4713.1644708333333},10599.284107022451,null,508.3862870749312,{"$f":"IF(P97<=0.01,0,'Tabla Amortización Fijo'!R104)","v":346.56416666666667},{"$f":"IF(D98<=0,0,'Tabla Amortización Fijo'!W104+'Tabla Amortización Fijo'!U104)","v":201.63710257229764},299,{"$f":"IF(C98=0,0,'Tabla Amortización Fijo'!X104+'Tabla Amortización Fijo'!V104+'Tabla Amortización Fijo'!S104+'Tabla Amortización Fijo'!Q104)","v":135.5522030782343},12090.423866414581,null,629596.73920747486,11954.871663336347]
[92,{"$f":"'Tabla Amortización Fijo'!C105","v":"2029-11-04"},629596.73920747486,{"$f":"IF(C99<=0,0,IF(C99<D98,C99,'Tabla Amortización Fijo'!AB105))","v":5778.8336142290682},null,{"$f":"IF(C99<=0,0,'Tabla Amortización Fijo'!AC105)","v":4825.1593835277781},10603.992997756846,null,503.67739136597993,{"$f":"IF(P98<=0.01,0,'Tabla Amortización Fijo'!R105)","v":346.56416666666667},{"$f":"IF(D99<=0,0,'Tabla Amortización Fijo'!W105+'Tabla Amortización Fijo'!U105)","v":201.63710257229764},299,{"$f":"IF(C99=0,0,'Tabla Amortización Fijo'!X105+'Tabla Amortización Fijo'!V105+'Tabla Amortización Fijo'!S105+'Tabla Amortización Fijo'!Q105)","v":135.5522030782343},12090.423861440026,null,623817.90559324576,11954.871658361792]
[93,{"$f":"'Tabla Amortización Fijo'!C106","v":"2029-12-04"},623817.90559324576,{"$f":"IF(C100<=0,0,IF(C100<D99,C100,'Tabla Amortización Fijo'!AB106))","v":5981.9666687300542},null,{"$f":"IF(C100<=0,0,'Tabla Amortización Fijo'!AC106)","v":4626.6494250000005},10608.616093730056,null,499.05432447459663,{"$f":"IF(P99<=0.01,0,'Tabla Amortización Fijo'!R106)","v":346.56416666666667},{"$f":"IF(D100<=0,0,'Tabla Amortización Fijo'!W106+'Tabla Amortización Fijo'!U106)","v":201.63710257229764},299,{"$f":"IF(C100=0,0,'Tabla Amortización Fijo'!X106+'Tabla Amortización Fijo'!V106+'Tabla Amortización Fijo'!S106+'Tabla Amortización Fijo'!Q106)","v":135.5522030782343},12090.423890521852,null,617835.93892451574,11954.871687443618]
[94,{"$f":"'Tabla Amortización Fijo'!C107","v":"2030-01-04"},617835.93892451574,{"$f":"IF(C101<=0,0,IF(C101<D100,C101,'Tabla Amortización Fijo'!AB107))","v":5878.3757210684471},null,{"$f":"IF(C101<=0,0,'Tabla Amortización Fijo'!AC107)","v":4735.0259190833349},10613.401640151782,null,494.26875113961262,{"$f":"IF(P100<=0.01,0,'Tabla Amortización Fijo'!R107)","v":346.56416666666667},{"$f":"IF(D101<=0,0,'Tabla Amortización Fijo'!W107+'Tabla Amortización Fijo'!U107)","v":201.63710257229764},299,{"$f":"IF(C101=0,0,'Tabla Amortización Fijo'!X107+'Tabla Amortización Fijo'!V107+'Tabla Amortización Fijo'!S107+'Tabla Amortización Fijo'!Q107)","v":135.5522030782343},12090.423863608594,null,611957.56320344727,11954.87166053036]
[95,{"$f":"'Tabla Amortización Fijo'!C108","v":"2030-02-04"},611957.56320344727,{"$f":"IF(C102<=0,0,IF(C102<D101,C102,'Tabla Amortización Fijo'!AB108))","v":5928.1296400187121},null,{"$f":"IF(C102<=0,0,'Tabla Amortización Fijo'!AC108)","v":4689.9746679166674},10618.10430793538,null,489.56605056275782,{"$f":"IF(P101<=0.01,0,'Tabla Amortización Fijo'!R108)","v":346.56416666666667},{"$f":"IF(D102<=0,0,'Tabla Amortización Fijo'!W108+'Tabla Amortización Fijo'!U108)","v":201.63710257229764},299,{"$f":"IF(C102=0,0,'Tabla Amortización Fijo'!X108+'Tabla Amortización Fijo'!V108+'Tabla Amortización Fijo'!S108+'Tabla Amortización Fijo'!Q108)","v":135.5522030782343},12090.423830815338,null,606029.43356342858,11954.871627737104]
[96,{"$f":"'Tabla Amortización Fijo'!C109","v":"2030-03-04"},606029.43356342858,{"$f":"IF(C103<=0,0,IF(C103<D102,C103,'Tabla Amortización Fijo'!AB109))","v":6427.7765005036354},null,{"$f":"IF(C103<=0,0,'Tabla Amortización Fijo'!AC109)","v":4195.0703184444446},10622.846818948081,null,484.8235468507429,{"$f":"IF(P102<=0.01,0,'Tabla Amortización Fijo'!R109)","v":346.56416666666667},{"$f":"IF(D103<=0,0,'Tabla Amortización Fijo'!W109+'Tabla Amortización Fijo'!U109)","v":201.63710257229764},299,{"$f":"IF(C103=0,0,'Tabla Amortización Fijo'!X109+'Tabla Amortización Fijo'!V109+'Tabla Amortización Fijo'!S109+'Tabla Amortización Fijo'!Q109)","v":135.5522030782343},12090.423838116023,null,599601.65706292493,11954.871635037789]
[97,{"$f":"'Tabla Amortización Fijo'!C110","v":"2030-04-04"},599601.65706292493,{"$f":"IF(C104<=0,0,IF(C104<D103,C104,'Tabla Amortización Fijo'!AB110))","v":6032.708656713633},null,{"$f":"IF(C104<=0,0,'Tabla Amortización Fijo'!AC110)","v":4595.2803465555562},10627.989003269189,null,479.68132565033994,{"$f":"IF(P103<=0.01,0,'Tabla Amortización Fijo'!R110)","v":346.56416666666667},{"$f":"IF(D104<=0,0,'Tabla Amortización Fijo'!W110+'Tabla Amortización Fijo'!U110)","v":201.63710257229764},299,{"$f":"IF(C104=0,0,'Tabla Amortización Fijo'!X110+'Tabla Amortización Fijo'!V110+'Tabla Amortización Fijo'!S110+'Tabla Amortización Fijo'!Q110)","v":135.5522030782343},12090.423801236728,null,593568.94840621133,11954.871598158494]
[98,{"$f":"'Tabla Amortización Fijo'!C111","v":"2030-05-04"},593568.94840621133,{"$f":"IF(C105<=0,0,IF(C105<D104,C105,'Tabla Amortización Fijo'!AB111))","v":6230.5122669501861},null,{"$f":"IF(C105<=0,0,'Tabla Amortización Fijo'!AC111)","v":4402.3028975000007},10632.815164450187,null,474.8551587249691,{"$f":"IF(P104<=0.01,0,'Tabla Amortización Fijo'!R111)","v":346.56416666666667},{"$f":"IF(D105<=0,0,'Tabla Amortización Fijo'!W111+'Tabla Amortización Fijo'!U111)","v":201.63710257229764},299,{"$f":"IF(C105=0,0,'Tabla Amortización Fijo'!X111+'Tabla Amortización Fijo'!V111+'Tabla Amortización Fijo'!S111+'Tabla Amortización Fijo'!Q111)","v":135.5522030782343},12090.423795492356,null,587338.43613926112,11954.871592414122]
[99,{"$f":"'Tabla Amortización Fijo'!C112","v":"2030-06-04"},587338.43613926112,{"$f":"IF(C106<=0,0,IF(C106<D105,C106,'Tabla Amortización Fijo'!AB112))","v":6136.5031960314209},null,{"$f":"IF(C106<=0,0,'Tabla Amortización Fijo'!AC112)","v":4501.2963910555554},10637.799587086976,null,469.87074891140895,{"$f":"IF(P105<=0.01,0,'Tabla Amortización Fijo'!R112)","v":346.56416666666667},{"$f":"IF(D106<=0,0,'Tabla Amortización Fijo'!W112+'Tabla Amortización Fijo'!U112)","v":201.63710257229769},299,{"$f":"IF(C106=0,0,'Tabla Amortización Fijo'!X112+'Tabla Amortización Fijo'!V112+'Tabla Amortización Fijo'!S112+'Tabla Amortización Fijo'!Q112)","v":135.5522030782343},12090.423808315585,null,581201.93294322968,11954.871605237351]
[100,{"$f":"'Tabla Amortización Fijo'!C113","v":"2030-07-04"},581201.93294322968,{"$f":"IF(C107<=0,0,IF(C107<D106,C107,'Tabla Amortización Fijo'!AB113))","v":6332.127910671019},null,{"$f":"IF(C107<=0,0,'Tabla Amortización Fijo'!AC113)","v":4310.5809066666679},10642.708817337687,null,464.96154635458373,{"$f":"IF(P106<=0.01,0,'Tabla Amortización Fijo'!R113)","v":346.56416666666667},{"$f":"IF(D107<=0,0,'Tabla Amortización Fijo'!W113+'Tabla Amortización Fijo'!U113)","v":201.63710257229764},299,{"$f":"IF(C107=0,0,'Tabla Amortización Fijo'!X113+'Tabla Amortización Fijo'!V113+'Tabla Amortización Fijo'!S113+'Tabla Amortización Fijo'!Q113)","v":135.5522030782343},12090.42383600947,null,574869.80503255862,11954.871632931236]
[101,{"$f":"'Tabla Amortización Fijo'!C114","v":"2030-08-04"},574869.80503255862,{"$f":"IF(C108<=0,0,IF(C108<D107,C108,'Tabla Amortización Fijo'!AB114))","v":6242.0363043150946},null,{"$f":"IF(C108<=0,0,'Tabla Amortización Fijo'!AC114)","v":4405.7381961388901},10647.774500453985,null,459.89584402604692,{"$f":"IF(P107<=0.01,0,'Tabla Amortización Fijo'!R114)","v":346.56416666666667},{"$f":"IF(D108<=0,0,'Tabla Amortización Fijo'!W114+'Tabla Amortización Fijo'!U114)","v":201.63710257229764},299,{"$f":"IF(C108=0,0,'Tabla Amortización Fijo'!X114+'Tabla Amortización Fijo'!V114+'Tabla Amortización Fijo'!S114+'Tabla Amortización Fijo'!Q114)","v":135.5522030782343},12090.423816797231,null,568627.76872824354,11954.871613718997]
[102,{"$f":"'Tabla Amortización Fijo'!C115","v":"2030-09-04"},568627.76872824354,{"$f":"IF(C109<=0,0,IF(C109<D108,C109,'Tabla Amortización Fijo'!AB115))","v":6294.8682060352285},null,{"$f":"IF(C109<=0,0,'Tabla Amortización Fijo'!AC115)","v":4357.8998951388894},10652.768101174119,null,454.90221498259484,{"$f":"IF(P108<=0.01,0,'Tabla Amortización Fijo'!R115)","v":346.56416666666667},{"$f":"IF(D109<=0,0,'Tabla Amortización Fijo'!W115+'Tabla Amortización Fijo'!U115)","v":201.63710257229764},299,{"$f":"IF(C109=0,0,'Tabla Amortización Fijo'!X115+'Tabla Amortización Fijo'!V115+'Tabla Amortización Fijo'!S115+'Tabla Amortización Fijo'!Q115)","v":135.5522030782343},12090.423788473912,null,562332.90052220831,11954.871585395678]
[103,{"$f":"'Tabla Amortización Fijo'!C116","v":"2030-10-04"},562332.90052220831,{"$f":"IF(C110<=0,0,IF(C110<D109,C110,'Tabla Amortización Fijo'!AB116))","v":6487.168460397078},null,{"$f":"IF(C110<=0,0,'Tabla Amortización Fijo'!AC116)","v":4170.6355266666669},10657.803987063744,null,449.8663204177667,{"$f":"IF(P109<=0.01,0,'Tabla Amortización Fijo'!R116)","v":346.56416666666667},{"$f":"IF(D110<=0,0,'Tabla Amortización Fijo'!W116+'Tabla Amortización Fijo'!U116)","v":201.63710257229764},299,{"$f":"IF(C110=0,0,'Tabla Amortización Fijo'!X116+'Tabla Amortización Fijo'!V116+'Tabla Amortización Fijo'!S116+'Tabla Amortización Fijo'!Q116)","v":135.5522030782343},12090.42377979871,null,555845.73206181126,11954.871576720476]
[104,{"$f":"'Tabla Amortización Fijo'!C117","v":"2030-11-04"},555845.73206181126,{"$f":"IF(C111<=0,0,IF(C111<D110,C111,'Tabla Amortización Fijo'!AB117))","v":6403.0539441536148},null,{"$f":"IF(C111<=0,0,'Tabla Amortización Fijo'!AC117)","v":4259.9397608055551},10662.99370495917,null,444.67658564944901,{"$f":"IF(P110<=0.01,0,'Tabla Amortización Fijo'!R117)","v":346.56416666666667},{"$f":"IF(D111<=0,0,'Tabla Amortización Fijo'!W117+'Tabla Amortización Fijo'!U117)","v":201.63710257229764},299,{"$f":"IF(C111=0,0,'Tabla Amortización Fijo'!X117+'Tabla Amortización Fijo'!V117+'Tabla Amortización Fijo'!S117+'Tabla Amortización Fijo'!Q117)","v":135.5522030782343},12090.423762925819,null,549442.67811765766,11954.871559847585]
[105,{"$f":"'Tabla Amortización Fijo'!C118","v":"2030-12-04"},549442.67811765766,{"$f":"IF(C112<=0,0,IF(C112<D111,C112,'Tabla Amortización Fijo'!AB118))","v":6593.0831211544701},null,{"$f":"IF(C112<=0,0,'Tabla Amortización Fijo'!AC118)","v":4075.033061666667},10668.116182821137,null,439.55414249412615,{"$f":"IF(P111<=0.01,0,'Tabla Amortización Fijo'!R118)","v":346.56416666666667},{"$f":"IF(D112<=0,0,'Tabla Amortización Fijo'!W118+'Tabla Amortización Fijo'!U118)","v":201.63710257229764},299,{"$f":"IF(C112=0,0,'Tabla Amortización Fijo'!X118+'Tabla Amortización Fijo'!V118+'Tabla Amortización Fijo'!S118+'Tabla Amortización Fijo'!Q118)","v":135.5522030782343},12090.423797632462,null,542849.59499650321,11954.871594554228]
[106,{"$f":"'Tabla Amortización Fijo'!C119","v":"2031-01-04"},542849.59499650321,{"$f":"IF(C113<=0,0,IF(C113<D112,C113,'Tabla Amortización Fijo'!AB119))","v":6513.051804259153},null,{"$f":"IF(C113<=0,0,'Tabla Amortización Fijo'!AC119)","v":4160.3388645000005},10673.390668759153,null,434.27967599720256,{"$f":"IF(P112<=0.01,0,'Tabla Amortización Fijo'!R119)","v":346.56416666666667},{"$f":"IF(D113<=0,0,'Tabla Amortización Fijo'!W119+'Tabla Amortización Fijo'!U119)","v":201.63710257229764},299,{"$f":"IF(C113=0,0,'Tabla Amortización Fijo'!X119+'Tabla Amortización Fijo'!V119+'Tabla Amortización Fijo'!S119+'Tabla Amortización Fijo'!Q119)","v":135.5522030782343},12090.423817073555,null,536336.54319224402,11954.871613995321]
[107,{"$f":"'Tabla Amortización Fijo'!C120","v":"2031-02-04"},536336.54319224402,{"$f":"IF(C114<=0,0,IF(C114<D113,C114,'Tabla Amortización Fijo'!AB120))","v":6568.1775510579791},null,{"$f":"IF(C114<=0,0,'Tabla Amortización Fijo'!AC120)","v":4110.4235729722232},10678.601124030203,null,429.06923455379524,{"$f":"IF(P113<=0.01,0,'Tabla Amortización Fijo'!R120)","v":346.56416666666667},{"$f":"IF(D114<=0,0,'Tabla Amortización Fijo'!W120+'Tabla Amortización Fijo'!U120)","v":201.63710257229764},299,{"$f":"IF(C114=0,0,'Tabla Amortización Fijo'!X120+'Tabla Amortización Fijo'!V120+'Tabla Amortización Fijo'!S120+'Tabla Amortización Fijo'!Q120)","v":135.5522030782343},12090.423830901198,null,529768.36564118601,11954.871627822964]
[108,{"$f":"'Tabla Amortización Fijo'!C121","v":"2031-03-04"},529768.36564118601,{"$f":"IF(C115<=0,0,IF(C115<D114,C115,'Tabla Amortización Fijo'!AB121))","v":7016.6814139031749},null,{"$f":"IF(C115<=0,0,'Tabla Amortización Fijo'!AC121)","v":3667.1742450000002},10683.855658903176,null,423.8146925129488,{"$f":"IF(P114<=0.01,0,'Tabla Amortización Fijo'!R121)","v":346.56416666666667},{"$f":"IF(D115<=0,0,'Tabla Amortización Fijo'!W121+'Tabla Amortización Fijo'!U121)","v":201.63710257229764},299,{"$f":"IF(C115=0,0,'Tabla Amortización Fijo'!X121+'Tabla Amortización Fijo'!V121+'Tabla Amortización Fijo'!S121+'Tabla Amortización Fijo'!Q121)","v":135.5522030782343},12090.423823733325,null,522751.68422728282,11954.871620655091]
[109,{"$f":"'Tabla Amortización Fijo'!C122","v":"2031-04-04"},522751.68422728282,{"$f":"IF(C116<=0,0,IF(C116<D115,C116,'Tabla Amortización Fijo'!AB122))","v":6683.1582879086382},null,{"$f":"IF(C116<=0,0,'Tabla Amortización Fijo'!AC122)","v":4006.3107153611118},10689.469003269751,null,418.20134738182628,{"$f":"IF(P115<=0.01,0,'Tabla Amortización Fijo'!R122)","v":346.56416666666667},{"$f":"IF(D116<=0,0,'Tabla Amortización Fijo'!W122+'Tabla Amortización Fijo'!U122)","v":201.63710257229764},299,{"$f":"IF(C116=0,0,'Tabla Amortización Fijo'!X122+'Tabla Amortización Fijo'!V122+'Tabla Amortización Fijo'!S122+'Tabla Amortización Fijo'!Q122)","v":135.5522030782343},12090.423822968776,null,516068.52593937417,11954.871619890542]
[110,{"$f":"'Tabla Amortización Fijo'!C123","v":"2031-05-04"},516068.52593937417,{"$f":"IF(C117<=0,0,IF(C117<D116,C117,'Tabla Amortización Fijo'!AB123))","v":6867.3074048860308},null,{"$f":"IF(C117<=0,0,'Tabla Amortización Fijo'!AC123)","v":3827.5081158333342},10694.815520719365,null,412.8548207514994,{"$f":"IF(P116<=0.01,0,'Tabla Amortización Fijo'!R123)","v":346.56416666666667},{"$f":"IF(D117<=0,0,'Tabla Amortización Fijo'!W123+'Tabla Amortización Fijo'!U123)","v":201.63710257229764},299,{"$f":"IF(C117=0,0,'Tabla Amortización Fijo'!X123+'Tabla Amortización Fijo'!V123+'Tabla Amortización Fijo'!S123+'Tabla Amortización Fijo'!Q123)","v":135.5522030782343},12090.423813788064,null,509201.21853448811,11954.87161070983]
[111,{"$f":"'Tabla Amortización Fijo'!C124","v":"2031-06-04"},509201.21853448811,{"$f":"IF(C118<=0,0,IF(C118<D117,C118,'Tabla Amortización Fijo'!AB124))","v":6797.8479239251528},null,{"$f":"IF(C118<=0,0,'Tabla Amortización Fijo'!AC124)","v":3902.4614188888891},10700.309342814042,null,407.3609748275905,{"$f":"IF(P117<=0.01,0,'Tabla Amortización Fijo'!R124)","v":346.56416666666667},{"$f":"IF(D118<=0,0,'Tabla Amortización Fijo'!W124+'Tabla Amortización Fijo'!U124)","v":201.63710257229764},299,{"$f":"IF(C118=0,0,'Tabla Amortización Fijo'!X124+'Tabla Amortización Fijo'!V124+'Tabla Amortización Fijo'!S124+'Tabla Amortización Fijo'!Q124)","v":135.5522030782343},12090.423789958832,null,502403.37061056297,11954.871586880598]
[112,{"$f":"'Tabla Amortización Fijo'!C125","v":"2031-07-04"},502403.37061056297,{"$f":"IF(C119<=0,0,IF(C119<D118,C119,'Tabla Amortización Fijo'!AB125))","v":6979.5894311710972},null,{"$f":"IF(C119<=0,0,'Tabla Amortización Fijo'!AC125)","v":3726.1581791666672},10705.747610337765,null,401.92269648845041,{"$f":"IF(P118<=0.01,0,'Tabla Amortización Fijo'!R125)","v":346.56416666666667},{"$f":"IF(D119<=0,0,'Tabla Amortización Fijo'!W125+'Tabla Amortización Fijo'!U125)","v":201.63710257229764},299,{"$f":"IF(C119=0,0,'Tabla Amortización Fijo'!X125+'Tabla Amortización Fijo'!V125+'Tabla Amortización Fijo'!S125+'Tabla Amortización Fijo'!Q125)","v":135.5522030782343},12090.423779143415,null,495423.7811793919,11954.871576065181]
[113,{"$f":"'Tabla Amortización Fijo'!C126","v":"2031-08-04"},495423.7811793919,{"$f":"IF(C120<=0,0,IF(C120<D119,C120,'Tabla Amortización Fijo'!AB126))","v":6914.4586228723147},null,{"$f":"IF(C120<=0,0,'Tabla Amortización Fijo'!AC126)","v":3796.8726495555561},10711.331272427871,null,396.33902494351355,{"$f":"IF(P119<=0.01,0,'Tabla Amortización Fijo'!R126)","v":346.56416666666667},{"$f":"IF(D120<=0,0,'Tabla Amortización Fijo'!W126+'Tabla Amortización Fijo'!U126)","v":201.63710257229769},299,{"$f":"IF(C120=0,0,'Tabla Amortización Fijo'!X126+'Tabla Amortización Fijo'!V126+'Tabla Amortización Fijo'!S126+'Tabla Amortización Fijo'!Q126)","v":135.5522030782343},12090.423769688585,null,488509.32255651959,11954.871566610351]
[114,{"$f":"'Tabla Amortización Fijo'!C127","v":"2031-09-04"},488509.32255651959,{"$f":"IF(C121<=0,0,IF(C121<D120,C121,'Tabla Amortización Fijo'!AB127))","v":6972.9818323831259},null,{"$f":"IF(C121<=0,0,'Tabla Amortización Fijo'!AC127)","v":3743.8809963888889},10716.862828772015,null,390.8074580452157,{"$f":"IF(P120<=0.01,0,'Tabla Amortización Fijo'!R127)","v":346.56416666666667},{"$f":"IF(D121<=0,0,'Tabla Amortización Fijo'!W127+'Tabla Amortización Fijo'!U127)","v":201.63710257229764},299,{"$f":"IF(C121=0,0,'Tabla Amortización Fijo'!X127+'Tabla Amortización Fijo'!V127+'Tabla Amortización Fijo'!S127+'Tabla Amortización Fijo'!Q127)","v":135.5522030782343},12090.42375913443,null,481536.34072413645,11954.871556056196]
[115,{"$f":"'Tabla Amortización Fijo'!C128","v":"2031-10-04"},481536.34072413645,{"$f":"IF(C122<=0,0,IF(C122<D121,C122,'Tabla Amortización Fijo'!AB128))","v":7151.0468600712356},null,{"$f":"IF(C122<=0,0,'Tabla Amortización Fijo'!AC128)","v":3571.394373333334},10722.44123340457,null,385.22907257930916,{"$f":"IF(P121<=0.01,0,'Tabla Amortización Fijo'!R128)","v":346.56416666666667},{"$f":"IF(D122<=0,0,'Tabla Amortización Fijo'!W128+'Tabla Amortización Fijo'!U128)","v":201.63710257229769},299,{"$f":"IF(C122=0,0,'Tabla Amortización Fijo'!X128+'Tabla Amortización Fijo'!V128+'Tabla Amortización Fijo'!S128+'Tabla Amortización Fijo'!Q128)","v":135.5522030782343},12090.423778301079,null,474385.2938640652,11954.871575222845]
[116,{"$f":"'Tabla Amortización Fijo'!C129","v":"2031-11-04"},474385.2938640652,{"$f":"IF(C123<=0,0,IF(C123<D122,C123,'Tabla Amortización Fijo'!AB129))","v":7092.5260418995376},null,{"$f":"IF(C123<=0,0,'Tabla Amortización Fijo'!AC129)","v":3635.6359998055559},10728.162041705094,null,379.50823509125217,{"$f":"IF(P122<=0.01,0,'Tabla Amortización Fijo'!R129)","v":346.56416666666667},{"$f":"IF(D123<=0,0,'Tabla Amortización Fijo'!W129+'Tabla Amortización Fijo'!U129)","v":201.63710257229764},299,{"$f":"IF(C123=0,0,'Tabla Amortización Fijo'!X129+'Tabla Amortización Fijo'!V129+'Tabla Amortización Fijo'!S129+'Tabla Amortización Fijo'!Q129)","v":135.5522030782343},12090.423749113546,null,467292.76782216568,11954.871546035312]
[117,{"$f":"'Tabla Amortización Fijo'!C130","v":"2031-12-04"},467292.76782216568,{"$f":"IF(C124<=0,0,IF(C124<D123,C124,'Tabla Amortización Fijo'!AB130))","v":7268.0815507490952},null,{"$f":"IF(C124<=0,0,'Tabla Amortización Fijo'!AC130)","v":3465.7544883333335},10733.836039082429,null,373.83421425773258,{"$f":"IF(P123<=0.01,0,'Tabla Amortización Fijo'!R130)","v":346.56416666666667},{"$f":"IF(D124<=0,0,'Tabla Amortización Fijo'!W130+'Tabla Amortización Fijo'!U130)","v":201.63710257229764},299,{"$f":"IF(C124=0,0,'Tabla Amortización Fijo'!X130+'Tabla Amortización Fijo'!V130+'Tabla Amortización Fijo'!S130+'Tabla Amortización Fijo'!Q130)","v":135.5522030782343},12090.423725657362,null,460024.68627141661,11954.871522579127]
[118,{"$f":"'Tabla Amortización Fijo'!C131","v":"2032-01-04"},460024.68627141661,{"$f":"IF(C125<=0,0,IF(C125<D124,C125,'Tabla Amortización Fijo'!AB131))","v":7214.0726289406493},null,{"$f":"IF(C125<=0,0,'Tabla Amortización Fijo'!AC131)","v":3525.5778803888888},10739.650509329538,null,368.01974901713334,{"$f":"IF(P124<=0.01,0,'Tabla Amortización Fijo'!R131)","v":346.56416666666667},{"$f":"IF(D125<=0,0,'Tabla Amortización Fijo'!W131+'Tabla Amortización Fijo'!U131)","v":201.63710257229764},299,{"$f":"IF(C125=0,0,'Tabla Amortización Fijo'!X131+'Tabla Amortización Fijo'!V131+'Tabla Amortización Fijo'!S131+'Tabla Amortización Fijo'!Q131)","v":135.5522030782343},12090.423730663872,null,452810.61364247598,11954.871527585638]
[119,{"$f":"'Tabla Amortización Fijo'!C132","v":"2032-02-04"},452810.61364247598,{"$f":"IF(C126<=0,0,IF(C126<D125,C126,'Tabla Amortización Fijo'!AB132))","v":7275.1317381083782},null,{"$f":"IF(C126<=0,0,'Tabla Amortización Fijo'!AC132)","v":3470.290049472223},10745.421787580601,null,362.24849091398079,{"$f":"IF(P125<=0.01,0,'Tabla Amortización Fijo'!R132)","v":346.56416666666667},{"$f":"IF(D126<=0,0,'Tabla Amortización Fijo'!W132+'Tabla Amortización Fijo'!U132)","v":201.63710257229764},299,{"$f":"IF(C126=0,0,'Tabla Amortización Fijo'!X132+'Tabla Amortización Fijo'!V132+'Tabla Amortización Fijo'!S132+'Tabla Amortización Fijo'!Q132)","v":135.5522030782343},12090.42375081178,null,445535.48190436763,11954.871547733546]
[120,{"$f":"'Tabla Amortización Fijo'!C133","v":"2032-03-04"},445535.48190436763,{"$f":"IF(C127<=0,0,IF(C127<D126,C127,'Tabla Amortización Fijo'!AB133))","v":7557.0001886222481},null,{"$f":"IF(C127<=0,0,'Tabla Amortización Fijo'!AC133)","v":3194.2417285000001},10751.241917122248,null,356.42838552349411,{"$f":"IF(P126<=0.01,0,'Tabla Amortización Fijo'!R133)","v":346.56416666666667},{"$f":"IF(D127<=0,0,'Tabla Amortización Fijo'!W133+'Tabla Amortización Fijo'!U133)","v":201.63710257229764},299,{"$f":"IF(C127=0,0,'Tabla Amortización Fijo'!X133+'Tabla Amortización Fijo'!V133+'Tabla Amortización Fijo'!S133+'Tabla Amortización Fijo'!Q133)","v":135.5522030782343},12090.423774962941,null,437978.48171574535,11954.871571884707]
[121,{"$f":"'Tabla Amortización Fijo'!C134","v":"2032-04-04"},437978.48171574535,{"$f":"IF(C128<=0,0,IF(C128<D127,C128,'Tabla Amortización Fijo'!AB134))","v":7400.6692547215671},null,{"$f":"IF(C128<=0,0,'Tabla Amortización Fijo'!AC134)","v":3356.6182531666668},10757.287507888233,null,350.38278537259629,{"$f":"IF(P127<=0.01,0,'Tabla Amortización Fijo'!R134)","v":346.56416666666667},{"$f":"IF(D128<=0,0,'Tabla Amortización Fijo'!W134+'Tabla Amortización Fijo'!U134)","v":201.63710257229764},299,{"$f":"IF(C128=0,0,'Tabla Amortización Fijo'!X134+'Tabla Amortización Fijo'!V134+'Tabla Amortización Fijo'!S134+'Tabla Amortización Fijo'!Q134)","v":135.5522030782343},12090.423765578029,null,430577.8124610238,11954.871562499795]
[122,{"$f":"'Tabla Amortización Fijo'!C135","v":"2032-05-04"},430577.8124610238,{"$f":"IF(C129<=0,0,IF(C129<D128,C129,'Tabla Amortización Fijo'!AB135))","v":7569.7561006331434},null,{"$f":"IF(C129<=0,0,'Tabla Amortización Fijo'!AC135)","v":3193.4519424999999},10763.208043133143,null,344.46224996881909,{"$f":"IF(P128<=0.01,0,'Tabla Amortización Fijo'!R135)","v":346.56416666666667},{"$f":"IF(D129<=0,0,'Tabla Amortización Fijo'!W135+'Tabla Amortización Fijo'!U135)","v":201.63710257229764},299,{"$f":"IF(C129=0,0,'Tabla Amortización Fijo'!X135+'Tabla Amortización Fijo'!V135+'Tabla Amortización Fijo'!S135+'Tabla Amortización Fijo'!Q135)","v":135.5522030782343},12090.423765419162,null,423008.05636039068,11954.871562340928]
[123,{"$f":"'Tabla Amortización Fijo'!C136","v":"2032-06-04"},423008.05636039068,{"$f":"IF(C130<=0,0,IF(C130<D129,C130,'Tabla Amortización Fijo'!AB136))","v":7527.3772715486939},null,{"$f":"IF(C130<=0,0,'Tabla Amortización Fijo'!AC136)","v":3241.886541027779},10769.263812576473,null,338.40644508831258,{"$f":"IF(P129<=0.01,0,'Tabla Amortización Fijo'!R136)","v":346.56416666666667},{"$f":"IF(D130<=0,0,'Tabla Amortización Fijo'!W136+'Tabla Amortización Fijo'!U136)","v":201.63710257229764},299,{"$f":"IF(C130=0,0,'Tabla Amortización Fijo'!X136+'Tabla Amortización Fijo'!V136+'Tabla Amortización Fijo'!S136+'Tabla Amortización Fijo'!Q136)","v":135.5522030782343},12090.423729981985,null,415480.67908884201,11954.871526903751]
[124,{"$f":"'Tabla Amortización Fijo'!C137","v":"2032-07-04"},415480.67908884201,{"$f":"IF(C131<=0,0,IF(C131<D130,C131,'Tabla Amortización Fijo'!AB137))","v":7693.8042131745715},null,{"$f":"IF(C131<=0,0,'Tabla Amortización Fijo'!AC137)","v":3081.4814875000002},10775.285700674573,null,332.3845432710736,{"$f":"IF(P130<=0.01,0,'Tabla Amortización Fijo'!R137)","v":346.56416666666667},{"$f":"IF(D131<=0,0,'Tabla Amortización Fijo'!W137+'Tabla Amortización Fijo'!U137)","v":201.63710257229764},299,{"$f":"IF(C131=0,0,'Tabla Amortización Fijo'!X137+'Tabla Amortización Fijo'!V137+'Tabla Amortización Fijo'!S137+'Tabla Amortización Fijo'!Q137)","v":135.5522030782343},12090.423716262845,null,407786.87487566745,11954.871513184611]
[125,{"$f":"'Tabla Amortización Fijo'!C138","v":"2032-08-04"},407786.87487566745,{"$f":"IF(C132<=0,0,IF(C132<D131,C132,'Tabla Amortización Fijo'!AB138))","v":7656.2076603930045},null,{"$f":"IF(C132<=0,0,'Tabla Amortización Fijo'!AC138)","v":3125.2331087500006},10781.440769143006,null,326.22949990053399,{"$f":"IF(P131<=0.01,0,'Tabla Amortización Fijo'!R138)","v":346.56416666666667},{"$f":"IF(D132<=0,0,'Tabla Amortización Fijo'!W138+'Tabla Amortización Fijo'!U138)","v":201.63710257229764},299,{"$f":"IF(C132=0,0,'Tabla Amortización Fijo'!X138+'Tabla Amortización Fijo'!V138+'Tabla Amortización Fijo'!S138+'Tabla Amortización Fijo'!Q138)","v":135.5522030782343},12090.423741360739,null,400130.66721527441,11954.871538282505]
[126,{"$f":"'Tabla Amortización Fijo'!C139","v":"2032-09-04"},400130.66721527441,{"$f":"IF(C133<=0,0,IF(C133<D132,C133,'Tabla Amortización Fijo'!AB139))","v":7721.0089513408302},null,{"$f":"IF(C133<=0,0,'Tabla Amortización Fijo'!AC139)","v":3066.5567660000002},10787.565717340831,null,320.10453377221955,{"$f":"IF(P132<=0.01,0,'Tabla Amortización Fijo'!R139)","v":346.56416666666667},{"$f":"IF(D133<=0,0,'Tabla Amortización Fijo'!W139+'Tabla Amortización Fijo'!U139)","v":201.63710257229764},299,{"$f":"IF(C133=0,0,'Tabla Amortización Fijo'!X139+'Tabla Amortización Fijo'!V139+'Tabla Amortización Fijo'!S139+'Tabla Amortización Fijo'!Q139)","v":135.5522030782343},12090.423723430249,null,392409.65826393361,11954.871520352015]
[127,{"$f":"'Tabla Amortización Fijo'!C140","v":"2032-10-04"},392409.65826393361,{"$f":"IF(C134<=0,0,IF(C134<D133,C134,'Tabla Amortización Fijo'!AB140))","v":7883.3711009525678},null,{"$f":"IF(C134<=0,0,'Tabla Amortización Fijo'!AC140)","v":2910.3714225000003},10793.742523452569,null,313.92772661114685,{"$f":"IF(P133<=0.01,0,'Tabla Amortización Fijo'!R140)","v":346.56416666666667},{"$f":"IF(D134<=0,0,'Tabla Amortización Fijo'!W140+'Tabla Amortización Fijo'!U140)","v":201.63710257229764},299,{"$f":"IF(C134=0,0,'Tabla Amortización Fijo'!X140+'Tabla Amortización Fijo'!V140+'Tabla Amortización Fijo'!S140+'Tabla Amortización Fijo'!Q140)","v":135.5522030782343},12090.423722380916,null,384526.28716298105,11954.871519302682]
[128,{"$f":"'Tabla Amortización Fijo'!C141","v":"2032-11-04"},384526.28716298105,{"$f":"IF(C135<=0,0,IF(C135<D134,C135,'Tabla Amortización Fijo'!AB141))","v":7853.0826902834351},null,{"$f":"IF(C135<=0,0,'Tabla Amortización Fijo'!AC141)","v":2946.9665315000002},10800.049221783436,null,307.62102973038486,{"$f":"IF(P134<=0.01,0,'Tabla Amortización Fijo'!R141)","v":346.56416666666667},{"$f":"IF(D135<=0,0,'Tabla Amortización Fijo'!W141+'Tabla Amortización Fijo'!U141)","v":201.63710257229764},299,{"$f":"IF(C135=0,0,'Tabla Amortización Fijo'!X141+'Tabla Amortización Fijo'!V141+'Tabla Amortización Fijo'!S141+'Tabla Amortización Fijo'!Q141)","v":135.5522030782343},12090.42372383102,null,376673.20447269763,11954.871520752786]
[129,{"$f":"'Tabla Amortización Fijo'!C142","v":"2032-12-04"},376673.20447269763,{"$f":"IF(C136<=0,0,IF(C136<D135,C136,'Tabla Amortización Fijo'!AB142))","v":8012.6722962705571},null,{"$f":"IF(C136<=0,0,'Tabla Amortización Fijo'!AC142)","v":2793.6594183333336},{"$f":"D136+F136","v":10806.33171460389},null,301.33856357815807,{"$f":"IF(P135<=0.01,0,'Tabla Amortización Fijo'!R142)","v":346.56416666666667},{"$f":"IF(D136<=0,0,'Tabla Amortización Fijo'!W142+'Tabla Amortización Fijo'!U142)","v":201.63710257229764},299,{"$f":"IF(C136=0,0,'Tabla Amortización Fijo'!X142+'Tabla Amortización Fijo'!V142+'Tabla Amortización Fijo'!S142+'Tabla Amortización Fijo'!Q142)","v":135.5522030782343},12090.423750499247,null,{"$f":"C136-D136-E136-H136","v":368660.53217642708},11954.871547421013]
[130,{"$f":"'Tabla Amortización Fijo'!C143","v":"2033-01-04"},368660.53217642708,{"$f":"IF(C137<=0,0,IF(C137<D136,C137,'Tabla Amortización Fijo'!AB143))","v":7987.3686776279646},null,{"$f":"IF(C137<=0,0,'Tabla Amortización Fijo'!AC143)","v":2825.3731863611115},10812.741863989077,null,{"$f":"IF(C137<=0,0,(C137*0.8/1000))","v":294.92842574114167},{"$f":"IF(P136<=0.01,0,'Tabla Amortización Fijo'!R143)","v":346.56416666666667},{"$f":"IF(D137<=0,0,'Tabla Amortización Fijo'!W143+'Tabla Amortización Fijo'!U143)","v":201.63710257229769},{"$f":"IF(C137<=0,,299)","v":299},{"$f":"IF(C137=0,0,'Tabla Amortización Fijo'!X143+'Tabla Amortización Fijo'!V143+'Tabla Amortización Fijo'!S143+'Tabla Amortización Fijo'!Q143)","v":135.5522030782343},12090.423762047418,null,360673.16349879908,11954.871558969184]
[131,{"$f":"'Tabla Amortización Fijo'!C144","v":"2033-02-04"},360673.16349879908,{"$f":"IF(C138<=0,0,IF(C138<D137,C138,'Tabla Amortización Fijo'!AB144))","v":8054.9728786299975},null,{"$f":"IF(C138<=0,0,'Tabla Amortización Fijo'!AC144)","v":2764.1588701666669},10819.131748796664,null,288.53853079903928,{"$f":"IF(P137<=0.01,0,'Tabla Amortización Fijo'!R144)","v":346.56416666666667},{"$f":"IF(D138<=0,0,'Tabla Amortización Fijo'!W144+'Tabla Amortización Fijo'!U144)","v":201.63710257229764},299,{"$f":"IF(C138=0,0,'Tabla Amortización Fijo'!X144+'Tabla Amortización Fijo'!V144+'Tabla Amortización Fijo'!S144+'Tabla Amortización Fijo'!Q144)","v":135.5522030782343},12090.423751912904,null,352618.1906201691,{"$f":"N138-M138+H138+E138","v":11954.87154883467}]
[132,{"$f":"'Tabla Amortización Fijo'!C145","v":"2033-03-04"},{"$f":"IF(P138<=0.01,0,P138)","v":352618.1906201691},{"$f":"IF(C139<=0,0,IF(C139<D138,C139,'Tabla Amortización Fijo'!AB145))","v":8384.6744321210281},null,{"$f":"IF(C139<=0,0,'Tabla Amortización Fijo'!AC145)","v":2440.9013323333334},10825.575764454361,null,282.09455249613529,{"$f":"IF(P138<=0.01,0,'Tabla Amortización Fijo'!R145)","v":346.56416666666667},{"$f":"IF(D139<=0,0,'Tabla Amortización Fijo'!W145+'Tabla Amortización Fijo'!U145)","v":201.63710257229764},299,{"$f":"IF(C139=0,0,'Tabla Amortización Fijo'!X145+'Tabla Amortización Fijo'!V145+'Tabla Amortización Fijo'!S145+'Tabla Amortización Fijo'!Q145)","v":135.5522030782343},12090.423789267696,null,344233.51618804806,11954.871586189462]
[133,{"$f":"'Tabla Amortización Fijo'!C146","v":"2033-04-04"},344233.51618804806,{"$f":"IF(C140<=0,0,IF(C140<D139,C140,'Tabla Amortización Fijo'!AB146))","v":8194.1162268407152},null,{"$f":"IF(C140<=0,0,'Tabla Amortización Fijo'!AC146)","v":2638.1672958333338},10832.28352267405,null,275.38681295043847,{"$f":"IF(P139<=0.01,0,'Tabla Amortización Fijo'!R146)","v":346.56416666666667},{"$f":"IF(D140<=0,0,'Tabla Amortización Fijo'!W146+'Tabla Amortización Fijo'!U146)","v":201.63710257229764},299,{"$f":"IF(C140=0,0,'Tabla Amortización Fijo'!X146+'Tabla Amortización Fijo'!V146+'Tabla Amortización Fijo'!S146+'Tabla Amortización Fijo'!Q146)","v":135.5522030782343},{"$f":"G140+K140+J140+L140+M140+I140","v":12090.423807941688},null,336039.39996120735,11954.871604863454]
[134,{"$f":"'Tabla Amortización Fijo'!C147","v":"2033-05-04"},336039.39996120735,{"$f":"IF(C141<=0,0,IF(C141<D140,C141,'Tabla Amortización Fijo'!AB147))","v":8346.5467233399686},null,{"$f":"IF(C141<=0,0,'Tabla Amortización Fijo'!AC147)","v":2492.2920683333336},10838.838791673303,null,268.83151996896589,{"$f":"IF(P140<=0.01,0,'Tabla Amortización Fijo'!R147)","v":346.56416666666667},{"$f":"IF(D141<=0,0,'Tabla Amortización Fijo'!W147+'Tabla Amortización Fijo'!U147)","v":201.63710257229764},299,{"$f":"IF(C141=0,0,'Tabla Amortización Fijo'!X147+'Tabla Amortización Fijo'!V147+'Tabla Amortización Fijo'!S147+'Tabla Amortización Fijo'!Q147)","v":135.5522030782343},12090.423783959468,null,327692.85323786736,11954.871580881234]
[135,{"$f":"'Tabla Amortización Fijo'!C148","v":"2033-06-04"},327692.85323786736,{"$f":"IF(C142<=0,0,IF(C142<D141,C142,'Tabla Amortización Fijo'!AB148))","v":8334.1145601996068},null,{"$f":"IF(C142<=0,0,'Tabla Amortización Fijo'!AC148)","v":2511.4014388055562},10845.515999005163,null,262.15428259029392,{"$f":"IF(P141<=0.01,0,'Tabla Amortización Fijo'!R148)","v":346.56416666666667},{"$f":"IF(D142<=0,0,'Tabla Amortización Fijo'!W148+'Tabla Amortización Fijo'!U148)","v":201.63710257229764},299,{"$f":"IF(C142=0,0,'Tabla Amortización Fijo'!X148+'Tabla Amortización Fijo'!V148+'Tabla Amortización Fijo'!S148+'Tabla Amortización Fijo'!Q148)","v":135.5522030782343},12090.423753912657,null,319358.73867766774,11954.871550834423]
[136,{"$f":"'Tabla Amortización Fijo'!C149","v":"2033-07-04"},319358.73867766774,{"$f":"IF(C143<=0,0,IF(C143<D142,C143,'Tabla Amortización Fijo'!AB149))","v":8483.6061568863861},null,{"$f":"IF(C143<=0,0,'Tabla Amortización Fijo'!AC149)","v":2368.5771733333336},10852.183330219719,null,255.48699094213421,{"$f":"IF(P142<=0.01,0,'Tabla Amortización Fijo'!R149)","v":346.56416666666667},{"$f":"IF(D143<=0,0,'Tabla Amortización Fijo'!W149+'Tabla Amortización Fijo'!U149)","v":201.63710257229764},299,{"$f":"IF(C143=0,0,'Tabla Amortización Fijo'!X149+'Tabla Amortización Fijo'!V149+'Tabla Amortización Fijo'!S149+'Tabla Amortización Fijo'!Q149)","v":135.5522030782343},12090.423793479053,null,310875.13252078136,11954.871590400819]
[137,{"$f":"'Tabla Amortización Fijo'!C150","v":"2033-08-04"},310875.13252078136,{"$f":"IF(C144<=0,0,IF(C144<D143,C144,'Tabla Amortización Fijo'!AB150))","v":8476.4578797133872},null,{"$f":"IF(C144<=0,0,'Tabla Amortización Fijo'!AC150)","v":2382.5123013611114},10858.970181074499,null,248.70010601662509,{"$f":"IF(P143<=0.01,0,'Tabla Amortización Fijo'!R150)","v":346.56416666666667},{"$f":"IF(D144<=0,0,'Tabla Amortización Fijo'!W150+'Tabla Amortización Fijo'!U150)","v":201.63710257229764},299,{"$f":"IF(C144=0,0,'Tabla Amortización Fijo'!X150+'Tabla Amortización Fijo'!V150+'Tabla Amortización Fijo'!S150+'Tabla Amortización Fijo'!Q150)","v":135.5522030782343},12090.423759408324,null,302398.67464106798,11954.87155633009]
[138,{"$f":"'Tabla Amortización Fijo'!C151","v":"2033-09-04"},302398.67464106798,{"$f":"IF(C145<=0,0,IF(C145<D144,C145,'Tabla Amortización Fijo'!AB151))","v":8548.201677378629},null,{"$f":"IF(C145<=0,0,'Tabla Amortización Fijo'!AC151)","v":2317.5496537500003},10865.751331128629,null,241.91893971285438,{"$f":"IF(P144<=0.01,0,'Tabla Amortización Fijo'!R151)","v":346.56416666666667},{"$f":"IF(D145<=0,0,'Tabla Amortización Fijo'!W151+'Tabla Amortización Fijo'!U151)","v":201.63710257229764},299,{"$f":"IF(C145=0,0,'Tabla Amortización Fijo'!X151+'Tabla Amortización Fijo'!V151+'Tabla Amortización Fijo'!S151+'Tabla Amortización Fijo'!Q151)","v":135.5522030782343},12090.423743158683,null,293850.47296368936,11954.871540080449]
[139,{"$f":"'Tabla Amortización Fijo'!C152","v":"2033-10-04"},293850.47296368936,{"$f":"IF(C146<=0,0,IF(C146<D145,C146,'Tabla Amortización Fijo'!AB152))","v":8693.1990735029085},null,{"$f":"IF(C146<=0,0,'Tabla Amortización Fijo'!AC152)","v":2179.3908375000001},10872.58991100291,null,235.08037837095151,{"$f":"IF(P145<=0.01,0,'Tabla Amortización Fijo'!R152)","v":346.56416666666667},{"$f":"IF(D146<=0,0,'Tabla Amortización Fijo'!W152+'Tabla Amortización Fijo'!U152)","v":201.63710257229764},299,{"$f":"IF(C146=0,0,'Tabla Amortización Fijo'!X152+'Tabla Amortización Fijo'!V152+'Tabla Amortización Fijo'!S152+'Tabla Amortización Fijo'!Q152)","v":135.5522030782343},12090.42376169106,null,285157.27389018645,11954.871558612826]
[140,{"$f":"'Tabla Amortización Fijo'!C153","v":"2033-11-04"},285157.27389018645,{"$f":"IF(C147<=0,0,IF(C147<D146,C147,'Tabla Amortización Fijo'!AB153))","v":8694.1309776228954},null,{"$f":"IF(C147<=0,0,'Tabla Amortización Fijo'!AC153)","v":2185.4134798611112},10879.544457484008,null,228.12581911214917,{"$f":"IF(P146<=0.01,0,'Tabla Amortización Fijo'!R153)","v":346.56416666666667},{"$f":"IF(D147<=0,0,'Tabla Amortización Fijo'!W153+'Tabla Amortización Fijo'!U153)","v":201.63710257229764},299,{"$f":"IF(C147=0,0,'Tabla Amortización Fijo'!X153+'Tabla Amortización Fijo'!V153+'Tabla Amortización Fijo'!S153+'Tabla Amortización Fijo'!Q153)","v":135.5522030782343},12090.423748913356,null,276463.14291256358,11954.871545835122]
[141,{"$f":"'Tabla Amortización Fijo'!C154","v":"2033-12-04"},276463.14291256358,{"$f":"IF(C148<=0,0,IF(C148<D147,C148,'Tabla Amortización Fijo'!AB154))","v":8836.0649687563255},null,{"$f":"IF(C148<=0,0,'Tabla Amortización Fijo'!AC154)","v":2050.4348066666666},10886.499775422992,null,221.17051433005088,{"$f":"IF(P147<=0.01,0,'Tabla Amortización Fijo'!R154)","v":346.56416666666667},{"$f":"IF(D148<=0,0,'Tabla Amortización Fijo'!W154+'Tabla Amortización Fijo'!U154)","v":201.63710257229764},299,{"$f":"IF(C148=0,0,'Tabla Amortización Fijo'!X154+'Tabla Amortización Fijo'!V154+'Tabla Amortización Fijo'!S154+'Tabla Amortización Fijo'!Q154)","v":135.5522030782343},12090.423762070242,null,267627.07794380723,11954.871558992008]
[142,{"$f":"'Tabla Amortización Fijo'!C155","v":"2034-01-04"},267627.07794380723,{"$f":"IF(C149<=0,0,IF(C149<D148,C149,'Tabla Amortización Fijo'!AB155))","v":8842.5046083134985},null,{"$f":"IF(C149<=0,0,'Tabla Amortización Fijo'!AC155)","v":2051.0640515000005},10893.5686598135,null,214.10166235504579,{"$f":"IF(P148<=0.01,0,'Tabla Amortización Fijo'!R155)","v":346.56416666666667},{"$f":"IF(D149<=0,0,'Tabla Amortización Fijo'!W155+'Tabla Amortización Fijo'!U155)","v":201.63710257229764},299,{"$f":"IF(C149=0,0,'Tabla Amortización Fijo'!X155+'Tabla Amortización Fijo'!V155+'Tabla Amortización Fijo'!S155+'Tabla Amortización Fijo'!Q155)","v":135.5522030782343},12090.423794485745,null,258784.57333549374,11954.871591407511]
[143,{"$f":"'Tabla Amortización Fijo'!C156","v":"2034-02-04"},258784.57333549374,{"$f":"IF(C150<=0,0,IF(C150<D149,C150,'Tabla Amortización Fijo'!AB156))","v":8917.3465848177511},null,{"$f":"IF(C150<=0,0,'Tabla Amortización Fijo'!AC156)","v":1983.2961140000002},10900.642698817752,null,207.02765866839502,{"$f":"IF(P149<=0.01,0,'Tabla Amortización Fijo'!R156)","v":346.56416666666667},{"$f":"IF(D150<=0,0,'Tabla Amortización Fijo'!W156+'Tabla Amortización Fijo'!U156)","v":201.63710257229764},299,{"$f":"IF(C150=0,0,'Tabla Amortización Fijo'!X156+'Tabla Amortización Fijo'!V156+'Tabla Amortización Fijo'!S156+'Tabla Amortización Fijo'!Q156)","v":135.5522030782343},12090.423829803347,null,249867.226750676,11954.871626725113]
[144,{"$f":"'Tabla Amortización Fijo'!C157","v":"2034-03-04"},249867.226750676,{"$f":"IF(C151<=0,0,IF(C151<D150,C151,'Tabla Amortización Fijo'!AB157))","v":9178.1402086687813},null,{"$f":"IF(C151<=0,0,'Tabla Amortización Fijo'!AC157)","v":1729.6363536666668},10907.776562335448,null,199.8937814005408,{"$f":"IF(P150<=0.01,0,'Tabla Amortización Fijo'!R157)","v":346.56416666666667},{"$f":"IF(D151<=0,0,'Tabla Amortización Fijo'!W157+'Tabla Amortización Fijo'!U157)","v":201.63710257229764},299,{"$f":"IF(C151=0,0,'Tabla Amortización Fijo'!X157+'Tabla Amortización Fijo'!V157+'Tabla Amortización Fijo'!S157+'Tabla Amortización Fijo'!Q157)","v":135.5522030782343},12090.423816053188,null,240689.08654200722,11954.871612974954]
[145,{"$f":"'Tabla Amortización Fijo'!C158","v":"2034-04-04"},240689.08654200722,{"$f":"IF(C152<=0,0,IF(C152<D151,C152,'Tabla Amortización Fijo'!AB158))","v":9070.5047744281801},null,{"$f":"IF(C152<=0,0,'Tabla Amortización Fijo'!AC158)","v":1844.6142892500002},10915.119063678179,null,192.55126923360581,{"$f":"IF(P151<=0.01,0,'Tabla Amortización Fijo'!R158)","v":346.56416666666667},{"$f":"IF(D152<=0,0,'Tabla Amortización Fijo'!W158+'Tabla Amortización Fijo'!U158)","v":201.63710257229764},299,{"$f":"IF(C152=0,0,'Tabla Amortización Fijo'!X158+'Tabla Amortización Fijo'!V158+'Tabla Amortización Fijo'!S158+'Tabla Amortización Fijo'!Q158)","v":135.5522030782343},12090.423805228984,null,231618.58176757905,11954.87160215075]
[146,{"$f":"'Tabla Amortización Fijo'!C159","v":"2034-05-04"},231618.58176757905,{"$f":"IF(C153<=0,0,IF(C153<D152,C153,'Tabla Amortización Fijo'!AB159))","v":9204.5377794976157},null,{"$f":"IF(C153<=0,0,'Tabla Amortización Fijo'!AC159)","v":1717.8377275000003},10922.375506997616,null,185.29486541406325,{"$f":"IF(P152<=0.01,0,'Tabla Amortización Fijo'!R159)","v":346.56416666666667},{"$f":"IF(D153<=0,0,'Tabla Amortización Fijo'!W159+'Tabla Amortización Fijo'!U159)","v":201.63710257229769},299,{"$f":"IF(C153=0,0,'Tabla Amortización Fijo'!X159+'Tabla Amortización Fijo'!V159+'Tabla Amortización Fijo'!S159+'Tabla Amortización Fijo'!Q159)","v":135.5522030782343},12090.423844728879,null,222414.04398808142,11954.871641650645]
[147,{"$f":"'Tabla Amortización Fijo'!C160","v":"2034-06-04"},222414.04398808142,{"$f":"IF(C154<=0,0,IF(C154<D153,C154,'Tabla Amortización Fijo'!AB160))","v":9225.1827040443241},null,{"$f":"IF(C154<=0,0,'Tabla Amortización Fijo'!AC160)","v":1704.5564132500001},10929.739117294324,null,177.93123519046515,{"$f":"IF(P153<=0.01,0,'Tabla Amortización Fijo'!R160)","v":346.56416666666667},{"$f":"IF(D154<=0,0,'Tabla Amortización Fijo'!W160+'Tabla Amortización Fijo'!U160)","v":201.63710257229764},299,{"$f":"IF(C154=0,0,'Tabla Amortización Fijo'!X160+'Tabla Amortización Fijo'!V160+'Tabla Amortización Fijo'!S160+'Tabla Amortización Fijo'!Q160)","v":135.5522030782343},12090.423824801988,null,213188.86128403709,11954.871621723754]
[148,{"$f":"'Tabla Amortización Fijo'!C161","v":"2034-07-04"},213188.86128403709,{"$f":"IF(C155<=0,0,IF(C155<D154,C155,'Tabla Amortización Fijo'!AB161))","v":9355.9686494707184},null,{"$f":"IF(C155<=0,0,'Tabla Amortización Fijo'!AC161)","v":1581.1506375000001},10937.119286970719,null,170.55108902722969,{"$f":"IF(P154<=0.01,0,'Tabla Amortización Fijo'!R161)","v":346.56416666666667},{"$f":"IF(D155<=0,0,'Tabla Amortización Fijo'!W161+'Tabla Amortización Fijo'!U161)","v":201.63710257229764},299,{"$f":"IF(C155=0,0,'Tabla Amortización Fijo'!X161+'Tabla Amortización Fijo'!V161+'Tabla Amortización Fijo'!S161+'Tabla Amortización Fijo'!Q161)","v":135.5522030782343},12090.423848315148,null,203832.89263456638,11954.871645236914]
[149,{"$f":"'Tabla Amortización Fijo'!C162","v":"2034-08-04"},203832.89263456638,{"$f":"IF(C156<=0,0,IF(C156<D155,C156,'Tabla Amortización Fijo'!AB162))","v":9382.4515045281023},null,{"$f":"IF(C156<=0,0,'Tabla Amortización Fijo'!AC162)","v":1562.1525442222223},10944.604048750325,null,163.06631410765311,{"$f":"IF(P155<=0.01,0,'Tabla Amortización Fijo'!R162)","v":346.56416666666667},{"$f":"IF(D156<=0,0,'Tabla Amortización Fijo'!W162+'Tabla Amortización Fijo'!U162)","v":201.63710257229764},299,{"$f":"IF(C156=0,0,'Tabla Amortización Fijo'!X162+'Tabla Amortización Fijo'!V162+'Tabla Amortización Fijo'!S162+'Tabla Amortización Fijo'!Q162)","v":135.5522030782343},12090.423835175177,null,194450.44113003826,11954.871632096943]
[150,{"$f":"'Tabla Amortización Fijo'!C163","v":"2034-09-04"},194450.44113003826,{"$f":"IF(C157<=0,0,IF(C157<D156,C157,'Tabla Amortización Fijo'!AB163))","v":9461.8635315678148},null,{"$f":"IF(C157<=0,0,'Tabla Amortización Fijo'!AC163)","v":1490.2464899166669},10952.110021484481,null,155.56035290403062,{"$f":"IF(P156<=0.01,0,'Tabla Amortización Fijo'!R163)","v":346.56416666666667},{"$f":"IF(D157<=0,0,'Tabla Amortización Fijo'!W163+'Tabla Amortización Fijo'!U163)","v":201.63710257229764},299,{"$f":"IF(C157=0,0,'Tabla Amortización Fijo'!X163+'Tabla Amortización Fijo'!V163+'Tabla Amortización Fijo'!S163+'Tabla Amortización Fijo'!Q163)","v":135.5522030782343},12090.423846705711,null,184988.57759847044,11954.871643627477]
[151,{"$f":"'Tabla Amortización Fijo'!C164","v":"2034-10-04"},184988.57759847044,{"$f":"IF(C158<=0,0,IF(C158<D157,C158,'Tabla Amortización Fijo'!AB164))","v":9587.6809804204586},null,{"$f":"IF(C158<=0,0,'Tabla Amortización Fijo'!AC164)","v":1371.9985608333336},10959.679541253792,null,147.99086207877636,{"$f":"IF(P157<=0.01,0,'Tabla Amortización Fijo'!R164)","v":346.56416666666667},{"$f":"IF(D158<=0,0,'Tabla Amortización Fijo'!W164+'Tabla Amortización Fijo'!U164)","v":201.63710257229764},299,{"$f":"IF(C158=0,0,'Tabla Amortización Fijo'!X164+'Tabla Amortización Fijo'!V164+'Tabla Amortización Fijo'!S164+'Tabla Amortización Fijo'!Q164)","v":135.5522030782343},12090.423875649767,null,175400.89661804997,11954.871672571533]
[152,{"$f":"'Tabla Amortización Fijo'!C165","v":"2034-11-04"},175400.89661804997,{"$f":"IF(C159<=0,0,IF(C159<D158,C159,'Tabla Amortización Fijo'!AB165))","v":9623.0967597012277},null,{"$f":"IF(C159<=0,0,'Tabla Amortización Fijo'!AC165)","v":1344.2529319722225},10967.349691673451,null,140.32071729443999,{"$f":"IF(P158<=0.01,0,'Tabla Amortización Fijo'!R165)","v":346.56416666666667},{"$f":"IF(D159<=0,0,'Tabla Amortización Fijo'!W165+'Tabla Amortización Fijo'!U165)","v":201.63710257229764},299,{"$f":"IF(C159=0,0,'Tabla Amortización Fijo'!X165+'Tabla Amortización Fijo'!V165+'Tabla Amortización Fijo'!S165+'Tabla Amortización Fijo'!Q165)","v":135.5522030782343},12090.423881285091,null,165777.79985834874,11954.871678206857]
[153,{"$f":"'Tabla Amortización Fijo'!C166","v":"2034-12-04"},165777.79985834874,{"$f":"IF(C160<=0,0,IF(C160<D159,C160,'Tabla Amortización Fijo'!AB166))","v":9745.5295375184578},null,{"$f":"IF(C160<=0,0,'Tabla Amortización Fijo'!AC166)","v":1229.5186091666667},10975.048146685125,null,132.62223988667898,{"$f":"IF(P159<=0.01,0,'Tabla Amortización Fijo'!R166)","v":346.56416666666667},{"$f":"IF(D160<=0,0,'Tabla Amortización Fijo'!W166+'Tabla Amortización Fijo'!U166)","v":201.63710257229764},299,{"$f":"IF(C160=0,0,'Tabla Amortización Fijo'!X166+'Tabla Amortización Fijo'!V166+'Tabla Amortización Fijo'!S166+'Tabla Amortización Fijo'!Q166)","v":135.5522030782343},12090.423858889004,null,156032.27032083028,11954.87165581077]
[154,{"$f":"'Tabla Amortización Fijo'!C167","v":"2035-01-04"},156032.27032083028,{"$f":"IF(C161<=0,0,IF(C161<D160,C161,'Tabla Amortización Fijo'!AB167))","v":9787.0306606113081},null,{"$f":"IF(C161<=0,0,'Tabla Amortización Fijo'!AC167)","v":1195.8139037222224},10982.844564333531,null,124.82581625666423,{"$f":"IF(P160<=0.01,0,'Tabla Amortización Fijo'!R167)","v":346.56416666666667},{"$f":"IF(D161<=0,0,'Tabla Amortización Fijo'!W167+'Tabla Amortización Fijo'!U167)","v":201.63710257229764},299,{"$f":"IF(C161=0,0,'Tabla Amortización Fijo'!X167+'Tabla Amortización Fijo'!V167+'Tabla Amortización Fijo'!S167+'Tabla Amortización Fijo'!Q167)","v":135.5522030782343},12090.423852907394,null,146245.23966021897,11954.87164982916]
[155,{"$f":"'Tabla Amortización Fijo'!C168","v":"2035-02-04"},146245.23966021897,{"$f":"IF(C162<=0,0,IF(C162<D161,C162,'Tabla Amortización Fijo'!AB168))","v":9869.8670006748707},null,{"$f":"IF(C162<=0,0,'Tabla Amortización Fijo'!AC168)","v":1120.80719325},10990.674193924871,null,116.99619172817518,{"$f":"IF(P161<=0.01,0,'Tabla Amortización Fijo'!R168)","v":346.56416666666667},{"$f":"IF(D162<=0,0,'Tabla Amortización Fijo'!W168+'Tabla Amortización Fijo'!U168)","v":201.63710257229764},299,{"$f":"IF(C162=0,0,'Tabla Amortización Fijo'!X168+'Tabla Amortización Fijo'!V168+'Tabla Amortización Fijo'!S168+'Tabla Amortización Fijo'!Q168)","v":135.5522030782343},12090.423857970245,null,136375.37265954411,11954.871654892011]
[156,{"$f":"'Tabla Amortización Fijo'!C169","v":"2035-03-04"},136375.37265954411,{"$f":"IF(C163<=0,0,IF(C163<D162,C163,'Tabla Amortización Fijo'!AB169))","v":10054.549526372521},null,{"$f":"IF(C163<=0,0,'Tabla Amortización Fijo'!AC169)","v":944.02054755555548},10998.570073928076,null,109.1002981276353,{"$f":"IF(P162<=0.01,0,'Tabla Amortización Fijo'!R169)","v":346.56416666666667},{"$f":"IF(D163<=0,0,'Tabla Amortización Fijo'!W169+'Tabla Amortización Fijo'!U169)","v":201.63710257229764},299,{"$f":"IF(C163=0,0,'Tabla Amortización Fijo'!X169+'Tabla Amortización Fijo'!V169+'Tabla Amortización Fijo'!S169+'Tabla Amortización Fijo'!Q169)","v":135.5522030782343},12090.423844372912,null,126320.82313317159,11954.871641294678]
[157,{"$f":"'Tabla Amortización Fijo'!C170","v":"2035-04-04"},126320.82313317159,{"$f":"IF(C164<=0,0,IF(C164<D163,C164,'Tabla Amortización Fijo'!AB170))","v":10038.505048335741},null,{"$f":"IF(C164<=0,0,'Tabla Amortización Fijo'!AC170)","v":968.10865219444452},11006.613700530186,null,101.05665850653727,{"$f":"IF(P163<=0.01,0,'Tabla Amortización Fijo'!R170)","v":346.56416666666667},{"$f":"IF(D164<=0,0,'Tabla Amortización Fijo'!W170+'Tabla Amortización Fijo'!U170)","v":201.63710257229764},299,{"$f":"IF(C164=0,0,'Tabla Amortización Fijo'!X170+'Tabla Amortización Fijo'!V170+'Tabla Amortización Fijo'!S170+'Tabla Amortización Fijo'!Q170)","v":135.5522030782343},12090.423831353923,null,116282.31808483586,11954.871628275689]
[158,{"$f":"'Tabla Amortización Fijo'!C171","v":"2035-05-04"},116282.31808483586,{"$f":"IF(C165<=0,0,IF(C165<D164,C165,'Tabla Amortización Fijo'!AB171))","v":10152.217412757487},null,{"$f":"IF(C165<=0,0,'Tabla Amortización Fijo'!AC171)","v":862.42705833333343},11014.64447109082,null,93.025854467868683,{"$f":"IF(P164<=0.01,0,'Tabla Amortización Fijo'!R171)","v":346.56416666666667},{"$f":"IF(D165<=0,0,'Tabla Amortización Fijo'!W171+'Tabla Amortización Fijo'!U171)","v":201.63710257229764},299,{"$f":"IF(C165=0,0,'Tabla Amortización Fijo'!X171+'Tabla Amortización Fijo'!V171+'Tabla Amortización Fijo'!S171+'Tabla Amortización Fijo'!Q171)","v":135.5522030782343},12090.423797875888,null,106130.10067207838,11954.871594797654]
[159,{"$f":"'Tabla Amortización Fijo'!C172","v":"2035-06-04"},106130.10067207838,{"$f":"IF(C166<=0,0,IF(C166<D165,C166,'Tabla Amortización Fijo'!AB172))","v":10209.397079832826},null,{"$f":"IF(C166<=0,0,'Tabla Amortización Fijo'!AC172)","v":813.36914088888898},11022.766220721714,null,84.904080537662708,{"$f":"IF(P165<=0.01,0,'Tabla Amortización Fijo'!R172)","v":346.56416666666667},{"$f":"IF(D166<=0,0,'Tabla Amortización Fijo'!W172+'Tabla Amortización Fijo'!U172)","v":201.63710257229764},299,{"$f":"IF(C166=0,0,'Tabla Amortización Fijo'!X172+'Tabla Amortización Fijo'!V172+'Tabla Amortización Fijo'!S172+'Tabla Amortización Fijo'!Q172)","v":135.5522030782343},12090.423773576576,null,95920.703592245554,11954.871570498342]
[160,{"$f":"'Tabla Amortización Fijo'!C173","v":"2035-07-04"},95920.703592245554,{"$f":"IF(C167<=0,0,IF(C167<D166,C167,'Tabla Amortización Fijo'!AB173))","v":10319.522011838271},null,{"$f":"IF(C167<=0,0,'Tabla Amortización Fijo'!AC173)","v":711.41171000000008},11030.933721838272,null,76.736562873796444,{"$f":"IF(P166<=0.01,0,'Tabla Amortización Fijo'!R173)","v":346.56416666666667},{"$f":"IF(D167<=0,0,'Tabla Amortización Fijo'!W173+'Tabla Amortización Fijo'!U173)","v":201.63710257229764},299,{"$f":"IF(C167=0,0,'Tabla Amortización Fijo'!X173+'Tabla Amortización Fijo'!V173+'Tabla Amortización Fijo'!S173+'Tabla Amortización Fijo'!Q173)","v":135.5522030782343},12090.423757029268,null,85601.181580407283,11954.871553951034]
[161,{"$f":"'Tabla Amortización Fijo'!C174","v":"2035-08-04"},85601.181580407283,{"$f":"IF(C168<=0,0,IF(C168<D167,C168,'Tabla Amortización Fijo'!AB174))","v":10383.15157003372},null,{"$f":"IF(C168<=0,0,'Tabla Amortización Fijo'!AC174)","v":656.037779},11039.189349033721,null,68.480945264325825,{"$f":"IF(P167<=0.01,0,'Tabla Amortización Fijo'!R174)","v":346.56416666666667},{"$f":"IF(D168<=0,0,'Tabla Amortización Fijo'!W174+'Tabla Amortización Fijo'!U174)","v":201.63710257229764},299,{"$f":"IF(C168=0,0,'Tabla Amortización Fijo'!X174+'Tabla Amortización Fijo'!V174+'Tabla Amortización Fijo'!S174+'Tabla Amortización Fijo'!Q174)","v":135.5522030782343},12090.423766615246,null,75218.030010373564,11954.871563537012]
[162,{"$f":"'Tabla Amortización Fijo'!C175","v":"2035-09-04"},75218.030010373564,{"$f":"IF(C169<=0,0,IF(C169<D168,C169,'Tabla Amortización Fijo'!AB175))","v":10471.033411238977},null,{"$f":"IF(C169<=0,0,'Tabla Amortización Fijo'!AC175)","v":576.46247108333341},11047.495882322311,null,60.174424008298857,{"$f":"IF(P168<=0.01,0,'Tabla Amortización Fijo'!R175)","v":346.56416666666667},{"$f":"IF(D169<=0,0,'Tabla Amortización Fijo'!W175+'Tabla Amortización Fijo'!U175)","v":201.63710257229764},299,{"$f":"IF(C169=0,0,'Tabla Amortización Fijo'!X175+'Tabla Amortización Fijo'!V175+'Tabla Amortización Fijo'!S175+'Tabla Amortización Fijo'!Q175)","v":135.5522030782343},12090.42377864781,null,64746.996599134589,11954.871575569576]
[163,{"$f":"'Tabla Amortización Fijo'!C176","v":"2035-10-04"},64746.996599134589,{"$f":"IF(C170<=0,0,IF(C170<D169,C170,'Tabla Amortización Fijo'!AB176))","v":10575.665970964999},null,{"$f":"IF(C170<=0,0,'Tabla Amortización Fijo'!AC176)","v":480.20676833333346},11055.872739298333,null,51.797597279307674,{"$f":"IF(P169<=0.01,0,'Tabla Amortización Fijo'!R176)","v":346.56416666666667},{"$f":"IF(D170<=0,0,'Tabla Amortización Fijo'!W176+'Tabla Amortización Fijo'!U176)","v":201.63710257229764},299,{"$f":"IF(C170=0,0,'Tabla Amortización Fijo'!X176+'Tabla Amortización Fijo'!V176+'Tabla Amortización Fijo'!S176+'Tabla Amortización Fijo'!Q176)","v":135.5522030782343},12090.42380889484,null,54171.330628169591,11954.871605816606]
[164,{"$f":"'Tabla Amortización Fijo'!C177","v":"2035-11-04"},54171.330628169591,{"$f":"IF(C171<=0,0,IF(C171<D170,C171,'Tabla Amortización Fijo'!AB177))","v":10649.1703362878},null,{"$f":"IF(C171<=0,0,'Tabla Amortización Fijo'!AC177)","v":415.16290080555552},11064.333237093355,null,43.337064502535682,{"$f":"IF(P170<=0.01,0,'Tabla Amortización Fijo'!R177)","v":346.56416666666667},{"$f":"IF(D171<=0,0,'Tabla Amortización Fijo'!W177+'Tabla Amortización Fijo'!U177)","v":201.63710257229764},299,{"$f":"IF(C171=0,0,'Tabla Amortización Fijo'!X177+'Tabla Amortización Fijo'!V177+'Tabla Amortización Fijo'!S177+'Tabla Amortización Fijo'!Q177)","v":135.5522030782343},12090.423773913089,null,43522.160291881795,11954.871570834855]
[165,{"$f":"'Tabla Amortización Fijo'!C178","v":"2035-12-04"},43522.160291881795,{"$f":"IF(C172<=0,0,IF(C172<D171,C172,'Tabla Amortización Fijo'!AB178))","v":10750.063375956261},null,{"$f":"IF(C172<=0,0,'Tabla Amortización Fijo'!AC178)","v":322.78920500000004},11072.85258095626,null,34.817728233505441,{"$f":"IF(P171<=0.01,0,'Tabla Amortización Fijo'!R178)","v":346.56416666666667},{"$f":"IF(D172<=0,0,'Tabla Amortización Fijo'!W178+'Tabla Amortización Fijo'!U178)","v":201.63710257229764},299,{"$f":"IF(C172=0,0,'Tabla Amortización Fijo'!X178+'Tabla Amortización Fijo'!V178+'Tabla Amortización Fijo'!S178+'Tabla Amortización Fijo'!Q178)","v":135.5522030782343},12090.423781506965,null,32772.096915925533,11954.871578428731]
[166,{"$f":"'Tabla Amortización Fijo'!C179","v":"2036-01-04"},32772.096915925533,{"$f":"IF(C173<=0,0,IF(C173<D172,C173,'Tabla Amortización Fijo'!AB179))","v":10830.291072735597},null,{"$f":"IF(C173<=0,0,'Tabla Amortización Fijo'!AC179)","v":251.16157977777783},11081.452652513375,null,26.217677532740428,{"$f":"IF(P172<=0.01,0,'Tabla Amortización Fijo'!R179)","v":346.56416666666667},{"$f":"IF(D173<=0,0,'Tabla Amortización Fijo'!W179+'Tabla Amortización Fijo'!U179)","v":201.63710257229764},299,{"$f":"IF(C173=0,0,'Tabla Amortización Fijo'!X179+'Tabla Amortización Fijo'!V179+'Tabla Amortización Fijo'!S179+'Tabla Amortización Fijo'!Q179)","v":135.5522030782343},12090.423802363315,null,21941.805843189934,11954.871599285081]
[167,{"$f":"'Tabla Amortización Fijo'!C180","v":"2036-02-04"},21941.805843189934,{"$f":"IF(C174<=0,0,IF(C174<D173,C174,'Tabla Amortización Fijo'!AB180))","v":10921.957453009558},null,{"$f":"IF(C174<=0,0,'Tabla Amortización Fijo'!AC180)","v":168.15944058333335},11090.116893592891,null,17.553444674551947,{"$f":"IF(P173<=0.01,0,'Tabla Amortización Fijo'!R180)","v":346.56416666666667},{"$f":"IF(D174<=0,0,'Tabla Amortización Fijo'!W180+'Tabla Amortización Fijo'!U180)","v":201.63710257229764},299,{"$f":"IF(C174=0,0,'Tabla Amortización Fijo'!X180+'Tabla Amortización Fijo'!V180+'Tabla Amortización Fijo'!S180+'Tabla Amortización Fijo'!Q180)","v":135.5522030782343},12090.423810584642,null,11019.848390180376,11954.871607506408]
[168,{"$f":"'Tabla Amortización Fijo'!C181","v":"2036-03-04"},11019.848390180376,{"$f":"IF(C175<=0,0,IF(C175<D174,C175,'Tabla Amortización Fijo'!AB181))","v":11019.83},null,{"$f":"IF(C175<=0,0,'Tabla Amortización Fijo'!AC181)","v":79.006058972222235},11098.836058972222,null,8.8158787121443005,{"$f":"IF(P174<=0.01,0,'Tabla Amortización Fijo'!R181)","v":346.56416666666667},{"$f":"IF(D175<=0,0,'Tabla Amortización Fijo'!W181+'Tabla Amortización Fijo'!U181)","v":201.63710257229764},299,{"$f":"IF(C175=0,0,'Tabla Amortización Fijo'!X181+'Tabla Amortización Fijo'!V181+'Tabla Amortización Fijo'!S181+'Tabla Amortización Fijo'!Q181)","v":135.5522030782343},12090.405410001566,null,1.8390180375718046E-2,11954.853206923332]
[169,{"$f":"'Tabla Amortización Fijo'!C182","v":"2036-04-04"},1.8390180375718046E-2,{"$f":"IF(C176<=0,0,IF(C176<D175,C176,'Tabla Amortización Fijo'!AB182))","v":1.8390180375718046E-2},null,{"$f":"IF(C176<=0,0,'Tabla Amortización Fijo'!AC182)","v":0},1.8390180375718046E-2,null,1.4712144300574437E-5,{"$f":"IF(P175<=0.01,0,'Tabla Amortización Fijo'!R182)","v":346.56416666666667},{"$f":"IF(D176<=0,0,'Tabla Amortización Fijo'!W182+'Tabla Amortización Fijo'!U182)","v":201.63710257229764},299,{"$f":"IF(C176=0,0,'Tabla Amortización Fijo'!X182+'Tabla Amortización Fijo'!V182+'Tabla Amortización Fijo'!S182+'Tabla Amortización Fijo'!Q182)","v":135.5522030782343},982.7718772097187,null,0,847.21967413148445]
[170,{"$f":"'Tabla Amortización Fijo'!C183","v":"2036-05-04"},0,{"$f":"IF(C177<=0,0,IF(C177<D176,C177,'Tabla Amortización Fijo'!AB183))","v":0},null,{"$f":"IF(C177<=0,0,'Tabla Amortización Fijo'!AC183)","v":0},0,null,0,{"$f":"IF(P176<=0.01,0,'Tabla Amortización Fijo'!R183)","v":0},{"$f":"IF(D177<=0,0,'Tabla Amortización Fijo'!W183+'Tabla Amortización Fijo'!U183)","v":0},0,{"$f":"IF(C177=0,0,'Tabla Amortización Fijo'!X183+'Tabla Amortización Fijo'!V183+'Tabla Amortización Fijo'!S183+'Tabla Amortización Fijo'!Q183)","v":0},0,null,0,0]
[171,{"$f":"'Tabla Amortización Fijo'!C184","v":"2036-06-04"},0,{"$f":"IF(C178<=0,0,IF(C178<D177,C178,'Tabla Amortización Fijo'!AB184))","v":0},null,{"$f":"IF(C178<=0,0,'Tabla Amortización Fijo'!AC184)","v":0},0,null,0,{"$f":"IF(P177<=0.01,0,'Tabla Amortización Fijo'!R184)","v":0},{"$f":"IF(D178<=0,0,'Tabla Amortización Fijo'!W184+'Tabla Amortización Fijo'!U184)","v":0},0,{"$f":"IF(C178=0,0,'Tabla Amortización Fijo'!X184+'Tabla Amortización Fijo'!V184+'Tabla Amortización Fijo'!S184+'Tabla Amortización Fijo'!Q184)","v":0},0,null,0,0]
[172,{"$f":"'Tabla Amortización Fijo'!C185","v":"2036-07-04"},0,{"$f":"IF(C179<=0,0,IF(C179<D178,C179,'Tabla Amortización Fijo'!AB185))","v":0},null,{"$f":"IF(C179<=0,0,'Tabla Amortización Fijo'!AC185)","v":0},0,null,0,{"$f":"IF(P178<=0.01,0,'Tabla Amortización Fijo'!R185)","v":0},{"$f":"IF(D179<=0,0,'Tabla Amortización Fijo'!W185+'Tabla Amortización Fijo'!U185)","v":0},0,{"$f":"IF(C179=0,0,'Tabla Amortización Fijo'!X185+'Tabla Amortización Fijo'!V185+'Tabla Amortización Fijo'!S185+'Tabla Amortización Fijo'!Q185)","v":0},0,null,0,0]
[173,{"$f":"'Tabla Amortización Fijo'!C186","v":"2036-08-04"},0,{"$f":"IF(C180<=0,0,IF(C180<D179,C180,'Tabla Amortización Fijo'!AB186))","v":0},null,{"$f":"IF(C180<=0,0,'Tabla Amortización Fijo'!AC186)","v":0},0,null,0,{"$f":"IF(P179<=0.01,0,'Tabla Amortización Fijo'!R186)","v":0},{"$f":"IF(D180<=0,0,'Tabla Amortización Fijo'!W186+'Tabla Amortización Fijo'!U186)","v":0},0,{"$f":"IF(C180=0,0,'Tabla Amortización Fijo'!X186+'Tabla Amortización Fijo'!V186+'Tabla Amortización Fijo'!S186+'Tabla Amortización Fijo'!Q186)","v":0},0,null,0,0]
[174,{"$f":"'Tabla Amortización Fijo'!C187","v":"2036-09-04"},0,{"$f":"IF(C181<=0,0,IF(C181<D180,C181,'Tabla Amortización Fijo'!AB187))","v":0},null,{"$f":"IF(C181<=0,0,'Tabla Amortización Fijo'!AC187)","v":0},0,null,0,{"$f":"IF(P180<=0.01,0,'Tabla Amortización Fijo'!R187)","v":0},{"$f":"IF(D181<=0,0,'Tabla Amortización Fijo'!W187+'Tabla Amortización Fijo'!U187)","v":0},0,{"$f":"IF(C181=0,0,'Tabla Amortización Fijo'!X187+'Tabla Amortización Fijo'!V187+'Tabla Amortización Fijo'!S187+'Tabla Amortización Fijo'!Q187)","v":0},0,null,0,0]
[175,{"$f":"'Tabla Amortización Fijo'!C188","v":"2036-10-04"},0,{"$f":"IF(C182<=0,0,IF(C182<D181,C182,'Tabla Amortización Fijo'!AB188))","v":0},null,{"$f":"IF(C182<=0,0,'Tabla Amortización Fijo'!AC188)","v":0},0,null,0,{"$f":"IF(P181<=0.01,0,'Tabla Amortización Fijo'!R188)","v":0},{"$f":"IF(D182<=0,0,'Tabla Amortización Fijo'!W188+'Tabla Amortización Fijo'!U188)","v":0},0,{"$f":"IF(C182=0,0,'Tabla Amortización Fijo'!X188+'Tabla Amortización Fijo'!V188+'Tabla Amortización Fijo'!S188+'Tabla Amortización Fijo'!Q188)","v":0},0,null,0,0]
[176,{"$f":"'Tabla Amortización Fijo'!C189","v":"2036-11-04"},0,{"$f":"IF(C183<=0,0,IF(C183<D182,C183,'Tabla Amortización Fijo'!AB189))","v":0},null,{"$f":"IF(C183<=0,0,'Tabla Amortización Fijo'!AC189)","v":0},0,null,0,{"$f":"IF(P182<=0.01,0,'Tabla Amortización Fijo'!R189)","v":0},{"$f":"IF(D183<=0,0,'Tabla Amortización Fijo'!W189+'Tabla Amortización Fijo'!U189)","v":0},0,{"$f":"IF(C183=0,0,'Tabla Amortización Fijo'!X189+'Tabla Amortización Fijo'!V189+'Tabla Amortización Fijo'!S189+'Tabla Amortización Fijo'!Q189)","v":0},0,null,0,0]
[177,{"$f":"'Tabla Amortización Fijo'!C190","v":"2036-12-04"},0,{"$f":"IF(C184<=0,0,IF(C184<D183,C184,'Tabla Amortización Fijo'!AB190))","v":0},null,{"$f":"IF(C184<=0,0,'Tabla Amortización Fijo'!AC190)","v":0},0,null,0,{"$f":"IF(P183<=0.01,0,'Tabla Amortización Fijo'!R190)","v":0},{"$f":"IF(D184<=0,0,'Tabla Amortización Fijo'!W190+'Tabla Amortización Fijo'!U190)","v":0},0,{"$f":"IF(C184=0,0,'Tabla Amortización Fijo'!X190+'Tabla Amortización Fijo'!V190+'Tabla Amortización Fijo'!S190+'Tabla Amortización Fijo'!Q190)","v":0},0,null,0,0]
[178,{"$f":"'Tabla Amortización Fijo'!C191","v":"2037-01-04"},0,{"$f":"IF(C185<=0,0,IF(C185<D184,C185,'Tabla Amortización Fijo'!AB191))","v":0},null,{"$f":"IF(C185<=0,0,'Tabla Amortización Fijo'!AC191)","v":0},0,null,0,{"$f":"IF(P184<=0.01,0,'Tabla Amortización Fijo'!R191)","v":0},{"$f":"IF(D185<=0,0,'Tabla Amortización Fijo'!W191+'Tabla Amortización Fijo'!U191)","v":0},0,{"$f":"IF(C185=0,0,'Tabla Amortización Fijo'!X191+'Tabla Amortización Fijo'!V191+'Tabla Amortización Fijo'!S191+'Tabla Amortización Fijo'!Q191)","v":0},0,null,0,0]
[179,{"$f":"'Tabla Amortización Fijo'!C192","v":"2037-02-04"},0,{"$f":"IF(C186<=0,0,IF(C186<D185,C186,'Tabla Amortización Fijo'!AB192))","v":0},null,{"$f":"IF(C186<=0,0,'Tabla Amortización Fijo'!AC192)","v":0},0,null,0,{"$f":"IF(P185<=0.01,0,'Tabla Amortización Fijo'!R192)","v":0},{"$f":"IF(D186<=0,0,'Tabla Amortización Fijo'!W192+'Tabla Amortización Fijo'!U192)","v":0},0,{"$f":"IF(C186=0,0,'Tabla Amortización Fijo'!X192+'Tabla Amortización Fijo'!V192+'Tabla Amortización Fijo'!S192+'Tabla Amortización Fijo'!Q192)","v":0},0,null,0,0]
[180,{"$f":"'Tabla Amortización Fijo'!C193","v":"2037-03-04"},0,{"$f":"IF(C187<=0,0,IF(C187<D186,C187,'Tabla Amortización Fijo'!AB193))","v":0},null,{"$f":"IF(C187<=0,0,'Tabla Amortización Fijo'!AC193)","v":0},0,null,0,{"$f":"IF(P186<=0.01,0,'Tabla Amortización Fijo'!R193)","v":0},{"$f":"IF(D187<=0,0,'Tabla Amortización Fijo'!W193+'Tabla Amortización Fijo'!U193)","v":0},0,{"$f":"IF(C187=0,0,'Tabla Amortización Fijo'!X193+'Tabla Amortización Fijo'!V193+'Tabla Amortización Fijo'!S193+'Tabla Amortización Fijo'!Q193)","v":0},0,null,0,0]
[181,{"$f":"'Tabla Amortización Fijo'!C194","v":"2037-04-04"},0,{"$f":"IF(C188<=0,0,IF(C188<D187,C188,'Tabla Amortización Fijo'!AB194))","v":0},null,{"$f":"IF(C188<=0,0,'Tabla Amortización Fijo'!AC194)","v":0},0,null,0,{"$f":"IF(P187<=0.01,0,'Tabla Amortización Fijo'!R194)","v":0},{"$f":"IF(D188<=0,0,'Tabla Amortización Fijo'!W194+'Tabla Amortización Fijo'!U194)","v":0},0,{"$f":"IF(C188=0,0,'Tabla Amortización Fijo'!X194+'Tabla Amortización Fijo'!V194+'Tabla Amortización Fijo'!S194+'Tabla Amortización Fijo'!Q194)","v":0},0,null,0,0]
[182,{"$f":"'Tabla Amortización Fijo'!C195","v":"2037-05-04"},0,{"$f":"IF(C189<=0,0,IF(C189<D188,C189,'Tabla Amortización Fijo'!AB195))","v":0},null,{"$f":"IF(C189<=0,0,'Tabla Amortización Fijo'!AC195)","v":0},0,null,0,{"$f":"IF(P188<=0.01,0,'Tabla Amortización Fijo'!R195)","v":0},{"$f":"IF(D189<=0,0,'Tabla Amortización Fijo'!W195+'Tabla Amortización Fijo'!U195)","v":0},0,{"$f":"IF(C189=0,0,'Tabla Amortización Fijo'!X195+'Tabla Amortización Fijo'!V195+'Tabla Amortización Fijo'!S195+'Tabla Amortización Fijo'!Q195)","v":0},0,null,0,0]
[183,{"$f":"'Tabla Amortización Fijo'!C196","v":"2037-06-04"},0,{"$f":"IF(C190<=0,0,IF(C190<D189,C190,'Tabla Amortización Fijo'!AB196))","v":0},null,{"$f":"IF(C190<=0,0,'Tabla Amortización Fijo'!AC196)","v":0},0,null,0,{"$f":"IF(P189<=0.01,0,'Tabla Amortización Fijo'!R196)","v":0},{"$f":"IF(D190<=0,0,'Tabla Amortización Fijo'!W196+'Tabla Amortización Fijo'!U196)","v":0},0,{"$f":"IF(C190=0,0,'Tabla Amortización Fijo'!X196+'Tabla Amortización Fijo'!V196+'Tabla Amortización Fijo'!S196+'Tabla Amortización Fijo'!Q196)","v":0},0,null,0,0]
[184,{"$f":"'Tabla Amortización Fijo'!C197","v":"2037-07-04"},0,{"$f":"IF(C191<=0,0,IF(C191<D190,C191,'Tabla Amortización Fijo'!AB197))","v":0},null,{"$f":"IF(C191<=0,0,'Tabla Amortización Fijo'!AC197)","v":0},0,null,0,{"$f":"IF(P190<=0.01,0,'Tabla Amortización Fijo'!R197)","v":0},{"$f":"IF(D191<=0,0,'Tabla Amortización Fijo'!W197+'Tabla Amortización Fijo'!U197)","v":0},0,{"$f":"IF(C191=0,0,'Tabla Amortización Fijo'!X197+'Tabla Amortización Fijo'!V197+'Tabla Amortización Fijo'!S197+'Tabla Amortización Fijo'!Q197)","v":0},0,null,0,0]
[185,{"$f":"'Tabla Amortización Fijo'!C198","v":"2037-08-04"},0,{"$f":"IF(C192<=0,0,IF(C192<D191,C192,'Tabla Amortización Fijo'!AB198))","v":0},null,{"$f":"IF(C192<=0,0,'Tabla Amortización Fijo'!AC198)","v":0},0,null,0,{"$f":"IF(P191<=0.01,0,'Tabla Amortización Fijo'!R198)","v":0},{"$f":"IF(D192<=0,0,'Tabla Amortización Fijo'!W198+'Tabla Amortización Fijo'!U198)","v":0},0,{"$f":"IF(C192=0,0,'Tabla Amortización Fijo'!X198+'Tabla Amortización Fijo'!V198+'Tabla Amortización Fijo'!S198+'Tabla Amortización Fijo'!Q198)","v":0},0,null,0,0]
[186,{"$f":"'Tabla Amortización Fijo'!C199","v":"2037-09-04"},0,{"$f":"IF(C193<=0,0,IF(C193<D192,C193,'Tabla Amortización Fijo'!AB199))","v":0},null,{"$f":"IF(C193<=0,0,'Tabla Amortización Fijo'!AC199)","v":0},0,null,0,{"$f":"IF(P192<=0.01,0,'Tabla Amortización Fijo'!R199)","v":0},{"$f":"IF(D193<=0,0,'Tabla Amortización Fijo'!W199+'Tabla Amortización Fijo'!U199)","v":0},0,{"$f":"IF(C193=0,0,'Tabla Amortización Fijo'!X199+'Tabla Amortización Fijo'!V199+'Tabla Amortización Fijo'!S199+'Tabla Amortización Fijo'!Q199)","v":0},0,null,0,0]
[187,{"$f":"'Tabla Amortización Fijo'!C200","v":"2037-10-04"},0,{"$f":"IF(C194<=0,0,IF(C194<D193,C194,'Tabla Amortización Fijo'!AB200))","v":0},null,{"$f":"IF(C194<=0,0,'Tabla Amortización Fijo'!AC200)","v":0},0,null,0,{"$f":"IF(P193<=0.01,0,'Tabla Amortización Fijo'!R200)","v":0},{"$f":"IF(D194<=0,0,'Tabla Amortización Fijo'!W200+'Tabla Amortización Fijo'!U200)","v":0},0,{"$f":"IF(C194=0,0,'Tabla Amortización Fijo'!X200+'Tabla Amortización Fijo'!V200+'Tabla Amortización Fijo'!S200+'Tabla Amortización Fijo'!Q200)","v":0},0,null,0,0]
[188,{"$f":"'Tabla Amortización Fijo'!C201","v":"2037-11-04"},0,{"$f":"IF(C195<=0,0,IF(C195<D194,C195,'Tabla Amortización Fijo'!AB201))","v":0},null,{"$f":"IF(C195<=0,0,'Tabla Amortización Fijo'!AC201)","v":0},0,null,0,{"$f":"IF(P194<=0.01,0,'Tabla Amortización Fijo'!R201)","v":0},{"$f":"IF(D195<=0,0,'Tabla Amortización Fijo'!W201+'Tabla Amortización Fijo'!U201)","v":0},0,{"$f":"IF(C195=0,0,'Tabla Amortización Fijo'!X201+'Tabla Amortización Fijo'!V201+'Tabla Amortización Fijo'!S201+'Tabla Amortización Fijo'!Q201)","v":0},0,null,0,0]
[189,{"$f":"'Tabla Amortización Fijo'!C202","v":"2037-12-04"},0,{"$f":"IF(C196<=0,0,IF(C196<D195,C196,'Tabla Amortización Fijo'!AB202))","v":0},null,{"$f":"IF(C196<=0,0,'Tabla Amortización Fijo'!AC202)","v":0},0,null,0,{"$f":"IF(P195<=0.01,0,'Tabla Amortización Fijo'!R202)","v":0},{"$f":"IF(D196<=0,0,'Tabla Amortización Fijo'!W202+'Tabla Amortización Fijo'!U202)","v":0},0,{"$f":"IF(C196=0,0,'Tabla Amortización Fijo'!X202+'Tabla Amortización Fijo'!V202+'Tabla Amortización Fijo'!S202+'Tabla Amortización Fijo'!Q202)","v":0},0,null,0,0]
[190,{"$f":"'Tabla Amortización Fijo'!C203","v":"2038-01-04"},0,{"$f":"IF(C197<=0,0,IF(C197<D196,C197,'Tabla Amortización Fijo'!AB203))","v":0},null,{"$f":"IF(C197<=0,0,'Tabla Amortización Fijo'!AC203)","v":0},0,null,0,{"$f":"IF(P196<=0.01,0,'Tabla Amortización Fijo'!R203)","v":0},{"$f":"IF(D197<=0,0,'Tabla Amortización Fijo'!W203+'Tabla Amortización Fijo'!U203)","v":0},0,{"$f":"IF(C197=0,0,'Tabla Amortización Fijo'!X203+'Tabla Amortización Fijo'!V203+'Tabla Amortización Fijo'!S203+'Tabla Amortización Fijo'!Q203)","v":0},0,null,0,0]
[191,{"$f":"'Tabla Amortización Fijo'!C204","v":"2038-02-04"},0,{"$f":"IF(C198<=0,0,IF(C198<D197,C198,'Tabla Amortización Fijo'!AB204))","v":0},null,{"$f":"IF(C198<=0,0,'Tabla Amortización Fijo'!AC204)","v":0},0,null,0,{"$f":"IF(P197<=0.01,0,'Tabla Amortización Fijo'!R204)","v":0},{"$f":"IF(D198<=0,0,'Tabla Amortización Fijo'!W204+'Tabla Amortización Fijo'!U204)","v":0},0,{"$f":"IF(C198=0,0,'Tabla Amortización Fijo'!X204+'Tabla Amortización Fijo'!V204+'Tabla Amortización Fijo'!S204+'Tabla Amortización Fijo'!Q204)","v":0},0,null,0,0]
[192,{"$f":"'Tabla Amortización Fijo'!C205","v":"2038-03-04"},0,{"$f":"IF(C199<=0,0,IF(C199<D198,C199,'Tabla Amortización Fijo'!AB205))","v":0},null,{"$f":"IF(C199<=0,0,'Tabla Amortización Fijo'!AC205)","v":0},0,null,0,{"$f":"IF(P198<=0.01,0,'Tabla Amortización Fijo'!R205)","v":0},{"$f":"IF(D199<=0,0,'Tabla Amortización Fijo'!W205+'Tabla Amortización Fijo'!U205)","v":0},0,{"$f":"IF(C199=0,0,'Tabla Amortización Fijo'!X205+'Tabla Amortización Fijo'!V205+'Tabla Amortización Fijo'!S205+'Tabla Amortización Fijo'!Q205)","v":0},0,null,0,0]
[193,{"$f":"'Tabla Amortización Fijo'!C206","v":"2038-04-04"},0,{"$f":"IF(C200<=0,0,IF(C200<D199,C200,'Tabla Amortización Fijo'!AB206))","v":0},null,{"$f":"IF(C200<=0,0,'Tabla Amortización Fijo'!AC206)","v":0},{"$f":"D200+F200","v":0},null,0,{"$f":"IF(P199<=0.01,0,'Tabla Amortización Fijo'!R206)","v":0},{"$f":"IF(D200<=0,0,'Tabla Amortización Fijo'!W206+'Tabla Amortización Fijo'!U206)","v":0},0,{"$f":"IF(C200=0,0,'Tabla Amortización Fijo'!X206+'Tabla Amortización Fijo'!V206+'Tabla Amortización Fijo'!S206+'Tabla Amortización Fijo'!Q206)","v":0},0,null,{"$f":"C200-D200-E200-H200","v":0},0]
[194,{"$f":"'Tabla Amortización Fijo'!C207","v":"2038-05-04"},0,{"$f":"IF(C201<=0,0,IF(C201<D200,C201,'Tabla Amortización Fijo'!AB207))","v":0},null,{"$f":"IF(C201<=0,0,'Tabla Amortización Fijo'!AC207)","v":0},0,null,{"$f":"IF(C201<=0,0,(C201*0.8/1000))","v":0},{"$f":"IF(P200<=0.01,0,'Tabla Amortización Fijo'!R207)","v":0},{"$f":"IF(D201<=0,0,'Tabla Amortización Fijo'!W207+'Tabla Amortización Fijo'!U207)","v":0},{"$f":"IF(C201<=0,,299)","v":0},{"$f":"IF(C201=0,0,'Tabla Amortización Fijo'!X207+'Tabla Amortización Fijo'!V207+'Tabla Amortización Fijo'!S207+'Tabla Amortización Fijo'!Q207)","v":0},0,null,0,0]
[195,{"$f":"'Tabla Amortización Fijo'!C208","v":"2038-06-04"},0,{"$f":"IF(C202<=0,0,IF(C202<D201,C202,'Tabla Amortización Fijo'!AB208))","v":0},null,{"$f":"IF(C202<=0,0,'Tabla Amortización Fijo'!AC208)","v":0},0,null,0,{"$f":"IF(P201<=0.01,0,'Tabla Amortización Fijo'!R208)","v":0},{"$f":"IF(D202<=0,0,'Tabla Amortización Fijo'!W208+'Tabla Amortización Fijo'!U208)","v":0},0,{"$f":"IF(C202=0,0,'Tabla Amortización Fijo'!X208+'Tabla Amortización Fijo'!V208+'Tabla Amortización Fijo'!S208+'Tabla Amortización Fijo'!Q208)","v":0},0,null,0,{"$f":"N202-M202+H202+E202","v":0}]
[196,{"$f":"'Tabla Amortización Fijo'!C209","v":"2038-07-04"},{"$f":"IF(P202<=0.01,0,P202)","v":0},{"$f":"IF(C203<=0,0,IF(C203<D202,C203,'Tabla Amortización Fijo'!AB209))","v":0},null,{"$f":"IF(C203<=0,0,'Tabla Amortización Fijo'!AC209)","v":0},0,null,0,{"$f":"IF(P202<=0.01,0,'Tabla Amortización Fijo'!R209)","v":0},{"$f":"IF(D203<=0,0,'Tabla Amortización Fijo'!W209+'Tabla Amortización Fijo'!U209)","v":0},0,{"$f":"IF(C203=0,0,'Tabla Amortización Fijo'!X209+'Tabla Amortización Fijo'!V209+'Tabla Amortización Fijo'!S209+'Tabla Amortización Fijo'!Q209)","v":0},0,null,0,0]
[197,{"$f":"'Tabla Amortización Fijo'!C210","v":"2038-08-04"},0,{"$f":"IF(C204<=0,0,IF(C204<D203,C204,'Tabla Amortización Fijo'!AB210))","v":0},null,{"$f":"IF(C204<=0,0,'Tabla Amortización Fijo'!AC210)","v":0},0,null,0,{"$f":"IF(P203<=0.01,0,'Tabla Amortización Fijo'!R210)","v":0},{"$f":"IF(D204<=0,0,'Tabla Amortización Fijo'!W210+'Tabla Amortización Fijo'!U210)","v":0},0,{"$f":"IF(C204=0,0,'Tabla Amortización Fijo'!X210+'Tabla Amortización Fijo'!V210+'Tabla Amortización Fijo'!S210+'Tabla Amortización Fijo'!Q210)","v":0},{"$f":"G204+K204+J204+L204+M204+I204","v":0},null,0,0]
[198,{"$f":"'Tabla Amortización Fijo'!C211","v":"2038-09-04"},0,{"$f":"IF(C205<=0,0,IF(C205<D204,C205,'Tabla Amortización Fijo'!AB211))","v":0},null,{"$f":"IF(C205<=0,0,'Tabla Amortización Fijo'!AC211)","v":0},0,null,0,{"$f":"IF(P204<=0.01,0,'Tabla Amortización Fijo'!R211)","v":0},{"$f":"IF(D205<=0,0,'Tabla Amortización Fijo'!W211+'Tabla Amortización Fijo'!U211)","v":0},0,{"$f":"IF(C205=0,0,'Tabla Amortización Fijo'!X211+'Tabla Amortización Fijo'!V211+'Tabla Amortización Fijo'!S211+'Tabla Amortización Fijo'!Q211)","v":0},0,null,0,0]
[199,{"$f":"'Tabla Amortización Fijo'!C212","v":"2038-10-04"},0,{"$f":"IF(C206<=0,0,IF(C206<D205,C206,'Tabla Amortización Fijo'!AB212))","v":0},null,{"$f":"IF(C206<=0,0,'Tabla Amortización Fijo'!AC212)","v":0},0,null,0,{"$f":"IF(P205<=0.01,0,'Tabla Amortización Fijo'!R212)","v":0},{"$f":"IF(D206<=0,0,'Tabla Amortización Fijo'!W212+'Tabla Amortización Fijo'!U212)","v":0},0,{"$f":"IF(C206=0,0,'Tabla Amortización Fijo'!X212+'Tabla Amortización Fijo'!V212+'Tabla Amortización Fijo'!S212+'Tabla Amortización Fijo'!Q212)","v":0},0,null,0,0]
[200,{"$f":"'Tabla Amortización Fijo'!C213","v":"2038-11-04"},0,{"$f":"IF(C207<=0,0,IF(C207<D206,C207,'Tabla Amortización Fijo'!AB213))","v":0},null,{"$f":"IF(C207<=0,0,'Tabla Amortización Fijo'!AC213)","v":0},0,null,0,{"$f":"IF(P206<=0.01,0,'Tabla Amortización Fijo'!R213)","v":0},{"$f":"IF(D207<=0,0,'Tabla Amortización Fijo'!W213+'Tabla Amortización Fijo'!U213)","v":0},0,{"$f":"IF(C207=0,0,'Tabla Amortización Fijo'!X213+'Tabla Amortización Fijo'!V213+'Tabla Amortización Fijo'!S213+'Tabla Amortización Fijo'!Q213)","v":0},0,null,0,0]
[201,{"$f":"'Tabla Amortización Fijo'!C214","v":"2038-12-04"},0,{"$f":"IF(C208<=0,0,IF(C208<D207,C208,'Tabla Amortización Fijo'!AB214))","v":0},null,{"$f":"IF(C208<=0,0,'Tabla Amortización Fijo'!AC214)","v":0},0,null,0,{"$f":"IF(P207<=0.01,0,'Tabla Amortización Fijo'!R214)","v":0},{"$f":"IF(D208<=0,0,'Tabla Amortización Fijo'!W214+'Tabla Amortización Fijo'!U214)","v":0},0,{"$f":"IF(C208=0,0,'Tabla Amortización Fijo'!X214+'Tabla Amortización Fijo'!V214+'Tabla Amortización Fijo'!S214+'Tabla Amortización Fijo'!Q214)","v":0},0,null,0,0]
[202,{"$f":"'Tabla Amortización Fijo'!C215","v":"2039-01-04"},0,{"$f":"IF(C209<=0,0,IF(C209<D208,C209,'Tabla Amortización Fijo'!AB215))","v":0},null,{"$f":"IF(C209<=0,0,'Tabla Amortización Fijo'!AC215)","v":0},0,null,0,{"$f":"IF(P208<=0.01,0,'Tabla Amortización Fijo'!R215)","v":0},{"$f":"IF(D209<=0,0,'Tabla Amortización Fijo'!W215+'Tabla Amortización Fijo'!U215)","v":0},0,{"$f":"IF(C209=0,0,'Tabla Amortización Fijo'!X215+'Tabla Amortización Fijo'!V215+'Tabla Amortización Fijo'!S215+'Tabla Amortización Fijo'!Q215)","v":0},0,null,0,0]
[203,{"$f":"'Tabla Amortización Fijo'!C216","v":"2039-02-04"},0,{"$f":"IF(C210<=0,0,IF(C210<D209,C210,'Tabla Amortización Fijo'!AB216))","v":0},null,{"$f":"IF(C210<=0,0,'Tabla Amortización Fijo'!AC216)","v":0},0,null,0,{"$f":"IF(P209<=0.01,0,'Tabla Amortización Fijo'!R216)","v":0},{"$f":"IF(D210<=0,0,'Tabla Amortización Fijo'!W216+'Tabla Amortización Fijo'!U216)","v":0},0,{"$f":"IF(C210=0,0,'Tabla Amortización Fijo'!X216+'Tabla Amortización Fijo'!V216+'Tabla Amortización Fijo'!S216+'Tabla Amortización Fijo'!Q216)","v":0},0,null,0,0]
[204,{"$f":"'Tabla Amortización Fijo'!C217","v":"2039-03-04"},0,{"$f":"IF(C211<=0,0,IF(C211<D210,C211,'Tabla Amortización Fijo'!AB217))","v":0},null,{"$f":"IF(C211<=0,0,'Tabla Amortización Fijo'!AC217)","v":0},0,null,0,{"$f":"IF(P210<=0.01,0,'Tabla Amortización Fijo'!R217)","v":0},{"$f":"IF(D211<=0,0,'Tabla Amortización Fijo'!W217+'Tabla Amortización Fijo'!U217)","v":0},0,{"$f":"IF(C211=0,0,'Tabla Amortización Fijo'!X217+'Tabla Amortización Fijo'!V217+'Tabla Amortización Fijo'!S217+'Tabla Amortización Fijo'!Q217)","v":0},0,null,0,0]
[205,{"$f":"'Tabla Amortización Fijo'!C218","v":"2039-04-04"},0,{"$f":"IF(C212<=0,0,IF(C212<D211,C212,'Tabla Amortización Fijo'!AB218))","v":0},null,{"$f":"IF(C212<=0,0,'Tabla Amortización Fijo'!AC218)","v":0},0,null,0,{"$f":"IF(P211<=0.01,0,'Tabla Amortización Fijo'!R218)","v":0},{"$f":"IF(D212<=0,0,'Tabla Amortización Fijo'!W218+'Tabla Amortización Fijo'!U218)","v":0},0,{"$f":"IF(C212=0,0,'Tabla Amortización Fijo'!X218+'Tabla Amortización Fijo'!V218+'Tabla Amortización Fijo'!S218+'Tabla Amortización Fijo'!Q218)","v":0},0,null,0,0]
[206,{"$f":"'Tabla Amortización Fijo'!C219","v":"2039-05-04"},0,{"$f":"IF(C213<=0,0,IF(C213<D212,C213,'Tabla Amortización Fijo'!AB219))","v":0},null,{"$f":"IF(C213<=0,0,'Tabla Amortización Fijo'!AC219)","v":0},0,null,0,{"$f":"IF(P212<=0.01,0,'Tabla Amortización Fijo'!R219)","v":0},{"$f":"IF(D213<=0,0,'Tabla Amortización Fijo'!W219+'Tabla Amortización Fijo'!U219)","v":0},0,{"$f":"IF(C213=0,0,'Tabla Amortización Fijo'!X219+'Tabla Amortización Fijo'!V219+'Tabla Amortización Fijo'!S219+'Tabla Amortización Fijo'!Q219)","v":0},0,null,0,0]
[207,{"$f":"'Tabla Amortización Fijo'!C220","v":"2039-06-04"},0,{"$f":"IF(C214<=0,0,IF(C214<D213,C214,'Tabla Amortización Fijo'!AB220))","v":0},null,{"$f":"IF(C214<=0,0,'Tabla Amortización Fijo'!AC220)","v":0},0,null,0,{"$f":"IF(P213<=0.01,0,'Tabla Amortización Fijo'!R220)","v":0},{"$f":"IF(D214<=0,0,'Tabla Amortización Fijo'!W220+'Tabla Amortización Fijo'!U220)","v":0},0,{"$f":"IF(C214=0,0,'Tabla Amortización Fijo'!X220+'Tabla Amortización Fijo'!V220+'Tabla Amortización Fijo'!S220+'Tabla Amortización Fijo'!Q220)","v":0},0,null,0,0]
[208,{"$f":"'Tabla Amortización Fijo'!C221","v":"2039-07-04"},0,{"$f":"IF(C215<=0,0,IF(C215<D214,C215,'Tabla Amortización Fijo'!AB221))","v":0},null,{"$f":"IF(C215<=0,0,'Tabla Amortización Fijo'!AC221)","v":0},0,null,0,{"$f":"IF(P214<=0.01,0,'Tabla Amortización Fijo'!R221)","v":0},{"$f":"IF(D215<=0,0,'Tabla Amortización Fijo'!W221+'Tabla Amortización Fijo'!U221)","v":0},0,{"$f":"IF(C215=0,0,'Tabla Amortización Fijo'!X221+'Tabla Amortización Fijo'!V221+'Tabla Amortización Fijo'!S221+'Tabla Amortización Fijo'!Q221)","v":0},0,null,0,0]
[209,{"$f":"'Tabla Amortización Fijo'!C222","v":"2039-08-04"},0,{"$f":"IF(C216<=0,0,IF(C216<D215,C216,'Tabla Amortización Fijo'!AB222))","v":0},null,{"$f":"IF(C216<=0,0,'Tabla Amortización Fijo'!AC222)","v":0},0,null,0,{"$f":"IF(P215<=0.01,0,'Tabla Amortización Fijo'!R222)","v":0},{"$f":"IF(D216<=0,0,'Tabla Amortización Fijo'!W222+'Tabla Amortización Fijo'!U222)","v":0},0,{"$f":"IF(C216=0,0,'Tabla Amortización Fijo'!X222+'Tabla Amortización Fijo'!V222+'Tabla Amortización Fijo'!S222+'Tabla Amortización Fijo'!Q222)","v":0},0,null,0,0]
[210,{"$f":"'Tabla Amortización Fijo'!C223","v":"2039-09-04"},0,{"$f":"IF(C217<=0,0,IF(C217<D216,C217,'Tabla Amortización Fijo'!AB223))","v":0},null,{"$f":"IF(C217<=0,0,'Tabla Amortización Fijo'!AC223)","v":0},0,null,0,{"$f":"IF(P216<=0.01,0,'Tabla Amortización Fijo'!R223)","v":0},{"$f":"IF(D217<=0,0,'Tabla Amortización Fijo'!W223+'Tabla Amortización Fijo'!U223)","v":0},0,{"$f":"IF(C217=0,0,'Tabla Amortización Fijo'!X223+'Tabla Amortización Fijo'!V223+'Tabla Amortización Fijo'!S223+'Tabla Amortización Fijo'!Q223)","v":0},0,null,0,0]
[211,{"$f":"'Tabla Amortización Fijo'!C224","v":"2039-10-04"},0,{"$f":"IF(C218<=0,0,IF(C218<D217,C218,'Tabla Amortización Fijo'!AB224))","v":0},null,{"$f":"IF(C218<=0,0,'Tabla Amortización Fijo'!AC224)","v":0},0,null,0,{"$f":"IF(P217<=0.01,0,'Tabla Amortización Fijo'!R224)","v":0},{"$f":"IF(D218<=0,0,'Tabla Amortización Fijo'!W224+'Tabla Amortización Fijo'!U224)","v":0},0,{"$f":"IF(C218=0,0,'Tabla Amortización Fijo'!X224+'Tabla Amortización Fijo'!V224+'Tabla Amortización Fijo'!S224+'Tabla Amortización Fijo'!Q224)","v":0},0,null,0,0]
[212,{"$f":"'Tabla Amortización Fijo'!C225","v":"2039-11-04"},0,{"$f":"IF(C219<=0,0,IF(C219<D218,C219,'Tabla Amortización Fijo'!AB225))","v":0},null,{"$f":"IF(C219<=0,0,'Tabla Amortización Fijo'!AC225)","v":0},0,null,0,{"$f":"IF(P218<=0.01,0,'Tabla Amortización Fijo'!R225)","v":0},{"$f":"IF(D219<=0,0,'Tabla Amortización Fijo'!W225+'Tabla Amortización Fijo'!U225)","v":0},0,{"$f":"IF(C219=0,0,'Tabla Amortización Fijo'!X225+'Tabla Amortización Fijo'!V225+'Tabla Amortización Fijo'!S225+'Tabla Amortización Fijo'!Q225)","v":0},0,null,0,0]
[213,{"$f":"'Tabla Amortización Fijo'!C226","v":"2039-12-04"},0,{"$f":"IF(C220<=0,0,IF(C220<D219,C220,'Tabla Amortización Fijo'!AB226))","v":0},null,{"$f":"IF(C220<=0,0,'Tabla Amortización Fijo'!AC226)","v":0},0,null,0,{"$f":"IF(P219<=0.01,0,'Tabla Amortización Fijo'!R226)","v":0},{"$f":"IF(D220<=0,0,'Tabla Amortización Fijo'!W226+'Tabla Amortización Fijo'!U226)","v":0},0,{"$f":"IF(C220=0,0,'Tabla Amortización Fijo'!X226+'Tabla Amortización Fijo'!V226+'Tabla Amortización Fijo'!S226+'Tabla Amortización Fijo'!Q226)","v":0},0,null,0,0]
[214,{"$f":"'Tabla Amortización Fijo'!C227","v":"2040-01-04"},0,{"$f":"IF(C221<=0,0,IF(C221<D220,C221,'Tabla Amortización Fijo'!AB227))","v":0},null,{"$f":"IF(C221<=0,0,'Tabla Amortización Fijo'!AC227)","v":0},0,null,0,{"$f":"IF(P220<=0.01,0,'Tabla Amortización Fijo'!R227)","v":0},{"$f":"IF(D221<=0,0,'Tabla Amortización Fijo'!W227+'Tabla Amortización Fijo'!U227)","v":0},0,{"$f":"IF(C221=0,0,'Tabla Amortización Fijo'!X227+'Tabla Amortización Fijo'!V227+'Tabla Amortización Fijo'!S227+'Tabla Amortización Fijo'!Q227)","v":0},0,null,0,0]
[215,{"$f":"'Tabla Amortización Fijo'!C228","v":"2040-02-04"},0,{"$f":"IF(C222<=0,0,IF(C222<D221,C222,'Tabla Amortización Fijo'!AB228))","v":0},null,{"$f":"IF(C222<=0,0,'Tabla Amortización Fijo'!AC228)","v":0},0,null,0,{"$f":"IF(P221<=0.01,0,'Tabla Amortización Fijo'!R228)","v":0},{"$f":"IF(D222<=0,0,'Tabla Amortización Fijo'!W228+'Tabla Amortización Fijo'!U228)","v":0},0,{"$f":"IF(C222=0,0,'Tabla Amortización Fijo'!X228+'Tabla Amortización Fijo'!V228+'Tabla Amortización Fijo'!S228+'Tabla Amortización Fijo'!Q228)","v":0},0,null,0,0]
[216,{"$f":"'Tabla Amortización Fijo'!C229","v":"2040-03-04"},0,{"$f":"IF(C223<=0,0,IF(C223<D222,C223,'Tabla Amortización Fijo'!AB229))","v":0},null,{"$f":"IF(C223<=0,0,'Tabla Amortización Fijo'!AC229)","v":0},0,null,0,{"$f":"IF(P222<=0.01,0,'Tabla Amortización Fijo'!R229)","v":0},{"$f":"IF(D223<=0,0,'Tabla Amortización Fijo'!W229+'Tabla Amortización Fijo'!U229)","v":0},0,{"$f":"IF(C223=0,0,'Tabla Amortización Fijo'!X229+'Tabla Amortización Fijo'!V229+'Tabla Amortización Fijo'!S229+'Tabla Amortización Fijo'!Q229)","v":0},0,null,0,0]
[217,{"$f":"'Tabla Amortización Fijo'!C230","v":"2040-04-04"},0,{"$f":"IF(C224<=0,0,IF(C224<D223,C224,'Tabla Amortización Fijo'!AB230))","v":0},null,{"$f":"IF(C224<=0,0,'Tabla Amortización Fijo'!AC230)","v":0},0,null,0,{"$f":"IF(P223<=0.01,0,'Tabla Amortización Fijo'!R230)","v":0},{"$f":"IF(D224<=0,0,'Tabla Amortización Fijo'!W230+'Tabla Amortización Fijo'!U230)","v":0},0,{"$f":"IF(C224=0,0,'Tabla Amortización Fijo'!X230+'Tabla Amortización Fijo'!V230+'Tabla Amortización Fijo'!S230+'Tabla Amortización Fijo'!Q230)","v":0},0,null,0,0]
[218,{"$f":"'Tabla Amortización Fijo'!C231","v":"2040-05-04"},0,{"$f":"IF(C225<=0,0,IF(C225<D224,C225,'Tabla Amortización Fijo'!AB231))","v":0},null,{"$f":"IF(C225<=0,0,'Tabla Amortización Fijo'!AC231)","v":0},0,null,0,{"$f":"IF(P224<=0.01,0,'Tabla Amortización Fijo'!R231)","v":0},{"$f":"IF(D225<=0,0,'Tabla Amortización Fijo'!W231+'Tabla Amortización Fijo'!U231)","v":0},0,{"$f":"IF(C225=0,0,'Tabla Amortización Fijo'!X231+'Tabla Amortización Fijo'!V231+'Tabla Amortización Fijo'!S231+'Tabla Amortización Fijo'!Q231)","v":0},0,null,0,0]
[219,{"$f":"'Tabla Amortización Fijo'!C232","v":"2040-06-04"},0,{"$f":"IF(C226<=0,0,IF(C226<D225,C226,'Tabla Amortización Fijo'!AB232))","v":0},null,{"$f":"IF(C226<=0,0,'Tabla Amortización Fijo'!AC232)","v":0},0,null,0,{"$f":"IF(P225<=0.01,0,'Tabla Amortización Fijo'!R232)","v":0},{"$f":"IF(D226<=0,0,'Tabla Amortización Fijo'!W232+'Tabla Amortización Fijo'!U232)","v":0},0,{"$f":"IF(C226=0,0,'Tabla Amortización Fijo'!X232+'Tabla Amortización Fijo'!V232+'Tabla Amortización Fijo'!S232+'Tabla Amortización Fijo'!Q232)","v":0},0,null,0,0]
[220,{"$f":"'Tabla Amortización Fijo'!C233","v":"2040-07-04"},0,{"$f":"IF(C227<=0,0,IF(C227<D226,C227,'Tabla Amortización Fijo'!AB233))","v":0},null,{"$f":"IF(C227<=0,0,'Tabla Amortización Fijo'!AC233)","v":0},0,null,0,{"$f":"IF(P226<=0.01,0,'Tabla Amortización Fijo'!R233)","v":0},{"$f":"IF(D227<=0,0,'Tabla Amortización Fijo'!W233+'Tabla Amortización Fijo'!U233)","v":0},0,{"$f":"IF(C227=0,0,'Tabla Amortización Fijo'!X233+'Tabla Amortización Fijo'!V233+'Tabla Amortización Fijo'!S233+'Tabla Amortización Fijo'!Q233)","v":0},0,null,0,0]
[221,{"$f":"'Tabla Amortización Fijo'!C234","v":"2040-08-04"},0,{"$f":"IF(C228<=0,0,IF(C228<D227,C228,'Tabla Amortización Fijo'!AB234))","v":0},null,{"$f":"IF(C228<=0,0,'Tabla Amortización Fijo'!AC234)","v":0},0,null,0,{"$f":"IF(P227<=0.01,0,'Tabla Amortización Fijo'!R234)","v":0},{"$f":"IF(D228<=0,0,'Tabla Amortización Fijo'!W234+'Tabla Amortización Fijo'!U234)","v":0},0,{"$f":"IF(C228=0,0,'Tabla Amortización Fijo'!X234+'Tabla Amortización Fijo'!V234+'Tabla Amortización Fijo'!S234+'Tabla Amortización Fijo'!Q234)","v":0},0,null,0,0]
[222,{"$f":"'Tabla Amortización Fijo'!C235","v":"2040-09-04"},0,{"$f":"IF(C229<=0,0,IF(C229<D228,C229,'Tabla Amortización Fijo'!AB235))","v":0},null,{"$f":"IF(C229<=0,0,'Tabla Amortización Fijo'!AC235)","v":0},0,null,0,{"$f":"IF(P228<=0.01,0,'Tabla Amortización Fijo'!R235)","v":0},{"$f":"IF(D229<=0,0,'Tabla Amortización Fijo'!W235+'Tabla Amortización Fijo'!U235)","v":0},0,{"$f":"IF(C229=0,0,'Tabla Amortización Fijo'!X235+'Tabla Amortización Fijo'!V235+'Tabla Amortización Fijo'!S235+'Tabla Amortización Fijo'!Q235)","v":0},0,null,0,0]
[223,{"$f":"'Tabla Amortización Fijo'!C236","v":"2040-10-04"},0,{"$f":"IF(C230<=0,0,IF(C230<D229,C230,'Tabla Amortización Fijo'!AB236))","v":0},null,{"$f":"IF(C230<=0,0,'Tabla Amortización Fijo'!AC236)","v":0},0,null,0,{"$f":"IF(P229<=0.01,0,'Tabla Amortización Fijo'!R236)","v":0},{"$f":"IF(D230<=0,0,'Tabla Amortización Fijo'!W236+'Tabla Amortización Fijo'!U236)","v":0},0,{"$f":"IF(C230=0,0,'Tabla Amortización Fijo'!X236+'Tabla Amortización Fijo'!V236+'Tabla Amortización Fijo'!S236+'Tabla Amortización Fijo'!Q236)","v":0},0,null,0,0]
[224,{"$f":"'Tabla Amortización Fijo'!C237","v":"2040-11-04"},0,{"$f":"IF(C231<=0,0,IF(C231<D230,C231,'Tabla Amortización Fijo'!AB237))","v":0},null,{"$f":"IF(C231<=0,0,'Tabla Amortización Fijo'!AC237)","v":0},0,null,0,{"$f":"IF(P230<=0.01,0,'Tabla Amortización Fijo'!R237)","v":0},{"$f":"IF(D231<=0,0,'Tabla Amortización Fijo'!W237+'Tabla Amortización Fijo'!U237)","v":0},0,{"$f":"IF(C231=0,0,'Tabla Amortización Fijo'!X237+'Tabla Amortización Fijo'!V237+'Tabla Amortización Fijo'!S237+'Tabla Amortización Fijo'!Q237)","v":0},0,null,0,0]
[225,{"$f":"'Tabla Amortización Fijo'!C238","v":"2040-12-04"},0,{"$f":"IF(C232<=0,0,IF(C232<D231,C232,'Tabla Amortización Fijo'!AB238))","v":0},null,{"$f":"IF(C232<=0,0,'Tabla Amortización Fijo'!AC238)","v":0},0,null,0,{"$f":"IF(P231<=0.01,0,'Tabla Amortización Fijo'!R238)","v":0},{"$f":"IF(D232<=0,0,'Tabla Amortización Fijo'!W238+'Tabla Amortización Fijo'!U238)","v":0},0,{"$f":"IF(C232=0,0,'Tabla Amortización Fijo'!X238+'Tabla Amortización Fijo'!V238+'Tabla Amortización Fijo'!S238+'Tabla Amortización Fijo'!Q238)","v":0},0,null,0,0]
[226,{"$f":"'Tabla Amortización Fijo'!C239","v":"2041-01-04"},0,{"$f":"IF(C233<=0,0,IF(C233<D232,C233,'Tabla Amortización Fijo'!AB239))","v":0},null,{"$f":"IF(C233<=0,0,'Tabla Amortización Fijo'!AC239)","v":0},0,null,0,{"$f":"IF(P232<=0.01,0,'Tabla Amortización Fijo'!R239)","v":0},{"$f":"IF(D233<=0,0,'Tabla Amortización Fijo'!W239+'Tabla Amortización Fijo'!U239)","v":0},0,{"$f":"IF(C233=0,0,'Tabla Amortización Fijo'!X239+'Tabla Amortización Fijo'!V239+'Tabla Amortización Fijo'!S239+'Tabla Amortización Fijo'!Q239)","v":0},0,null,0,0]
[227,{"$f":"'Tabla Amortización Fijo'!C240","v":"2041-02-04"},0,{"$f":"IF(C234<=0,0,IF(C234<D233,C234,'Tabla Amortización Fijo'!AB240))","v":0},null,{"$f":"IF(C234<=0,0,'Tabla Amortización Fijo'!AC240)","v":0},0,null,0,{"$f":"IF(P233<=0.01,0,'Tabla Amortización Fijo'!R240)","v":0},{"$f":"IF(D234<=0,0,'Tabla Amortización Fijo'!W240+'Tabla Amortización Fijo'!U240)","v":0},0,{"$f":"IF(C234=0,0,'Tabla Amortización Fijo'!X240+'Tabla Amortización Fijo'!V240+'Tabla Amortización Fijo'!S240+'Tabla Amortización Fijo'!Q240)","v":0},0,null,0,0]
[228,{"$f":"'Tabla Amortización Fijo'!C241","v":"2041-03-04"},0,{"$f":"IF(C235<=0,0,IF(C235<D234,C235,'Tabla Amortización Fijo'!AB241))","v":0},null,{"$f":"IF(C235<=0,0,'Tabla Amortización Fijo'!AC241)","v":0},0,null,0,{"$f":"IF(P234<=0.01,0,'Tabla Amortización Fijo'!R241)","v":0},{"$f":"IF(D235<=0,0,'Tabla Amortización Fijo'!W241+'Tabla Amortización Fijo'!U241)","v":0},0,{"$f":"IF(C235=0,0,'Tabla Amortización Fijo'!X241+'Tabla Amortización Fijo'!V241+'Tabla Amortización Fijo'!S241+'Tabla Amortización Fijo'!Q241)","v":0},0,null,0,0]
[229,{"$f":"'Tabla Amortización Fijo'!C242","v":"2041-04-04"},0,{"$f":"IF(C236<=0,0,IF(C236<D235,C236,'Tabla Amortización Fijo'!AB242))","v":0},null,{"$f":"IF(C236<=0,0,'Tabla Amortización Fijo'!AC242)","v":0},0,null,0,{"$f":"IF(P235<=0.01,0,'Tabla Amortización Fijo'!R242)","v":0},{"$f":"IF(D236<=0,0,'Tabla Amortización Fijo'!W242+'Tabla Amortización Fijo'!U242)","v":0},0,{"$f":"IF(C236=0,0,'Tabla Amortización Fijo'!X242+'Tabla Amortización Fijo'!V242+'Tabla Amortización Fijo'!S242+'Tabla Amortización Fijo'!Q242)","v":0},0,null,0,0]
[230,{"$f":"'Tabla Amortización Fijo'!C243","v":"2041-05-04"},0,{"$f":"IF(C237<=0,0,IF(C237<D236,C237,'Tabla Amortización Fijo'!AB243))","v":0},null,{"$f":"IF(C237<=0,0,'Tabla Amortización Fijo'!AC243)","v":0},0,null,0,{"$f":"IF(P236<=0.01,0,'Tabla Amortización Fijo'!R243)","v":0},{"$f":"IF(D237<=0,0,'Tabla Amortización Fijo'!W243+'Tabla Amortización Fijo'!U243)","v":0},0,{"$f":"IF(C237=0,0,'Tabla Amortización Fijo'!X243+'Tabla Amortización Fijo'!V243+'Tabla Amortización Fijo'!S243+'Tabla Amortización Fijo'!Q243)","v":0},0,null,0,0]
[231,{"$f":"'Tabla Amortización Fijo'!C244","v":"2041-06-04"},0,{"$f":"IF(C238<=0,0,IF(C238<D237,C238,'Tabla Amortización Fijo'!AB244))","v":0},null,{"$f":"IF(C238<=0,0,'Tabla Amortización Fijo'!AC244)","v":0},0,null,0,{"$f":"IF(P237<=0.01,0,'Tabla Amortización Fijo'!R244)","v":0},{"$f":"IF(D238<=0,0,'Tabla Amortización Fijo'!W244+'Tabla Amortización Fijo'!U244)","v":0},0,{"$f":"IF(C238=0,0,'Tabla Amortización Fijo'!X244+'Tabla Amortización Fijo'!V244+'Tabla Amortización Fijo'!S244+'Tabla Amortización Fijo'!Q244)","v":0},0,null,0,0]
[232,{"$f":"'Tabla Amortización Fijo'!C245","v":"2041-07-04"},0,{"$f":"IF(C239<=0,0,IF(C239<D238,C239,'Tabla Amortización Fijo'!AB245))","v":0},null,{"$f":"IF(C239<=0,0,'Tabla Amortización Fijo'!AC245)","v":0},0,null,0,{"$f":"IF(P238<=0.01,0,'Tabla Amortización Fijo'!R245)","v":0},{"$f":"IF(D239<=0,0,'Tabla Amortización Fijo'!W245+'Tabla Amortización Fijo'!U245)","v":0},0,{"$f":"IF(C239=0,0,'Tabla Amortización Fijo'!X245+'Tabla Amortización Fijo'!V245+'Tabla Amortización Fijo'!S245+'Tabla Amortización Fijo'!Q245)","v":0},0,null,0,0]
[233,{"$f":"'Tabla Amortización Fijo'!C246","v":"2041-08-04"},0,{"$f":"IF(C240<=0,0,IF(C240<D239,C240,'Tabla Amortización Fijo'!AB246))","v":0},null,{"$f":"IF(C240<=0,0,'Tabla Amortización Fijo'!AC246)","v":0},0,null,0,{"$f":"IF(P239<=0.01,0,'Tabla Amortización Fijo'!R246)","v":0},{"$f":"IF(D240<=0,0,'Tabla Amortización Fijo'!W246+'Tabla Amortización Fijo'!U246)","v":0},0,{"$f":"IF(C240=0,0,'Tabla Amortización Fijo'!X246+'Tabla Amortización Fijo'!V246+'Tabla Amortización Fijo'!S246+'Tabla Amortización Fijo'!Q246)","v":0},0,null,0,0]
[234,{"$f":"'Tabla Amortización Fijo'!C247","v":"2041-09-04"},0,{"$f":"IF(C241<=0,0,IF(C241<D240,C241,'Tabla Amortización Fijo'!AB247))","v":0},null,{"$f":"IF(C241<=0,0,'Tabla Amortización Fijo'!AC247)","v":0},0,null,0,{"$f":"IF(P240<=0.01,0,'Tabla Amortización Fijo'!R247)","v":0},{"$f":"IF(D241<=0,0,'Tabla Amortización Fijo'!W247+'Tabla Amortización Fijo'!U247)","v":0},0,{"$f":"IF(C241=0,0,'Tabla Amortización Fijo'!X247+'Tabla Amortización Fijo'!V247+'Tabla Amortización Fijo'!S247+'Tabla Amortización Fijo'!Q247)","v":0},0,null,0,0]
[235,{"$f":"'Tabla Amortización Fijo'!C248","v":"2041-10-04"},0,{"$f":"IF(C242<=0,0,IF(C242<D241,C242,'Tabla Amortización Fijo'!AB248))","v":0},null,{"$f":"IF(C242<=0,0,'Tabla Amortización Fijo'!AC248)","v":0},0,null,0,{"$f":"IF(P241<=0.01,0,'Tabla Amortización Fijo'!R248)","v":0},{"$f":"IF(D242<=0,0,'Tabla Amortización Fijo'!W248+'Tabla Amortización Fijo'!U248)","v":0},0,{"$f":"IF(C242=0,0,'Tabla Amortización Fijo'!X248+'Tabla Amortización Fijo'!V248+'Tabla Amortización Fijo'!S248+'Tabla Amortización Fijo'!Q248)","v":0},0,null,0,0]
[236,{"$f":"'Tabla Amortización Fijo'!C249","v":"2041-11-04"},0,{"$f":"IF(C243<=0,0,IF(C243<D242,C243,'Tabla Amortización Fijo'!AB249))","v":0},null,{"$f":"IF(C243<=0,0,'Tabla Amortización Fijo'!AC249)","v":0},0,null,0,{"$f":"IF(P242<=0.01,0,'Tabla Amortización Fijo'!R249)","v":0},{"$f":"IF(D243<=0,0,'Tabla Amortización Fijo'!W249+'Tabla Amortización Fijo'!U249)","v":0},0,{"$f":"IF(C243=0,0,'Tabla Amortización Fijo'!X249+'Tabla Amortización Fijo'!V249+'Tabla Amortización Fijo'!S249+'Tabla Amortización Fijo'!Q249)","v":0},0,null,0,0]
[237,{"$f":"'Tabla Amortización Fijo'!C250","v":"2041-12-04"},0,{"$f":"IF(C244<=0,0,IF(C244<D243,C244,'Tabla Amortización Fijo'!AB250))","v":0},null,{"$f":"IF(C244<=0,0,'Tabla Amortización Fijo'!AC250)","v":0},0,null,0,{"$f":"IF(P243<=0.01,0,'Tabla Amortización Fijo'!R250)","v":0},{"$f":"IF(D244<=0,0,'Tabla Amortización Fijo'!W250+'Tabla Amortización Fijo'!U250)","v":0},0,{"$f":"IF(C244=0,0,'Tabla Amortización Fijo'!X250+'Tabla Amortización Fijo'!V250+'Tabla Amortización Fijo'!S250+'Tabla Amortización Fijo'!Q250)","v":0},0,null,0,0]
[238,{"$f":"'Tabla Amortización Fijo'!C251","v":"2042-01-04"},0,{"$f":"IF(C245<=0,0,IF(C245<D244,C245,'Tabla Amortización Fijo'!AB251))","v":0},null,{"$f":"IF(C245<=0,0,'Tabla Amortización Fijo'!AC251)","v":0},0,null,0,{"$f":"IF(P244<=0.01,0,'Tabla Amortización Fijo'!R251)","v":0},{"$f":"IF(D245<=0,0,'Tabla Amortización Fijo'!W251+'Tabla Amortización Fijo'!U251)","v":0},0,{"$f":"IF(C245=0,0,'Tabla Amortización Fijo'!X251+'Tabla Amortización Fijo'!V251+'Tabla Amortización Fijo'!S251+'Tabla Amortización Fijo'!Q251)","v":0},0,null,0,0]
[239,{"$f":"'Tabla Amortización Fijo'!C252","v":"2042-02-04"},0,{"$f":"IF(C246<=0,0,IF(C246<D245,C246,'Tabla Amortización Fijo'!AB252))","v":0},null,{"$f":"IF(C246<=0,0,'Tabla Amortización Fijo'!AC252)","v":0},0,null,0,{"$f":"IF(P245<=0.01,0,'Tabla Amortización Fijo'!R252)","v":0},{"$f":"IF(D246<=0,0,'Tabla Amortización Fijo'!W252+'Tabla Amortización Fijo'!U252)","v":0},0,{"$f":"IF(C246=0,0,'Tabla Amortización Fijo'!X252+'Tabla Amortización Fijo'!V252+'Tabla Amortización Fijo'!S252+'Tabla Amortización Fijo'!Q252)","v":0},0,null,0,0]
[240,{"$f":"'Tabla Amortización Fijo'!C253","v":"2042-03-04"},0,{"$f":"IF(C247<=0,0,IF(C247<D246,C247,'Tabla Amortización Fijo'!AB253))","v":0},null,{"$f":"IF(C247<=0,0,'Tabla Amortización Fijo'!AC253)","v":0},0,null,0,{"$f":"IF(P246<=0.01,0,'Tabla Amortización Fijo'!R253)","v":0},{"$f":"IF(D247<=0,0,'Tabla Amortización Fijo'!W253+'Tabla Amortización Fijo'!U253)","v":0},0,{"$f":"IF(C247=0,0,'Tabla Amortización Fijo'!X253+'Tabla Amortización Fijo'!V253+'Tabla Amortización Fijo'!S253+'Tabla Amortización Fijo'!Q253)","v":0},0,null,0,0]
[null,null,null,{"$f":"SUM(D8:D247)","v":1000000.0000000007},{"$f":"SUM(E8:E247)","v":0},{"$f":"SUM(F8:F247)","v":778021.22784369497},{"$f":"SUM(G8:G247)","v":1778021.2278436942},{"$f":"SUM(H8:H247)","v":0},{"$f":"SUM(I8:I247)","v":82951.390710514912},58569.344166666444,34026.53349754677,50531,22900.300426274101,2026999.7966446974]

{"sheet":"Tabla Amortización Crec","index":6,"n_rows":259,"n_cols":37,"rows_kept":259,"cut":false,"hidden":true,"merged":[[0,1,1,5]]}
[null,"Tabla de Amortización >> Hipotecario >> Tasas Pagos Puntuales>>Cuotas Fijas"]
[]
[null,"Monto Solicitado","Plazo años","Plazo  Meses","Tipo","¿Cómo aplicar el Beneficio PP?","Suma de Ingresos","Esquema",null,"Total Financiado","% Comisión Apert","Comisión Apertura","CAT"]
[null,{"$f":"IF(\nOR('Parametro Destino'!C2=8,'Parametro Destino'!C2=3,'Parametro Destino'!C2=4),\nMIN('Parametro Destino'!F3,Simulación!H25),\nMIN(Simulación!H25,'Parametro Destino'!C7,'Parametro Destino'!F2))","v":1000000},{"$f":"'Parametro Destino'!F5","v":15},{"$f":"PLAZO_ANIOSCREC*12","v":180},"ADQUISICIÓN",{"$f":"'Tabla Crec'!H5","v":0},"SI",{"$f":"Simulación!L25","v":8.900000000000001E-2},null,{"$f":"MTO_SOLICITADO_CRE","v":1000000},0.01,{"$f":"COMISION_APERTCREC *TOTAL_FINANCIADOCREC","v":10000},{"$f":"(1+IRR(AJ13:AJ259,0))^(360/30)-1","v":0.12254269752344071}]
[]
[null,"Valor Inmueble","Presupuesto Construcción","Valor Inmueble actual","Suma Asegurada Daños",null,null,null,null,"Base Avalúo","Costo Avaluo Base","Subtotal Avalúo  (Base + Honorarios)","IVA Avalúo ","Total Avalúo "]
[null,{"$f":"Simulación!H23","v":5000000},1000000,2000000,{"$f":"VALOR_INMUEBLECREC*0.7","v":3500000},null,null,null,null,{"$f":"IF(DESTINOCREC =\"CONSTRUCCIÓN\",\n                 IF(VALOR_INMUEB_ACTCREC> 0, VALOR_INMUEB_ACTCREC, VALOR_INMUEBLECREC-PRES_CONSTRUCCIONCREC),\n         VALOR_INMUEBLECREC)","v":5000000},{"$f":"MTO_BASE_AVALUOCREC*FACTOR_AVALUOCREC","v":12500},{"$f":"MTO_AVALUOCREC + HONORARIOS_AVALUOCREC","v":12500},{"$f":"SUBTOT_AVALUOCREC * IVACREC","v":2000},{"$f":"SUBTOT_AVALUOCREC + IVA_AVALUOCREC","v":14500}]
[]
[null,"Fecha Apertura","Fecha 1er Pago",null,null,null,null,null,null,null,"Suma Inversos","Cuota Nivelada Base",null,null,null,null,null,null,null,null,null,null,null,null,null,null,null,null,null,null,null,null,null,null,null,"Monto Inicial CAT"]
[null,{"$f":"TODAY()","v":"2022-03-15"},{"$f":"IF(DAY(FECHA_APERTURA)<= 19,\n               DATE(YEAR(DATE(YEAR(FECHA_APERTURACREC),MONTH(FECHA_APERTURACREC)+2,)),\n                              MONTH(DATE(YEAR(FECHA_APERTURACREC),MONTH(FECHA_APERTURACREC)+2,)),\n                              4),\n               DATE(YEAR(DATE(YEAR(FECHA_APERTURACREC),MONTH(FECHA_APERTURACREC)+3,)),\n                               MONTH(DATE(YEAR(FECHA_APERTURACREC),MONTH(FECHA_APERTURACREC)+3,)),\n                               4))","v":"2022-04-04"},null,null,null,null,null,null,null,{"$f":"SUMIF(B14:B259, CONCATENATE(\"<\",PLAZOCREC),K14:K259)","v":105.1461389664031},{"$f":"J4/K10","v":9510.5727117524093},null,null,null,null,null,null,null,null,null,null,null,null,null,null,null,null,null,null,null,null,null,null,null,{"$f":"MTO_SOLICITADO_CRE - MTO_COMISION_APERTCREC - SUBTOT_AVALUOCREC","v":977500}]
[]
[null,"Pago","Fecha","Dias Reales","Tasa Periodo","Prorrateo","Potencia","Inverso","Aplica Incremento","Ajuste","Inverso Ajuste","Cuota Nivelada Periodo","Saldo","Capital","Interés           (Dias Reales)","Comision","IVA Comisión","Seguro Daños","IVA Seguro Daños","Seguro Vida","Seguro Interiores","IVA Seguro Interiores","Seguro Desempleo","IVA Seguro Desempleo","Total a Pagar Ordinario","Tasa Pago Puntual","Saldo Pago Puntual","Capital Pago Puntual","Interés","Seguro Vida Pago Puntual","Total Pago Puntual","Aportación Capital Pago Puntual","Prepegago","Total a Pagar Pago Puntual",null,"Total CAT"]
[null,null,null,null,null,null,null,null,null,null,null,null,null,null,null,null,null,null,null,null,null,null,null,null,null,null,null,null,null,null,null,null,null,null,null,{"$f":"AJ10*-1","v":-977500}]
[null,0,{"$f":"IF(B14=0,FECHA_1ER_PAGOCREC,DATE(YEAR(C13),MONTH(C13)+2,))","v":"2022-04-04"},{"$f":"IF(B14=0,C14-B10+1, C14-C13)","v":21},{"$f":"IF(B14=0,TASACREC,IF(B14=MESES_INC_TASACREC,E13+INCREMENTO_TASACREC,E13))","v":8.900000000000001E-2},{"$f":"1 + D14 * E14 / 360 + FACTOR_SEG_DEUDCREC","v":1.0059916666666666},{"$f":"IF(B14 = 0, 0,\n            IF(G13=0, F14, G13 * F14 ))","v":0},{"$f":"IF(G14=0, 0, 1/G14)","v":0},{"$f":"MOD(B14, MESES_INCCREC)=0","v":true},{"$f":"IF(B14=0, 1, IF(I14,J12*(1+INCREMENTO_CREC),J12))","v":1},{"$f":"H14*J14","v":0},{"$f":"CUOTA_INTCREC*J14","v":9510.5727117524093},{"$f":"IF(B14=0,TOTAL_FINANCIADOCREC, M12-N12)","v":1000000},{"$f":"IF(B14=0, 0, L14-O14-T14)","v":0},{"$f":"M14 * D14 * E14 /360","v":5191.666666666667},{"$f":"COMISION_AMORTCREC","v":299},{"$f":"P14*IVACREC","v":47.84},{"$f":"SEGURO_DAÑOS_MENS","v":346.56416666666667},{"$f":"R14*IVACREC","v":55.450266666666664},{"$f":"M14 * FACTOR_SEG_DEUDCREC","v":800},{"$f":"SEGURO_INTERIORESCREC","v":84.482758620689665},{"$f":"U14*IVACREC","v":13.517241379310347},{"$f":"SUM(N14:V14) * FACTOR_SEG_DESEMPLEOCREC","v":67.017506780000005},{"$f":"W14*IVACREC","v":10.7228010848},{"$f":"IF(B14>=PLAZOCREC, 0, SUM(N14:X14))","v":6916.2614078648012},{"$f":"IF(B14>=MESES_PAG_PUNTCREC,TASACREC-DISMINUCION_TASACREC,TASACREC)","v":8.900000000000001E-2},{"$f":"IF(B14=0,TOTAL_FINANCIADOCREC, MAX(ROUND(AA13-N13-AF13,2), 0))","v":1000000},{"$f":"MIN(AA14,N14)","v":0},{"$f":"AA14 * D14 * Z14 /360","v":5191.666666666667},{"$f":"AA14 * FACTOR_SEG_DEUDCREC","v":800},{"$f":"IF(AA14>0, AB14+AC14+AD14+P14+Q14+R14+S14+U14+V14+W14+X14, 0)","v":6916.2614078648012},{"$f":"IF(ACCION_EXCEDENTE_PPCREC=\"MENOS PLAZO\", IF(AA14>N14, ROUND(Y14-AE14, 2), 0), 0)","v":0},{"$f":"'Tabla Crec'!E8+'Tabla Crec'!H8","v":0},{"$f":"AE14+AF14","v":6916.2614078648012},null,{"$f":"IF(AA14> 0,AB14+AC14+AD14+P14+R14+U14+W14, 0)","v":6788.7310987340234}]
[null,1,{"$f":"IF(B15=0,FECHA_1ER_PAGO,DATE(YEAR(C14),MONTH(C14)+1,4))","v":"2022-05-04"},{"$f":"IF(B15=0,C15-C10+1, C15-C14)","v":30},8.900000000000001E-2,{"$f":"1 + D15 * E15 / 360 + FACTOR_SEG_DEUDCREC","v":1.0082166666666665},{"$f":"IF(B15 = 0, 0,\n            IF(G14=0, F15, G14 * F15 ))","v":1.0082166666666665},{"$f":"IF(G15=0, 0, 1/G15)","v":0.99185029672854719},{"$f":"MOD(B15, MESES_INCCREC)=0","v":false},{"$f":"IF(B15=0, 1, IF(I15,J14*(1+INCREMENTO_CREC),J14))","v":1},{"$f":"H15*J15","v":0.99185029672854719},{"$f":"CUOTA_INTCREC*J15","v":9510.5727117524093},{"$f":"IF(B15=0,TOTAL_FINANCIADOCREC, M14-N14)","v":1000000},{"$f":"IF(B15=0, 0, L15-O15-T15)","v":1293.9060450857414},7416.6666666666679,299,47.84,346.56416666666667,55.450266666666664,800,84.482758620689665,13.517241379310347,101.50278602184028,16.240445763494446,10475.170376871078,8.900000000000001E-2,{"$f":"IF(B15=0,TOTAL_FINANCIADOCREC, MAX(ROUND(AA14-N14-AF14-AG14,2), 0))","v":1000000},1293.9060450857414,{"$f":"AA15 * D15 * Z15 /360","v":7416.6666666666679},800,10475.170376871078,0,{"$f":"'Tabla Crec'!E9+'Tabla Crec'!H9","v":0},{"$f":"AE15+AF15","v":10475.170376871078},null,{"$f":"IF(AA15> 0,AB15+AC15+AD15+P15+R15+U15+W15, 0)","v":10342.122423061606}]
[null,2,"2022-06-04",{"$f":"IF(B16=0,C16-'Parametros Crec'!C9+1, C16-C15)","v":31},8.900000000000001E-2,{"$f":"1 + D16 * E16 / 360 + FACTOR_SEG_DEUDCREC","v":1.0084638888888888},1.016750100509259,{"$f":"IF(G16=0, 0, 1/G16)","v":0.98352584327174464},false,1,0.98352584327174464,9510.5727117524093,998706.09395491425,1057.6352998617876,7653.9725367266901,299,47.84,346.56416666666667,55.450266666666664,798.96487516393142,84.482758620689665,13.517241379310347,101.50278602184028,16.240445763494446,10475.170376871078,8.900000000000001E-2,998706.09,1057.6352998617876,7653.9725064166669,798.96487200000001,10475.170343397123,0,{"$f":"'Tabla Crec'!E10+'Tabla Crec'!H10","v":0},10475.170343397123,null,10342.122389587652]
[null,3,"2022-07-04",{"$f":"IF(B17=0,C17-'Parametros Crec'!C15+1, C17-C16)","v":30},8.900000000000001E-2,1.0082166666666665,1.0251043971684433,0.97551039948927454,false,1,0.97551039948927454,9510.5727117524093,997648.45865505247,1313.22787647006,7399.2260683583072,299,47.84,346.56416666666667,55.450266666666664,798.11876692404201,{"$f":"SEGURO_INTERIORESCREC","v":84.482758620689665},13.517241379310347,101.50278602184028,16.240445763494446,10475.170376871078,8.900000000000001E-2,997648.45,1313.22787647006,7399.2260041666668,798.11875999999995,10475.170305755395,0,{"$f":"'Tabla Crec'!E11+'Tabla Crec'!H11","v":0},10475.170305755395,null,10342.122351945924]
[null,4,"2022-08-04",{"$f":"IF(B18=0,C18-'Parametros Crec'!C16+1, C18-C17)","v":31},8.900000000000001E-2,1.0084638888888888,1.0337807668855883,0.9673230843833962,false,1,0.9673230843833962,9510.5727117524093,996335.23077858239,1077.7020223570184,7635.802504772525,299,47.84,346.56416666666667,55.450266666666664,797.06818462286594,84.482758620689665,13.517241379310347,101.50278602184028,16.240445763494446,10475.170376871078,8.900000000000001E-2,996335.22,1077.7020223570184,7635.8024221666674,797.06817599999999,10475.170285642354,0,{"$f":"'Tabla Crec'!E12+'Tabla Crec'!H12","v":0},10475.170285642354,null,10342.122331832883]
[null,5,"2022-09-04",{"$f":"IF(B19=0,C19-#REF!+1, C19-C18)","v":31},8.900000000000001E-2,1.0084638888888888,1.0425305724319782,0.95920448420734139,false,1,0.95920448420734139,9510.5727117524093,995257.52875622537,{"$f":"IF(B19=0, 0, L19-O19-T19)","v":1086.8235725295788},7627.5431162178502,299,47.84,346.56416666666667,55.450266666666664,796.20602300498035,84.482758620689665,13.517241379310347,101.50278602184028,16.240445763494446,10475.170376871078,8.900000000000001E-2,995257.52,{"$f":"MIN(AA19,N19)","v":1086.8235725295788},7627.5430491111129,796.20601600000009,10475.170302759359,0,{"$f":"'Tabla Crec'!E13+'Tabla Crec'!H13","v":0},10475.170302759359,null,10342.122348949888]
[null,6,"2022-10-04",{"$f":"IF(B20=0,C20-C12+1, C20-C19)","v":30},8.900000000000001E-2,1.0082166666666665,1.0510966986354608,0.95138725228440457,false,1,0.95138725228440457,9510.5727117524093,994170.70518369577,1341.8034174930413,7373.4327301124113,299,47.84,346.56416666666667,55.450266666666664,795.33656414695668,84.482758620689665,13.517241379310347,101.50278602184028,16.240445763494446,10475.170376871078,8.900000000000001E-2,994170.7,1341.8034174930413,7373.4326916666678,795.33655999999996,10475.170334278377,0,{"$f":"'Tabla Crec'!E14+'Tabla Crec'!H14","v":0},10475.170334278377,null,10342.122380468905]
[null,7,"2022-11-04",31,8.900000000000001E-2,1.0084638888888888,1.0599930643041893,0.94340239920006408,false,1,0.94340239920006408,9510.5727117524093,992828.90176620276,1107.3792015256859,7608.9303888137611,299,47.84,346.56416666666667,55.450266666666664,794.26312141296228,84.482758620689665,13.517241379310347,101.50278602184027,16.240445763494442,10475.170376871076,8.900000000000001E-2,992828.9,1107.3792015256859,7608.9303752777787,794.26312000000007,10475.170361922133,0,{"$f":"'Tabla Crec'!E15+'Tabla Crec'!H15","v":0},10475.170361922133,null,10342.122408112662]
[null,8,"2022-12-04",30,8.900000000000001E-2,1.0082166666666665,1.0687026739825551,0.93571394958100707,false,1,0.93571394958100707,9510.5727117524093,991721.52256467706,1361.927534679312,7355.2679590213556,299,47.84,346.56416666666667,55.450266666666664,793.37721805174169,84.482758620689665,13.517241379310347,101.50278602184027,16.240445763494442,10475.170376871076,8.900000000000001E-2,991721.52,1361.927534679312,7355.2679400000006,793.37721600000009,10475.170355797982,0,{"$f":"'Tabla Crec'!E16+'Tabla Crec'!H16","v":0},10475.170355797982,null,10342.12240198851]
[null,9,"2023-01-04",31,8.900000000000001E-2,1.0084638888888888,1.0777480546704019,0.92786064021782999,false,1,0.92786064021782999,9510.5727117524093,990359.59502999776,1128.279139373511,7590.0058963549,299,47.84,346.56416666666667,55.450266666666664,792.28767602399819,84.482758620689665,13.517241379310347,101.50278602184028,16.240445763494446,10475.170376871078,8.900000000000001E-2,990359.59,1128.279139373511,7590.0058578055559,792.28767200000004,10475.170334297736,0,{"$f":"'Tabla Crec'!E17+'Tabla Crec'!H17","v":0},10475.170334297736,null,10342.122380488265]
[null,10,"2023-02-04",31,8.900000000000001E-2,1.0084638888888888,1.0868699944553484,0.92007324252347167,false,1,0.92007324252347167,9510.5727117524093,989231.31589062419,1137.8287686448195,7581.3588903950904,299,47.84,346.56416666666667,55.450266666666664,791.38505271249937,84.482758620689665,13.517241379310347,101.50278602184028,16.240445763494446,10475.170376871078,8.900000000000001E-2,989231.31,1137.8287686448195,7581.3588452500017,791.3850480000001,10475.170327013489,0,{"$f":"'Tabla Crec'!E18+'Tabla Crec'!H18","v":0},10475.170327013489,null,10342.122373204018]
[null,11,"2023-03-04",28,8.900000000000001E-2,1.0077222222222222,1.0952630460791979,0.91302267850611896,false,1,0.91302267850611896,9510.5727117524093,988093.48712197936,1880.2952278660127,6839.8026941888129,299,47.84,346.56416666666667,55.450266666666664,790.47478969758356,84.482758620689665,13.517241379310347,101.50278602184028,16.240445763494446,10475.170376871078,8.900000000000001E-2,988093.48,1880.2952278660127,6839.8026448888886,790.474784,10475.170321873569,0,{"$f":"'Tabla Crec'!E19+'Tabla Crec'!H19","v":0},10475.170321873569,null,10342.122368064098]
[null,12,"2023-04-04",31,8.900000000000001E-2,1.0084638888888888,1.1045332308053182,{"$f":"IF(G26=0, 0, 1/G26)","v":0.90535981363901319},{"$f":"MOD(B26, MESES_INCCREC)=0","v":true},{"$f":"IF(B26=0, 1, IF(I26,J25*(1+INCREMENTO_CREC),J25))","v":1.0229999999999999},0.92618308935271043,{"$f":"CUOTA_INTCREC*J26","v":9729.3158841227141},986213.19189411332,1382.1170071744818,7558.2283234329416,299,47.84,346.56416666666667,55.450266666666664,788.9705535152907,84.482758620689665,13.517241379310347,103.64646911106925,16.58343505777108,10696.400221624886,8.900000000000001E-2,986213.18,1382.1170071744818,7558.2282322777783,788.97054400000013,10696.400120954435,0,{"$f":"'Tabla Crec'!E20+'Tabla Crec'!H20","v":0},{"$f":"AE26+AF26","v":10696.400120954435},null,10563.009177850687,{"$f":"AJ26/AJ25","v":1.0213579768180538}]
[null,13,"2023-05-04",30,8.900000000000001E-2,1.0082166666666665,1.1136088121851018,0.89798139980395741,false,1.0229999999999999,0.91863497199944832,9729.3158841227141,984831.07488693879,1637.2872188016993,7304.1638054114637,299,47.84,346.56416666666667,55.450266666666664,787.86485990955111,84.482758620689665,13.517241379310347,103.64646911106927,16.583435057771084,10696.400221624888,8.900000000000001E-2,984831.06,1637.2872188016993,7304.1636950000011,787.86484800000005,10696.400099303874,0,{"$f":"'Tabla Crec'!E21+'Tabla Crec'!H21","v":0},10696.400099303874,null,10563.009156200125]
[null,14,"2023-06-04",31,8.900000000000001E-2,1.0084638888888888,1.1230342734371239,0.89044477417365986,false,1.0229999999999999,0.91092500397965392,9729.3158841227141,983193.78766813711,1407.672909053787,7535.0879449344175,299,47.84,346.56416666666667,55.450266666666664,786.55503013450971,84.482758620689665,13.517241379310347,103.64646911106927,16.583435057771084,10696.400221624888,8.900000000000001E-2,983193.77,1407.672909053787,7535.0878095277794,786.55501600000002,10696.400072083741,0,{"$f":"'Tabla Crec'!E22+'Tabla Crec'!H22","v":0},10696.400072083741," ",10563.009128979993]
[null,15,"2023-07-04",30,8.900000000000001E-2,1.0082166666666665,1.1322618717171988,0.88318791348452874,false,1.0229999999999999,0.90350123549467287,9729.3158841227141,981786.11475908337,1662.3066411855784,7281.5803511298691,299,47.84,346.56416666666667,55.450266666666664,785.42889180726672,84.482758620689665,13.517241379310347,103.64646911106927,16.583435057771084,10696.400221624888,8.900000000000001E-2,981786.1,1662.3066411855784,7281.5802416666666,785.42888000000005,10696.400100354418,0,{"$f":"'Tabla Crec'!E23+'Tabla Crec'!H23","v":0},10696.400100354418,null,10563.00915725067]
[null,16,"2023-08-04",31,8.900000000000001E-2,1.0084638888888888,1.1418452103925385,0.87577544740606694,false,{"$f":"IF(B30=0, 1, IF(I30,J29*(1+INCREMENTO_CREC),J29))","v":1.0229999999999999},0.89591828269640639,9729.3158841227141,980123.80811789783,1433.6568748581717,7511.559962770224,299,47.84,346.56416666666667,55.450266666666664,784.09904649431826,84.482758620689665,13.517241379310347,103.64646911106927,16.583435057771084,10696.400221624888,8.900000000000001E-2,980123.79,1433.6568748581717,7511.5598239166675,784.09903200000008,10696.400068277013,0,{"$f":"'Tabla Crec'!E24+'Tabla Crec'!H24","v":0},10696.400068277013,null,10563.009125173265]
[null,17,"2023-09-04",31,8.900000000000001E-2,1.0084638888888888,1.1515096613816109,0.86842519306366417,false,1.0229999999999999,0.88839897250412836,9729.3158841227141,978690.15124303964,1445.7911873517637,7500.5725757765185,299,47.84,346.56416666666667,55.450266666666664,782.95212099443177,84.482758620689665,13.517241379310347,103.64646911106927,16.583435057771084,10696.400221624888,8.900000000000001E-2,978690.13,1445.7911873517637,7500.572412972223,782.95210400000008,10696.40004182616,0,{"$f":"'Tabla Crec'!E25+'Tabla Crec'!H25","v":0},10696.40004182616,null,10563.009098722412]
[null,18,"2023-10-04",30,8.900000000000001E-2,1.0082166666666665,1.1609712324326298,0.86134778542674117,false,1.0229999999999999,0.88115878449155616,9729.3158841227141,977244.36005568784,1699.624725665145,7247.8956704130187,299,47.84,346.56416666666667,55.450266666666664,781.79548804455032,84.482758620689665,13.517241379310347,103.64646911106927,16.583435057771084,10696.400221624888,8.900000000000001E-2,977244.34,1699.624725665145,7247.8955216666673,781.79547200000002,10696.400056833987,0,{"$f":"'Tabla Crec'!E26+'Tabla Crec'!H26","v":0},10696.400056833987,null,10563.009113730239]
[null,19,"2023-11-04",31,8.900000000000001E-2,1.0084638888888888,1.170797563947136,0.85411862032636765,false,1.0229999999999999,0.87376334859387406,9729.3158841227141,975544.73533002264,1472.4136381488822,7476.4664577098138,299,47.84,346.56416666666667,55.450266666666664,780.43578826401813,84.482758620689665,13.517241379310347,103.64646911106927,16.583435057771084,10696.400221624888,8.900000000000001E-2,975544.72,1472.4136381488822,7476.4663402222222,780.43577600000003,10696.400091873278,0,{"$f":"'Tabla Crec'!E27+'Tabla Crec'!H27","v":0},10696.400091873278,null,10563.00914876953]
[null,20,"2023-12-04",30,8.900000000000001E-2,1.0082166666666665,1.1804176172642349,0.8471578070120851,false,1.0229999999999999,0.86664243657336293,9729.3158841227141,974072.32169187372,1725.688307554484,7224.369719214731,299,47.84,346.56416666666667,55.450266666666664,779.25785735349905,84.482758620689665,13.517241379310347,103.64646911106927,16.583435057771084,10696.400221624888,8.900000000000001E-2,974072.31,1725.688307554484,7224.369632500001,779.25784800000008,10696.400125556658,0,{"$f":"'Tabla Crec'!E28+'Tabla Crec'!H28","v":0},10696.400125556658,null,10563.00918245291]
[null,21,"2024-01-04",31,8.900000000000001E-2,1.0084638888888888,1.1904085408192462,0.84004773631058971,false,1.0229999999999999,0.85936883424573318,9729.3158841227141,972346.63338431926,1499.4820176726562,7451.9565597426026,299,47.84,346.56416666666667,55.450266666666664,777.87730670745543,84.482758620689665,13.517241379310347,103.64646911106927,16.583435057771084,10696.400221624888,8.900000000000001E-2,972346.62,1499.4820176726562,7451.956457166667,777.877296,10696.400108341499,0,{"$f":"'Tabla Crec'!E29+'Tabla Crec'!H29","v":0},10696.400108341499,null,10563.00916523775]
[null,22,"2024-02-04",31,8.900000000000001E-2,1.0084638888888888,1.2004840264411245,0.83299733938529263,false,1.0229999999999999,0.85215627819115425,9729.3158841227141,970847.15136664663,1512.173466861123,7440.4646961682738,299,47.84,346.56416666666667,55.450266666666664,776.67772109331736,84.482758620689665,13.517241379310347,103.64646911106927,16.583435057771084,10696.400221624888,8.900000000000001E-2,970847.14,1512.173466861123,7440.4646090555561,776.67771200000004,10696.400125418853,0,{"$f":"'Tabla Crec'!E30+'Tabla Crec'!H30","v":0},10696.400125418853,null,10563.009182315105]
[null,23,"2024-03-04",29,8.900000000000001E-2,1.0079694444444443,1.2100512171962898,0.82641130043818956,false,1.0229999999999999,0.84541876034826779,9729.3158841227141,969334.9778997855,2004.2546296935898,6949.5932721092959,299,47.84,346.56416666666667,55.450266666666664,775.46798231982848,84.482758620689665,13.517241379310347,103.64646911106925,16.58343505777108,10696.400221624886,8.900000000000001E-2,969334.97,2004.2546296935898,6949.5932154722232,775.46797600000002,10696.400158667986,0,{"$f":"'Tabla Crec'!E31+'Tabla Crec'!H31","v":0},10696.400158667986,null,10563.009215564238]
[null,24,"2024-04-04",31,8.900000000000001E-2,1.0084638888888888,1.2202929562485039,0.81947535211074118,true,1.0465289999999998,0.85760472076910166,9953.0901494575355,967330.72327009193,1765.710388890951,7413.5151819505109,299,47.84,346.56416666666667,55.450266666666664,773.86457861607357,84.482758620689665,13.517241379310347,105.83945691135051,16.934313105816081,10922.718352808035,8.900000000000001E-2,967330.72,1765.710388890951,7413.5151568888896,773.86457600000006,10922.71832513034,0,{"$f":"'Tabla Crec'!E32+'Tabla Crec'!H32","v":0},10922.71832513034,null,10788.976503978547]
[null,25,"2024-05-04",30,8.900000000000001E-2,1.0082166666666665,1.2303196967056789,0.81279687115276944,false,1.0465289999999998,0.85061549677063653,9953.0901494575355,965565.01288120099,2019.3642936169999,7161.2738455355748,299,47.84,346.56416666666667,55.450266666666664,772.45201030496082,84.482758620689665,13.517241379310347,105.83945691135054,16.934313105816088,10922.718352808037,8.900000000000001E-2,965565.01,2019.3642936169999,7161.2738241666684,772.45200800000009,10922.718329134168,0,{"$f":"'Tabla Crec'!E33+'Tabla Crec'!H33","v":0},10922.718329134168,null,10788.976507982376]
[null,26,"2024-06-04",31,8.900000000000001E-2,1.0084638888888888,1.2407329859164071,0.80597518672512647,false,1.0465289999999998,0.8434764061882597,9953.0901494575355,963545.64858758403,1797.7468404398451,7384.5067901476232,299,47.84,346.56416666666667,55.450266666666664,770.83651887006727,84.482758620689665,13.517241379310347,105.8394569113505,16.934313105816081,10922.718352808033,8.900000000000001E-2,963545.65,1797.7468404398451,7384.5068009722245,770.83652000000006,10922.71836476257,0,{"$f":"'Tabla Crec'!E34+'Tabla Crec'!H34","v":0},10922.71836476257,null,10788.976543610777]
[null,27,"2024-07-04",30,8.900000000000001E-2,1.0082166666666665,1.2509276752840202,0.79940672810916291,false,1.0465289999999998,0.83660232376135402,9953.0901494575355,961747.90174714418,2050.7282234351669,7132.9636046246533,299,47.84,346.56416666666667,55.450266666666664,769.39832139771534,84.482758620689665,13.517241379310347,105.83945691135051,16.934313105816081,10922.718352808035,8.900000000000001E-2,961747.9,2050.7282234351669,7132.9635916666675,769.39832000000001,10922.718338452334,0,{"$f":"'Tabla Crec'!E35+'Tabla Crec'!H35","v":0},10922.718338452334,null,10788.976517300542]
[null,28,"2024-08-04",31,8.900000000000001E-2,1.0084638888888888,1.26151538813566,0.7926974251799318,false,1.0465289999999998,0.82958084367612872,9953.0901494575355,959697.17352370906,1830.3199057721415,7355.0125048664268,299,47.84,346.56416666666667,55.450266666666664,767.75773881896725,84.482758620689665,13.517241379310347,105.83945691135051,16.934313105816081,10922.718352808035,8.900000000000001E-2,959697.17,1830.3199057721415,7355.0124778611116,767.75773600000002,10922.718322983752,0,{"$f":"'Tabla Crec'!E36+'Tabla Crec'!H36","v":0},10922.718322983752,null,10788.976501831959]
[null,29,"2024-09-04",31,8.900000000000001E-2,1.0084638888888888,1.2721927142124636,0.78604443244201305,false,1.0465289999999998,0.82261829383910734,9953.0901494575355,957866.85361793695,1845.8115300857182,7340.9851364774677,299,47.84,346.56416666666667,55.450266666666664,766.29348289434961,84.482758620689665,13.517241379310347,105.83945691135051,16.934313105816081,10922.718352808035,8.900000000000001E-2,957866.85,1845.8115300857182,7340.9851087500001,766.29348000000005,10922.718322186218,0,{"$f":"'Tabla Crec'!E37+'Tabla Crec'!H37","v":0},10922.718322186218,null,10788.976501034425]
[null,30,"2024-10-04",30,8.900000000000001E-2,1.0082166666666665,1.2826458976809092,0.77963840355943304,false,1.0465289999999998,0.8159141988386498,9953.0901494575355,956021.04208785121,2097.7839203023568,7090.4893954848976,299,47.84,346.56416666666667,55.450266666666664,764.81683367028097,84.482758620689665,13.517241379310347,105.8394569113505,16.934313105816081,10922.718352808033,8.900000000000001E-2,956021.04,2097.7839203023568,7090.4893800000009,764.81683200000009,10922.718335652857,0,{"$f":"'Tabla Crec'!E38+'Tabla Crec'!H38","v":0},10922.718335652857,null,10788.976514501064]
[null,31,"2024-11-04",31,8.900000000000001E-2,1.0084638888888888,1.2935020700426694,0.77309501326659069,false,1.0465289999999998,0.80906635113887171,9953.0901494575355,953923.2581675488,1879.1896838005316,7310.7618591229648,299,47.84,346.56416666666667,55.450266666666664,763.13860653403913,84.482758620689665,13.517241379310347,105.83945691135051,16.934313105816081,10922.718352808035,8.900000000000001E-2,953923.26,1879.1896838005316,7310.7618731666671,763.13860800000009,10922.718368317697,0,{"$f":"'Tabla Crec'!E39+'Tabla Crec'!H39","v":0},10922.718368317697,null,10788.976547165905]
[null,32,"2024-12-04",30,8.900000000000001E-2,1.0082166666666665,1.3041303453848532,0.76679451830782808,false,1.0465289999999998,0.80247270045017283,9953.0901494575355,952044.06848374824,2130.4613867494022,7060.9935079211346,299,47.84,346.56416666666667,55.450266666666664,761.63525478699864,84.482758620689665,13.517241379310347,105.83945691135051,16.934313105816081,10922.718352808035,8.900000000000001E-2,952044.07,2130.4613867494022,7060.9935191666673,761.63525600000003,10922.718365266568,0,{"$f":"'Tabla Crec'!E40+'Tabla Crec'!H40","v":0},10922.718365266568,null,10788.976544114776]
[null,33,"2025-01-04",31,8.900000000000001E-2,1.0084638888888888,1.3151683597248187,0.76035892485220413,false,1.0465289999999998,0.79573766526665224,9953.0901494575355,949913.60709699884,1913.1269249448801,7280.0323388350562,299,47.84,346.56416666666667,55.450266666666664,759.93088567759912,84.482758620689665,13.517241379310347,105.83945691135051,16.934313105816081,10922.718352808035,8.900000000000001E-2,949913.61,1913.1269249448801,7280.0323610833339,759.93088799999998,10922.718377378715,0,{"$f":"'Tabla Crec'!E41+'Tabla Crec'!H41","v":0},10922.718377378715,null,10788.976556226922]
[null,34,"2025-02-04",31,8.900000000000001E-2,1.0084638888888888,1.3262997985917118,0.75397734438459341,false,1.0465289999999998,0.78905915624146405,9953.0901494575355,948000.48017205391,1929.3194186679559,7265.3703466519364,299,47.84,346.56416666666667,55.450266666666664,758.40038413764319,84.482758620689665,13.517241379310347,105.83945691135051,16.934313105816081,10922.718352808035,8.900000000000001E-2,948000.48,1929.3194186679559,7265.3703453333337,758.40038400000003,10922.71835135179,0,{"$f":"'Tabla Crec'!E42+'Tabla Crec'!H42","v":0},10922.71835135179,null,10788.976530199998]
[null,35,"2025-03-04",28,8.900000000000001E-2,1.0077222222222222,1.3365417803697255,0.74819958095389394,false,1.0465289999999998,0.78301255925609758,9953.0901494575355,946071.16075338598,2647.3184080841647,6548.9148127706621,299,47.84,346.56416666666667,55.450266666666664,756.85692860270876,84.482758620689665,13.517241379310347,105.83945691135051,16.934313105816081,10922.718352808035,8.900000000000001E-2,946071.16,2647.3184080841647,6548.9148075555568,756.85692800000004,10922.718346990219,0,{"$f":"'Tabla Crec'!E43+'Tabla Crec'!H43","v":0},10922.718346990219,null,10788.976525838427]
[null,36,"2025-04-04",31,8.900000000000001E-2,1.0084638888888888,1.3478541214941324,0.74192005206874556,true,1.0705991669999997,0.79429898972539537,10182.011222895058,943423.84234530176,2196.9766461557947,7230.2955028630222,299,47.84,346.56416666666667,55.450266666666664,754.73907387624149,84.482758620689665,13.517241379310347,108.08288343103823,17.293261348966116,11154.241801008395,8.900000000000001E-2,943423.84,2196.9766461557947,7230.2954848888903,754.73907199999996,11154.241781158024,0,{"$f":"'Tabla Crec'!E44+'Tabla Crec'!H44","v":0},11154.241781158024,null,11020.14101176308]
[null,37,"2025-05-04",30,8.900000000000001E-2,1.0082166666666665,1.3589289895257424,0.7358736237932445,false,1.0705991669999997,0.78782568865031877,10182.011222895058,941226.86569914594,2448.2638097337417,6980.7659206019998,299,47.84,346.56416666666667,55.450266666666664,752.98149255931673,84.482758620689665,13.517241379310347,108.08288343103824,17.293261348966119,11154.241801008397,8.900000000000001E-2,941226.86,2448.2638097337417,6980.7658783333336,752.98148800000001,11154.241754180413,0,{"$f":"'Tabla Crec'!E45+'Tabla Crec'!H45","v":0},11154.241754180413,null,11020.14098478547]
[null,38,"2025-06-04",31,8.900000000000001E-2,1.0084638888888888,1.3704308135009782,0.72969754485112959,false,1.0705991669999997,0.78121358367956428,10182.011222895058,938778.60188941215,2236.2934452366162,7194.6948961469125,299,47.84,346.56416666666667,55.450266666666664,751.0228815115297,84.482758620689665,13.517241379310347,108.08288343103824,17.293261348966119,11154.241801008397,8.900000000000001E-2,938778.6,2236.2934452366162,7194.6948816666663,751.02287999999999,11154.241785016622,0,{"$f":"'Tabla Crec'!E46+'Tabla Crec'!H46","v":0},11154.241785016622,null,11020.141015621679]
[null,39,"2025-07-04",30,8.900000000000001E-2,1.0082166666666665,1.3816911866852444,0.72375072638268523,false,1.0705991669999997,0.77484692478094752,10182.011222895058,936542.30844417552,2486.7552551787489,6946.022120960969,299,47.84,346.56416666666667,55.450266666666664,749.23384675534044,84.482758620689665,13.517241379310347,108.08288343103824,17.293261348966119,11154.241801008397,8.900000000000001E-2,936542.31,2486.7552551787489,6946.0221325000011,749.23384800000008,11154.241813792089,0,{"$f":"'Tabla Crec'!E47+'Tabla Crec'!H47","v":0},11154.241813792089,null,11020.141044397145]
[null,40,"2025-08-04",31,8.900000000000001E-2,1.0084638888888888,1.3933856673681053,0.71767639313302878,false,1.0705991669999997,0.76834374866378485,10182.011222895058,934055.55318899674,2276.2688046537442,7158.4979756901166,299,47.84,346.56416666666667,55.450266666666664,747.24444255119738,84.482758620689665,13.517241379310347,108.08288343103823,17.293261348966116,11154.241801008395,8.900000000000001E-2,934055.55,2276.2688046537442,7158.4979512500004,747.24444000000005,11154.241774017082,0,{"$f":"'Tabla Crec'!E48+'Tabla Crec'!H48","v":0},11154.241774017082,null,11020.141004622139]
[null,41,"2025-09-04",31,8.900000000000001E-2,1.0084638888888888,1.4051791288360791,0.71165304086768488,false,1.0705991669999997,0.7618951527459602,10182.011222895058,931779.28438434296,2295.534890897577,7141.0529044900068,299,47.84,346.56416666666667,55.450266666666664,745.42342750747446,84.482758620689665,13.517241379310347,108.08288343103824,17.293261348966119,11154.241801008397,8.900000000000001E-2,931779.28,2295.534890897577,7141.0528708888887,745.42342400000007,11154.241763899805,0,{"$f":"'Tabla Crec'!E49+'Tabla Crec'!H49","v":0},11154.241763899805,null,11020.140994504862]
[null,42,"2025-10-04",30,8.900000000000001E-2,1.0082166666666665,1.4167250173446819,0.70585327975238621,false,1.0705991669999997,0.75568593332712242,10182.011222895058,929483.74949344539,2544.7530812239152,6893.6711420763868,299,47.84,346.56416666666667,55.450266666666664,743.58699959475632,84.482758620689665,13.517241379310347,108.08288343103824,17.293261348966119,11154.241801008397,8.900000000000001E-2,929483.75,2544.7530812239152,6893.6711458333339,743.58699999999999,11154.241805170586,0,{"$f":"'Tabla Crec'!E50+'Tabla Crec'!H50","v":0},11154.241805170586,null,11020.141035775643]
[null,43,"2025-11-04",31,8.900000000000001E-2,1.0084638888888888,1.4287160204775964,0.69992915713629111,false,1.0705991669999997,0.74934357258912521,10182.011222895058,926938.99641222146,2336.5025504838386,7103.9574752814424,299,47.84,346.56416666666667,55.450266666666664,741.55119712977717,84.482758620689665,13.517241379310347,108.08288343103824,17.293261348966119,11154.241801008397,8.900000000000001E-2,926939,2336.5025504838386,7103.9575027777792,741.55119999999999,11154.241831374955,0,{"$f":"'Tabla Crec'!E51+'Tabla Crec'!H51","v":0},11154.241831374955,null,11020.141061980012]
[null,44,"2025-12-04",30,8.900000000000001E-2,1.0082166666666665,1.4404553037791872,0.69422494219459219,false,1.0705991669999997,0.7432366448241533,10182.011222895058,924602.49386173766,2584.8607316644461,6857.4684961412222,299,47.84,346.56416666666667,55.450266666666664,739.68199508939017,84.482758620689665,13.517241379310347,108.08288343103824,17.293261348966119,11154.241801008397,8.900000000000001E-2,924602.5,2584.8607316644461,6857.4685416666671,739.68200000000002,11154.241851444453,0,{"$f":"'Tabla Crec'!E52+'Tabla Crec'!H52","v":0},11154.241851444453,null,11020.141082049509]
[null,45,"2026-01-04",31,8.900000000000001E-2,1.0084638888888888,1.4526471574197848,0.68839841450295203,false,1.0705991669999997,0.73699876913098095,10182.011222895058,922017.6331300732,2378.1564224857993,7066.2406939052007,299,47.84,346.56416666666667,55.450266666666664,737.61410650405855,84.482758620689665,13.517241379310347,108.08288343103824,17.293261348966119,11154.241801008397,8.900000000000001E-2,922017.64,2378.1564224857993,7066.2407465555561,737.61411200000009,11154.241859154694,0,{"$f":"'Tabla Crec'!E53+'Tabla Crec'!H53","v":0},11154.241859154694,null,11020.141089759751]
[null,46,"2026-02-04",31,8.900000000000001E-2,1.0084638888888888,1.464942201554946,0.68262078800007364,false,1.0705991669999997,0.73081324700976225,10182.011222895058,919639.47670758737,2398.2848742061165,7048.0147673228721,299,47.84,346.56416666666667,55.450266666666664,735.71158136606994,84.482758620689665,13.517241379310347,108.08288343103824,17.293261348966119,11154.241801008397,8.900000000000001E-2,919639.48,2398.2848742061165,7048.0147925555566,735.71158400000002,11154.241828875012,0,{"$f":"'Tabla Crec'!E54+'Tabla Crec'!H54","v":0},11154.241828875012,null,11020.141059480069]
[null,47,"2026-03-04",28,8.900000000000001E-2,1.0077222222222222,1.4762548107780646,0.67738983317720536,false,1.0705991669999997,0.72521299113378479,10182.011222895058,917241.19183338131,3098.8709081817246,6349.3473612466287,299,47.84,346.56416666666667,55.450266666666664,733.79295346670506,84.482758620689665,13.517241379310347,108.08288343103824,17.293261348966119,11154.241801008397,8.900000000000001E-2,917241.2,3098.8709081817246,6349.347417777778,733.79295999999999,11154.241864072841,0,{"$f":"'Tabla Crec'!E55+'Tabla Crec'!H55","v":0},11154.241864072841,null,11020.141094677898]
[null,48,"2026-04-04",31,8.900000000000001E-2,1.0084638888888888,1.4887496674681777,0.67170460007600652,true,1.0952229478409996,0.73566629217360358,10416.197481021643,914142.32092519954,2678.9984480797443,7005.8851762017393,299,47.84,346.56416666666667,55.450266666666664,731.31385674015962,84.482758620689665,13.517241379310347,110.37790876067878,17.660465401708606,11391.090288517364,8.900000000000001E-2,914142.33,2678.9984480797443,7005.8852457500016,731.31386399999997,11391.090365325466,0,{"$f":"'Tabla Crec'!E56+'Tabla Crec'!H56","v":0},11391.090365325466,null,11256.622391877781]
[null,49,"2026-05-04",30,8.900000000000001E-2,1.0082166666666665,1.5009822272358744,0.66623040689931723,false,1.0952229478409996,0.72967083018557888,10416.197481021643,911463.32247711974,2927.0071813346408,6760.0196417053066,299,47.84,346.56416666666667,55.450266666666664,729.17065798169585,84.482758620689665,13.517241379310347,110.37790876067878,17.660465401708606,11391.090288517364,8.900000000000001E-2,911463.33,2927.0071813346408,6760.0196975000008,729.17066399999999,11391.090350330362,0,{"$f":"'Tabla Crec'!E57+'Tabla Crec'!H57","v":0},11391.090350330362,null,11256.622376882677]
[null,50,"2026-06-04",31,8.900000000000001E-2,1.0084638888888888,1.5136863740313957,0.6606388332192642,false,1.0952229478409996,0.72354681037664104,10416.197481021643,908536.31529578508,2726.4470568375955,6962.9213719474201,299,47.84,346.56416666666667,55.450266666666664,726.82905223662806,84.482758620689665,13.517241379310347,110.37790876067878,17.660465401708606,11391.090288517364,8.900000000000001E-2,908536.31999999995,2726.4470568375955,6962.9214080000002,726.82905600000004,11391.090328333317,0,{"$f":"'Tabla Crec'!E58+'Tabla Crec'!H58","v":0},11391.090328333317,null,11256.622354885632]
[null,51,"2026-07-04",30,8.900000000000001E-2,1.0082166666666665,1.5261238304046869,0.65525482275892843,false,1.0952229478409996,0.71765011856906535,10416.197481021643,905809.86823894747,2973.4597303249589,6718.0898561055265,299,47.84,346.56416666666667,55.450266666666664,724.64789459115798,84.482758620689665,13.517241379310347,110.37790876067878,17.660465401708606,11391.090288517364,8.900000000000001E-2,905809.87,2973.4597303249589,6718.0898691666671,724.64789600000006,11391.090302987346,0,{"$f":"'Tabla Crec'!E59+'Tabla Crec'!H59","v":0},11391.090302987346,null,11256.622329539661]
[null,52,"2026-08-04",31,8.900000000000001E-2,1.0084638888888888,1.5390407729359177,0.6497553655400381,false,1.0952229478409996,0.71162698682226677,10416.197481021643,902836.40850862255,2774.6904345611624,6919.237919653583,299,47.84,346.56416666666667,55.450266666666664,722.26912680689804,84.482758620689665,13.517241379310347,110.37790876067878,17.660465401708606,11391.090288517364,8.900000000000001E-2,902836.41,2774.6904345611624,6919.2379310833339,722.26912800000002,11391.090301140217,0,{"$f":"'Tabla Crec'!E60+'Tabla Crec'!H60","v":0},11391.090301140217,null,11256.622327692532]
[null,53,"2026-09-04",31,8.900000000000001E-2,1.0084638888888888,1.5520670430335168,0.64430206445560423,false,1.0952229478409996,0.70565440633310861,10416.197481021643,900061.71807406144,2798.1751061003501,6897.9730004620442,299,47.84,346.56416666666667,55.450266666666664,720.04937445924918,84.482758620689665,13.517241379310347,110.37790876067878,17.660465401708606,11391.090288517364,8.900000000000001E-2,900061.72,2798.1751061003501,6897.9730152222228,720.04937600000005,11391.090304818294,0,{"$f":"'Tabla Crec'!E61+'Tabla Crec'!H61","v":0},11391.090304818294,null,11256.622331370609]
[null,54,"2026-10-04",30,8.900000000000001E-2,1.0082166666666665,1.564819860570442,0.6390511938131066,false,1.0952229478409996,0.69990353230930058,10416.197481021643,897263.54296796105,3043.6820363015631,6654.7046103457114,299,47.84,346.56416666666667,55.450266666666664,717.81083437436882,84.482758620689665,13.517241379310347,110.37790876067879,17.660465401708606,11391.090288517365,8.900000000000001E-2,897263.54,3043.6820363015631,6654.7045883333349,717.81083200000012,11391.090264130618,0,{"$f":"'Tabla Crec'!E62+'Tabla Crec'!H62","v":0},11391.090264130618,null,11256.622290682933]
[null,55,"2026-11-04",31,8.900000000000001E-2,1.0084638888888888,1.5780643220014368,0.63368773126542399,false,1.0952229478409996,0.69402934504719282,10416.197481021643,894219.86093165947,2847.6199358584026,6853.201656417913,299,47.84,346.56416666666667,55.450266666666664,715.37588874532764,84.482758620689665,13.517241379310347,110.37790876067878,17.660465401708606,11391.090288517364,8.900000000000001E-2,894219.86,2847.6199358584026,6853.2016492777784,715.37588800000003,11391.090280631903,0,{"$f":"'Tabla Crec'!E63+'Tabla Crec'!H63","v":0},11391.090280631903,null,11256.622307184218]
[null,56,"2026-12-04",30,8.900000000000001E-2,1.0082166666666665,1.5910307505138817,0.62852336428885069,false,1.0952229478409996,0.68837321182337752,10416.197481021643,891372.24099580105,3092.0889008394774,6611.010787385525,299,47.84,346.56416666666667,55.450266666666664,713.09779279664087,84.482758620689665,13.517241379310347,110.37790876067878,17.660465401708606,11391.090288517364,8.900000000000001E-2,891372.24,3092.0889008394774,6611.0107800000014,713.09779200000003,11391.0902803352,0,{"$f":"'Tabla Crec'!E64+'Tabla Crec'!H64","v":0},11391.0902803352,null,11256.622306887515]
[null,57,"2027-01-04",31,8.900000000000001E-2,1.0084638888888888,1.6044970580050366,0.62324826026378477,false,1.0952229478409996,0.68259579684287686,10416.197481021643,888280.15209496161,2897.892971484564,6807.6803878611099,299,47.84,346.56416666666667,55.450266666666664,710.62412167596938,84.482758620689665,13.517241379310347,110.37790876067878,17.660465401708606,11391.090288517364,8.900000000000001E-2,888280.15,2897.892971484564,6807.6803718055571,710.62412000000006,11391.090270785842,0,{"$f":"'Tabla Crec'!E65+'Tabla Crec'!H65","v":0},11391.090270785842,null,11256.622297338157]
[null,58,"2027-02-04",31,8.900000000000001E-2,1.0084638888888888,1.6180773428265403,0.61801742940986293,false,1.0952229478409996,0.67686687085538699,10416.197481021643,885382.25912347704,2922.4204156071028,6785.4712581157592,299,47.84,346.56416666666667,55.450266666666664,708.3058072987817,84.482758620689665,13.517241379310347,110.37790876067878,17.660465401708606,11391.090288517364,8.900000000000001E-2,885382.26,2922.4204156071028,6785.4712648333334,708.30580800000007,11391.090295936157,0,{"$f":"'Tabla Crec'!E66+'Tabla Crec'!H66","v":0},11391.090295936157,null,11256.622322488472]
[null,59,"2027-03-04",28,8.900000000000001E-2,1.0077222222222222,1.6305724956405896,0.61328153312627676,false,1.0952229478409996,0.67168000856700849,10416.197481021643,882459.83870786999,3601.6465043330918,6108.5831057222558,299,47.84,346.56416666666667,55.450266666666664,705.967870966296,84.482758620689665,13.517241379310347,110.37790876067878,17.660465401708606,11391.090288517364,8.900000000000001E-2,882459.84,3601.6465043330918,6108.5831146666678,705.96787200000006,11391.090298495479,0,{"$f":"'Tabla Crec'!E67+'Tabla Crec'!H67","v":0},11391.090298495479,null,11256.622325047794]
[null,60,"2027-04-04",31,8.900000000000001E-2,1.0084638888888888,1.6443734800689698,0.60813435154528106,true,1.1204130756413424,0.68136167921800173,10655.770023085139,878858.19220353686,3217.2119351846468,6735.4715341376623,299,47.84,346.56416666666667,55.450266666666664,703.08655376282957,84.482758620689665,13.517241379310347,112.72571967290102,18.036115147664162,11633.386291239038,8.900000000000001E-2,878858.19,3217.2119351846468,6735.47151725,703.08655199999998,11633.386272588546,0,{"$f":"'Tabla Crec'!E68+'Tabla Crec'!H68","v":0},11633.386272588546,null,11498.542649394905]
[null,61,"2027-05-04",30,8.900000000000001E-2,1.0082166666666665,1.6578847488302029,0.6031782370310097,false,1.1204130756413424,0.67580878371183628,10655.770023085139,875640.9802683522,3460.9199685468443,6494.3372703236128,299,47.84,346.56416666666667,55.450266666666664,700.5127842146818,84.482758620689665,13.517241379310347,112.72571967290102,18.036115147664162,11633.386291239038,8.900000000000001E-2,875640.98,3460.9199685468443,6494.3372683333337,700.51278400000001,11633.386289034077,0,{"$f":"'Tabla Crec'!E69+'Tabla Crec'!H69","v":0},11633.386289034077,null,11498.542665840436]
[null,62,"2027-06-04",31,8.900000000000001E-2,1.0084638888888888,1.6719169011348851,0.59811585092608799,false,1.1204130756413424,0.67013682012593689,10655.770023085139,872180.06029980537,3273.7349016031749,6684.2910732421196,299,47.84,346.56416666666667,55.450266666666664,697.74404823984435,84.482758620689665,13.517241379310347,112.72571967290105,18.036115147664169,11633.38629123904,8.900000000000001E-2,872180.06,3273.7349016031749,6684.2910709444459,697.74404800000013,11633.38628870152,0,{"$f":"'Tabla Crec'!E70+'Tabla Crec'!H70","v":0},11633.38628870152,null,11498.542665507879]
[null,63,"2027-07-04",30,8.900000000000001E-2,1.0082166666666665,1.6856544850058766,0.5932413842190879,false,1.1204130756413424,0.66467540389063562,10655.770023085139,868906.32539820217,3516.2563827299109,6444.3885800366661,299,47.84,346.56416666666667,55.450266666666664,695.12506031856174,84.482758620689665,13.517241379310347,112.72571967290102,18.036115147664162,11633.386291239038,8.900000000000001E-2,868906.33,3516.2563827299109,6444.3886141666662,695.12506399999995,11633.386329050476,0,{"$f":"'Tabla Crec'!E71+'Tabla Crec'!H71","v":0},11633.386329050476,null,11498.542705856835]
[null,64,"2027-08-04",31,{"$f":"IF(B78=0,TASACREC,IF(B78=MESES_INC_TASACREC,E77+INCREMENTO_TASACREC,E77))","v":8.900000000000001E-2},{"$f":"1 + D78 * E78 / 360 + FACTOR_SEG_DEUDCREC","v":1.0084638888888888},1.6999216772720234,0.58826239665627778,{"$f":"MOD(B78, MESES_INCCREC)=0","v":false},1.1204130756413424,{"$f":"H78*J78","v":0.65909688112180753},{"$f":"CUOTA_INTCREC*J78","v":10655.770023085139},865390.06901547231,3331.204633390294,{"$f":"M78 * D78 * E78 /360","v":6632.2533344824669},{"$f":"COMISION_AMORTCREC","v":299},{"$f":"P78*IVACREC","v":47.84},{"$f":"SEGURO_DAÑOS_MENS","v":346.56416666666667},{"$f":"R78*IVACREC","v":55.450266666666664},{"$f":"M78 * FACTOR_SEG_DEUDCREC","v":692.31205521237791},{"$f":"SEGURO_INTERIORESCREC","v":84.482758620689665},{"$f":"U78*IVACREC","v":13.517241379310347},{"$f":"SUM(N78:V78) * FACTOR_SEG_DESEMPLEOCREC","v":112.72571967290102},{"$f":"W78*IVACREC","v":18.036115147664162},{"$f":"IF(B78>=PLAZOCREC, 0, SUM(N78:X78))","v":11633.386291239038},{"$f":"IF(B78>=MESES_PAG_PUNTCREC,TASACREC-DISMINUCION_TASACREC,TASACREC)","v":8.900000000000001E-2},865390.07,{"$f":"MIN(AA78,N78)","v":3331.204633390294},{"$f":"AA78 * D78 * Z78 /360","v":6632.2533420277787},{"$f":"AA78 * FACTOR_SEG_DEUDCREC","v":692.31205599999998},{"$f":"IF(AA78>0, AB78+AC78+AD78+P78+Q78+R78+S78+U78+V78+W78+X78, 0)","v":11633.386299571972},{"$f":"IF(ACCION_EXCEDENTE_PPCREC=\"MENOS PLAZO\", IF(AA78>N78, ROUND(Y78-AE78, 2), 0), 0)","v":0},{"$f":"'Tabla Crec'!E72+'Tabla Crec'!H72","v":0},11633.386299571972,null,{"$f":"IF(AA78> 0,AB78+AC78+AD78+P78+R78+U78+W78, 0)","v":11498.542676378331}]
[null,65,{"$f":"IF(B79=0,FECHA_1ER_PAGO,DATE(YEAR(C78),MONTH(C78)+1,4))","v":"2027-09-04"},31,8.900000000000001E-2,1.0084638888888888,{"$f":"IF(B79 = 0, 0,\n            IF(G78=0, F79, G78 * F79 ))","v":1.7143096254682673},{"$f":"IF(G79=0, 0, 1/G79)","v":0.5833251970027572},false,{"$f":"IF(B79=0, 1, IF(I79,J78*(1+INCREMENTO_CREC),J78))","v":1.1204130756413424},0.65356517807295111,10655.770023085139,{"$f":"IF(B79=0,TOTAL_FINANCIADOCREC, M78-N78)","v":862058.86438208201},{"$f":"IF(B79=0, 0, L79-O79-T79)","v":3359.3995792734599},6606.7233523060131,299,47.84,346.56416666666667,55.450266666666664,689.64709150566568,84.482758620689665,13.517241379310347,112.72571967290102,18.036115147664162,11633.386291239038,8.900000000000001E-2,{"$f":"IF(B79=0,TOTAL_FINANCIADOCREC, MAX(ROUND(AA78-N78-AF78-AG78,2), 0))","v":862058.87},3359.3995792734599,6606.7233953611112,689.64709600000003,11633.38633878847,0,{"$f":"'Tabla Crec'!E73+'Tabla Crec'!H73","v":0},{"$f":"AE79+AF79","v":11633.38633878847},null,11498.542715594829]
[null,66,"2027-10-04",30,8.900000000000001E-2,1.0082166666666665,1.7283955362241981,0.57857126973642303,false,1.1204130756413424,0.6482388158031025,10655.770023085139,858699.46480280859,3600.1227539553938,6368.6876972874979,299,47.84,346.56416666666667,55.450266666666664,686.95957184224687,84.482758620689665,13.517241379310347,112.72571967290101,18.036115147664162,11633.386291239036,8.900000000000001E-2,858699.47,3600.1227539553938,6368.687735833334,686.95957599999997,11633.386333942626,0,{"$f":"'Tabla Crec'!E74+'Tabla Crec'!H74","v":0},11633.386333942626,null,11498.542710748985]
[null,67,"2027-11-04",31,8.900000000000001E-2,1.0084638888888888,1.7430244839988511,0.57371540628379325,false,1.1204130756413424,0.64279824289724719,10655.770023085139,855099.34204885317,3418.3042030216502,6553.3863464244059,299,47.84,346.56416666666667,55.450266666666664,684.07947363908261,84.482758620689665,13.517241379310347,112.72571967290101,18.036115147664162,11633.386291239036,8.900000000000001E-2,855099.35,3418.3042030216502,6553.3864073611112,684.07947999999999,11633.38635853666,0,{"$f":"'Tabla Crec'!E75+'Tabla Crec'!H75","v":0},11633.38635853666,null,11498.542735343019]
[null,68,"2027-12-04",30,8.900000000000001E-2,1.0082166666666665,1.7573463351757082,0.56903979596031939,false,1.1204130756413424,0.63755962795422338,10655.770023085139,851681.03784583148,3657.7908287852229,6316.6343640232508,299,47.84,346.56416666666667,55.450266666666664,681.34483027666522,84.482758620689665,13.517241379310347,112.72571967290102,18.036115147664162,11633.386291239038,8.900000000000001E-2,851681.05,3657.7908287852229,6316.6344541666667,681.34484000000009,11633.386391105789,0,{"$f":"'Tabla Crec'!E76+'Tabla Crec'!H76","v":0},11633.386391105789,null,11498.542767912148]
[null,69,"2028-01-04",31,8.900000000000001E-2,1.0084638888888888,1.7722203192959314,0.56426392876325926,false,1.1204130756413424,0.63220868389911067,10655.770023085139,848023.2470170462,3478.1954851380833,6499.1559403334186,299,47.84,346.56416666666667,55.450266666666664,678.41859761363696,84.482758620689665,13.517241379310347,112.72571967290102,18.036115147664162,11633.386291239038,8.900000000000001E-2,848023.26,3478.1954851380833,6499.1560398333331,678.41860800000006,11633.386401125315,0,{"$f":"'Tabla Crec'!E77+'Tabla Crec'!H77","v":0},11633.386401125315,null,11498.542777931674]
[null,70,"2028-02-04",{"$f":"IF(B84=0,C84-C76+1, C84-C83)","v":31},8.900000000000001E-2,1.0084638888888888,1.7872201951650832,0.5595281447161754,false,1.1204130756413424,0.62690264952934416,10655.770023085139,844545.0515319081,3507.6345452581272,6472.4994366014853,299,47.84,346.56416666666667,55.450266666666664,675.63604122552647,84.482758620689665,13.517241379310347,112.72571967290105,18.036115147664169,11633.38629123904,8.900000000000001E-2,844545.06,3507.6345452581272,6472.4995015000022,675.63604800000007,11633.386362912028,0,{"$f":"'Tabla Crec'!E78+'Tabla Crec'!H78","v":0},11633.386362912028,null,11498.542739718387]
[null,71,"2028-03-04",29,8.900000000000001E-2,1.0079694444444443,1.8014633472204402,0.5551042720591266,false,1.1204130756413424,0.62194608475941449,10655.770023085139,841037.41698664997,3953.1690527109749,6029.771036784844,299,47.84,346.56416666666667,55.450266666666664,672.82993358932004,84.482758620689665,13.517241379310347,112.72571967290105,18.036115147664169,11633.38629123904,8.900000000000001E-2,841037.43,3953.1690527109749,6029.7711300833344,672.82994400000007,11633.386394948207,0,{"$f":"'Tabla Crec'!E79+'Tabla Crec'!H79","v":0},11633.386394948207,null,11498.542771754566]
[null,72,"2028-04-04",31,8.900000000000001E-2,1.0084638888888888,1.8167107328287198,0.55044536366169006,true,1.1461825763810931,0.63091088507878368,10900.852733616095,837084.24793393898,3815.8646684641171,6415.3206668048269,299,47.84,346.56416666666667,55.450266666666664,669.66739834715122,84.482758620689665,13.517241379310347,115.12753023610441,18.420404837776704,11881.25510202331,8.900000000000001E-2,837084.26,3815.8646684641171,6415.3207592777781,669.66740800000002,11881.255204149109,0,{"$f":"'Tabla Crec'!E80+'Tabla Crec'!H80","v":0},11881.255204149109,null,11746.027291265356]
[null,73,"2028-05-04",30,8.900000000000001E-2,1.0082166666666665,1.8316380393501288,0.54595939728070031,false,1.1461825763810931,0.62576914857466182,10900.852733616095,833268.38326547481,4054.1641844514429,6180.0738425522723,299,47.84,346.56416666666667,55.450266666666664,666.6147066123799,84.482758620689665,13.517241379310347,115.12753023610441,18.420404837776704,11881.25510202331,8.900000000000001E-2,833268.4,4054.1641844514429,6180.0739666666668,666.61472000000003,11881.255239525324,0,{"$f":"'Tabla Crec'!E81+'Tabla Crec'!H81","v":0},11881.255239525324,null,11746.027326641572]
[null,74,"2028-06-04",31,8.900000000000001E-2,1.0084638888888888,1.8471408201998505,0.54137724047038571,false,1.1461825763810931,0.62051716027643333,10900.852733616095,829214.21908102336,3882.4757182275439,6355.0056401237325,299,47.84,346.56416666666667,55.450266666666664,663.37137526481877,84.482758620689665,13.517241379310347,115.12753023610441,18.420404837776704,11881.25510202331,8.900000000000001E-2,829214.24,3882.4757182275439,6355.0058004444454,663.37139200000001,11881.255279079205,0,{"$f":"'Tabla Crec'!E82+'Tabla Crec'!H82","v":0},11881.255279079205,null,11746.027366195452]
[null,75,"2028-07-04",30,8.900000000000001E-2,1.0082166666666665,1.8623181606058257,0.53696517660263421,false,1.1461825763810931,0.61546012954533591,10900.852733616095,825331.74336279579,4119.3769089851221,6121.2104299407365,299,47.84,346.56416666666667,55.450266666666664,660.26539469023669,84.482758620689665,13.517241379310347,115.12753023610442,18.420404837776708,11881.255102023311,8.900000000000001E-2,825331.76,4119.3769089851221,6121.2105533333342,660.26540800000009,11881.255238725671,0,{"$f":"'Tabla Crec'!E83+'Tabla Crec'!H83","v":0},11881.255238725671,null,11746.027325841918]
[null,76,"2028-08-04",31,8.900000000000001E-2,1.0084638888888888,1.8780806145929532,0.53245850696176611,false,1.1461825763810931,0.61029466332546733,10900.852733616095,821212.36645381071,3950.2025097695355,6293.6803306835109,299,47.84,346.56416666666667,55.450266666666664,656.9698931630486,84.482758620689665,13.517241379310347,115.12753023610441,18.420404837776704,11881.25510202331,8.900000000000001E-2,821212.38,3950.2025097695355,6293.6804345,656.96990400000004,11881.255216676749,0,{"$f":"'Tabla Crec'!E84+'Tabla Crec'!H84","v":0},11881.255216676749,null,11746.027303792996]
[null,77,"2028-09-04",31,8.900000000000001E-2,1.0084638888888888,1.893976480239244,0.52798966113543377,false,1.1461825763810931,0.60517255010279181,10900.852733616095,817262.16394404112,3983.6365849008344,6263.4064175600279,299,47.84,346.56416666666667,55.450266666666664,653.80973115523295,84.482758620689665,13.517241379310347,115.12753023610441,18.420404837776704,11881.25510202331,8.900000000000001E-2,817262.18,3983.6365849008344,6263.4065406111122,653.80974400000002,11881.255237919162,0,{"$f":"'Tabla Crec'!E85+'Tabla Crec'!H85","v":0},11881.255237919162,null,11746.027325035409]
[null,78,"2028-10-04",30,8.900000000000001E-2,1.0082166666666665,1.9095386536518761,0.52368670206678514,false,1.1461825763810931,0.60024057339142567,10900.852733616095,813278.52735914034,4218.4141671484922,6031.8157445802908,299,47.84,346.56416666666667,55.450266666666664,650.62282188731228,84.482758620689665,13.517241379310347,115.12753023610442,18.420404837776708,11881.255102023311,8.900000000000001E-2,813278.54,4218.4141671484922,6031.8158383333348,650.62283200000002,11881.255205889041,0,{"$f":"'Tabla Crec'!E86+'Tabla Crec'!H86","v":0},11881.255205889041,null,11746.027293005289]
[null,79,"2028-11-04",31,8.900000000000001E-2,1.0084638888888888,1.9257007766454239,0.51929147670699016,false,1.1461825763810931,0.59520284266476042,10900.852733616095,809060.11319199181,4053.0578311272079,6200.5468119352936,299,47.84,346.56416666666667,55.450266666666664,647.24809055359344,84.482758620689665,13.517241379310347,115.12753023610441,18.420404837776704,11881.25510202331,8.900000000000001E-2,809060.13,4053.0578311272079,6200.5469407500013,647.24810400000001,11881.255244284424,0,{"$f":"'Tabla Crec'!E87+'Tabla Crec'!H87","v":0},11881.255244284424,null,11746.027331400672]
[null,80,"2028-12-04",30,8.900000000000001E-2,1.0082166666666665,1.9415236180268602,0.5150594052604337,false,1.1461825763810931,0.59035211611071747,10900.852733616095,805007.05536086462,4286.3780954009908,5970.4689939264126,299,47.84,346.56416666666667,55.450266666666664,644.00564428869177,84.482758620689665,13.517241379310347,115.12753023610441,18.420404837776704,11881.25510202331,8.900000000000001E-2,805007.07,4286.3780954009908,5970.4691025000002,644.00565600000004,11881.255222308206,0,{"$f":"'Tabla Crec'!E88+'Tabla Crec'!H88","v":0},11881.255222308206,null,11746.027309424453]
[null,81,"2029-01-04",31,8.900000000000001E-2,1.0084638888888888,1.9579564582049931,0.51073658753207196,false,1.1461825763810931,0.58539737774959788,10900.852733616095,800720.67726546363,4123.641890205351,6136.634301598373,299,47.84,346.56416666666667,55.450266666666664,640.57654181237092,84.482758620689665,13.517241379310347,115.12753023610441,18.420404837776704,11881.25510202331,8.900000000000001E-2,800720.69,4123.641890205351,6136.6343991944441,640.57655199999999,11881.25520980701,0,{"$f":"'Tabla Crec'!E89+'Tabla Crec'!H89","v":0},11881.25520980701,null,11746.027296923257]
[null,82,"2029-02-04",31,8.900000000000001E-2,1.0084638888888888,1.9745283841165224,0.50645005057622272,false,1.1461825763810931,0.58048422377778985,10900.852733616095,796597.0353752583,4158.5439369816168,6105.0311683342716,299,47.84,346.56416666666667,55.450266666666664,637.27762830020663,84.482758620689665,13.517241379310347,115.12753023610441,18.420404837776704,11881.25510202331,8.900000000000001E-2,796597.05,4158.5439369816168,6105.0312804166679,637.27764000000002,11881.255225805498,0,{"$f":"'Tabla Crec'!E90+'Tabla Crec'!H90","v":0},11881.255225805498,null,11746.027312921746]
[null,83,"2029-03-04",28,8.900000000000001E-2,1.0077222222222222,1.9897761310827555,0.5025691003016709,false,1.1461825763810931,0.57603594619329712,10900.852733616095,792438.49143827672,4781.4666052871798,5485.4353351782938,299,47.84,346.56416666666667,55.450266666666664,633.95079315062139,84.482758620689665,13.517241379310347,115.12753023610441,18.420404837776704,11881.25510202331,8.900000000000001E-2,792438.51,4781.4666052871798,5485.4354636666676,633.95080800000005,11881.255245361062,0,{"$f":"'Tabla Crec'!E91+'Tabla Crec'!H91","v":0},11881.255245361062,null,11746.02733247731]
[null,84,"2029-04-04",31,8.900000000000001E-2,1.0084638888888888,2.0066173751700029,0.49835111186320652,true,1.1725447756378582,0.58433899264852063,11151.572346489265,787657.02483298955,4484.9308057500457,6036.5159208728282,299,47.84,346.56416666666667,55.450266666666664,630.12561986639173,84.482758620689665,13.517241379310347,117.58458244226149,18.813533190761838,12134.824895455624,8.900000000000001E-2,787657.04,4484.9308057500457,6036.5160371111124,630.12563200000011,12134.825023827514,0,{"$f":"'Tabla Crec'!E92+'Tabla Crec'!H92","v":0},12134.825023827514,null,11999.203982590776]
[null,85,"2029-05-04",30,8.900000000000001E-2,1.0082166666666665,2.0231050812693163,0.4942896981765228,false,1.1725447756378582,0.57957680324849559,11151.572346489265,783172.09402723948,4716.508307232114,5808.5263640353596,299,47.84,346.56416666666667,55.450266666666664,626.53767522179157,84.482758620689665,13.517241379310347,117.58458244226145,18.813533190761831,12134.82489545562,8.900000000000001E-2,783172.11,4716.508307232114,5808.5264825000004,626.537688,12134.825026698472,0,{"$f":"'Tabla Crec'!E93+'Tabla Crec'!H93","v":0},12134.825026698472,null,11999.203985461734]
[null,86,"2029-06-04",31,8.900000000000001E-2,1.0084638888888888,2.0402284178877261,0.49014119754067165,false,1.1725447756378582,0.57471250050119793,11151.572346489265,778455.58572000731,4562.8107640202024,5965.9971138930568,299,47.84,346.56416666666667,55.450266666666664,622.76446857600592,84.482758620689665,13.517241379310347,117.58458244226146,18.813533190761834,12134.824895455622,8.900000000000001E-2,778455.6,4562.8107640202024,5965.9972233333337,622.76448000000005,12134.825016319892,0,{"$f":"'Tabla Crec'!E94+'Tabla Crec'!H94","v":0},12134.825016319892,null,11999.203975083154]
[null,87,"2029-07-04",30,8.900000000000001E-2,1.0082166666666665,2.0569922947213701,0.48614669221960066,false,1.1725447756378582,0.57002876415571857,11151.572346489265,773892.77495598712,4792.7533789342378,5739.7047475902382,299,47.84,346.56416666666667,55.450266666666664,619.11421996478975,84.482758620689665,13.517241379310347,117.58458244226146,18.813533190761834,12134.824895455622,8.900000000000001E-2,773892.79,4792.7533789342378,5739.704859166668,619.11423200000002,12134.825019067262,0,{"$f":"'Tabla Crec'!E95+'Tabla Crec'!H95","v":0},12134.825019067262,null,11999.203977830524]
[null,88,"2029-08-04",31,8.900000000000001E-2,1.0084638888888888,2.0744024489491921,0.48206653463341181,false,1.1725447756378582,0.56524459669425364,11151.572346489265,769100.02157705289,4641.995219419041,5894.2971098085818,299,47.84,346.56416666666667,55.450266666666664,615.28001726164234,84.482758620689665,13.517241379310347,117.58458244226146,18.813533190761834,12134.824895455622,8.900000000000001E-2,769100.04,4641.995219419041,5894.2972510000009,615.28003200000001,12134.825051385398,0,{"$f":"'Tabla Crec'!E96+'Tabla Crec'!H96","v":0},12134.825051385398,null,11999.20401014866]
[null,89,"2029-09-04",31,8.900000000000001E-2,1.0084638888888888,2.0919599607879369,0.47802062120890204,false,1.1725447756378582,0.56050058204566167,11151.572346489265,764458.02635763388,4681.2845511789583,5858.7213742242002,299,47.84,346.56416666666667,55.450266666666664,611.56642108610708,84.482758620689665,13.517241379310347,117.58458244226146,18.813533190761834,12134.824895455622,8.900000000000001E-2,764458.04,4681.2845511789583,5858.7214787777784,611.56643200000008,12134.825010923094,0,{"$f":"'Tabla Crec'!E97+'Tabla Crec'!H97","v":0},12134.825010923094,null,11999.203969686356]
[null,90,"2029-10-04",30,8.900000000000001E-2,1.0082166666666665,2.1091488984657443,0.47412489498841398,false,1.1725447756378582,0.55593266861851298,11151.572346489265,759776.74180645496,4908.7401179795597,5635.0108350645414,299,47.84,346.56416666666667,55.450266666666664,607.82139344516395,84.482758620689665,13.517241379310347,117.58458244226146,18.813533190761834,12134.824895455622,8.900000000000001E-2,759776.76,4908.7401179795597,5635.0109700000012,607.82140800000002,12134.825044945917,0,{"$f":"'Tabla Crec'!E98+'Tabla Crec'!H98","v":0},12134.825044945917,null,11999.204003709179]
[null,91,"2029-11-04",31,8.900000000000001E-2,1.0084638888888888,2.1270005003924806,0.47014563457576852,false,1.1725447756378582,0.55126680761076297,11151.572346489265,754868.00168847537,4762.4534544204198,5785.2244907180657,299,47.84,346.56416666666667,55.450266666666664,603.8944013507803,84.482758620689665,13.517241379310347,117.58458244226149,18.813533190761838,12134.824895455624,8.900000000000001E-2,754868.02,4762.4534544204198,5785.2246310555565,603.89441600000009,12134.825050442334,0,{"$f":"'Tabla Crec'!E99+'Tabla Crec'!H99","v":0},12134.825050442334,null,11999.204009205596]
[null,92,"2029-12-04",30,8.900000000000001E-2,1.0082166666666665,2.1444773545040383,0.4663140871596072,false,1.1725447756378582,0.54677414670533431,11151.572346489265,750105.54823405494,4988.2050918327795,5563.2828160692416,299,47.84,346.56416666666667,55.450266666666664,600.08443858724399,84.482758620689665,13.517241379310347,117.58458244226146,18.813533190761834,12134.824895455622,8.900000000000001E-2,750105.57,4988.2050918327795,5563.2829775,600.08445599999993,12134.825074299137,0,{"$f":"'Tabla Crec'!E100+'Tabla Crec'!H100","v":0},12134.825074299137,null,11999.204033062399]
[null,93,"2030-01-04",31,8.900000000000001E-2,1.0084638888888888,2.1626279725572988,0.46240038170666226,false,1.1725447756378582,0.54218515182309823,11151.572346489265,745117.34314222215,4844.9819449494007,5710.4965270260864,299,47.84,346.56416666666667,55.450266666666664,596.09387451377779,84.482758620689665,13.517241379310347,117.58458244226145,18.813533190761831,12134.82489545562,8.900000000000001E-2,745117.36,4844.9819449494007,5710.4966562222235,596.09388799999999,12134.82503813798,0,{"$f":"'Tabla Crec'!E101+'Tabla Crec'!H101","v":0},12134.82503813798,null,11999.203996901242]
[null,94,"2030-02-04",31,8.900000000000001E-2,1.0084638888888888,2.1809322154250266,0.45851952340715779,false,1.1725447756378582,0.53763467169902346,11151.572346489265,740272.36119727278,4885.9893338001257,5673.3651237313215,299,47.84,346.56416666666667,55.450266666666664,592.21788895781822,84.482758620689665,13.517241379310347,117.58458244226149,18.813533190761838,12134.824895455624,8.900000000000001E-2,740272.38,4885.9893338001257,5673.3652678333337,592.21790399999998,12134.825054599814,0,{"$f":"'Tabla Crec'!E102+'Tabla Crec'!H102","v":0},12134.825054599814,null,11999.204013363076]
[null,95,"2030-03-04",28,8.900000000000001E-2,1.0077222222222222,2.1977738586441418,0.45500586698984735,false,1.1725447756378582,0.53351475222351974,11151.572346489265,735386.37186347262,5472.755363765782,5090.5078852327051,299,47.84,346.56416666666667,55.450266666666664,588.30909749077807,84.482758620689665,13.517241379310347,117.58458244226145,18.813533190761831,12134.82489545562,8.900000000000001E-2,735386.39,5472.755363765782,5090.5080107777785,588.30911200000003,12134.825035509917,0,{"$f":"'Tabla Crec'!E103+'Tabla Crec'!H103","v":0},12134.825035509917,null,11999.203994273179]
[null,96,"2030-04-04",31,8.900000000000001E-2,1.0084638888888888,2.2163755723866103,0.45118706976326772,true,1.1995133054775289,0.54120489344045764,11408.058510458517,729913.61649970687,5230.150761917942,5593.9768553408094,299,47.84,346.56416666666667,55.450266666666664,583.93089319976548,84.482758620689665,13.517241379310347,120.09814684916013,19.215703495865622,12394.226794136877,8.900000000000001E-2,729913.63,5230.150761917942,5593.9769588055569,583.93090400000006,12394.226908401861,0,{"$f":"'Tabla Crec'!E104+'Tabla Crec'!H104","v":0},12394.226908401861,null,12258.203696860019]
[null,97,"2030-05-04",30,8.900000000000001E-2,1.0082166666666665,2.2345867916730535,0.44751002902478082,false,1.1995133054775289,0.53679423414985972,11408.058510458517,724683.46573778894,5453.5760336463509,5374.7357042219346,299,47.84,346.56416666666667,55.450266666666664,579.74677259023122,84.482758620689665,13.517241379310347,120.09814684916013,19.215703495865622,12394.226794136877,8.900000000000001E-2,724683.48,5453.5760336463509,5374.7358100000001,579.74678400000005,12394.226911324713,0,{"$f":"'Tabla Crec'!E105+'Tabla Crec'!H105","v":0},12394.226911324713,null,12258.203699782871]
[null,98,"2030-06-04",31,8.900000000000001E-2,1.0084638888888888,2.2535000859903529,0.44375414326222529,false,1.1995133054775289,0.53228899920382078,11408.058510458517,719229.88970414258,5320.5766384348426,5512.0979602603602,299,47.84,346.56416666666667,55.450266666666664,575.38391176331413,84.482758620689665,13.517241379310347,120.09814684916013,19.215703495865622,12394.226794136877,8.900000000000001E-2,719229.9,5320.5766384348426,5512.0980391666681,575.3839200000001,12394.22688127987,0,{"$f":"'Tabla Crec'!E106+'Tabla Crec'!H106","v":0},12394.22688127987,null,12258.203669738028]
[null,99,"2030-07-04",30,8.900000000000001E-2,1.0082166666666665,2.2720163450302402,0.44013767866916037,false,1.1995133054775289,0.52795100180565102,11408.058510458517,713909.31306570768,5542.1036547686181,5294.8274052373326,299,47.84,346.56416666666667,55.450266666666664,571.12745045256622,84.482758620689665,13.517241379310347,120.09814684916013,19.215703495865622,12394.226794136877,8.900000000000001E-2,713909.32,5542.1036547686181,5294.8274566666669,571.12745599999994,12394.226851113646,0,{"$f":"'Tabla Crec'!E107+'Tabla Crec'!H107","v":0},12394.226851113646,null,12258.203639571804]
[null,100,"2030-08-04",31,8.900000000000001E-2,1.0084638888888888,2.2912464389283156,0.43644366795731054,false,1.1995133054775289,0.52351998680621059,11408.058510458517,708367.20941093902,5412.5171574720407,5428.8475854577255,299,47.84,346.56416666666667,55.450266666666664,566.69376752875121,84.482758620689665,13.517241379310347,120.09814684916016,19.215703495865625,12394.226794136879,8.900000000000001E-2,708367.22,5412.5171574720407,5428.8476666111119,566.69377599999996,12394.226883761514,0,{"$f":"'Tabla Crec'!E108+'Tabla Crec'!H108","v":0},12394.226883761514,null,12258.203672219672]
[null,101,"2030-09-04",31,8.900000000000001E-2,1.0084638888888888,2.3106392942044671,0.43278066053329678,false,1.1995133054775289,0.51912616066304318,11408.058510458517,702954.69225346693,5458.3281013020896,5387.3666553536541,299,47.84,346.56416666666667,55.450266666666664,562.36375380277354,84.482758620689665,13.517241379310347,120.09814684916013,19.215703495865622,12394.226794136877,8.900000000000001E-2,702954.7,5458.3281013020896,5387.3667147222232,562.36375999999996,12394.226859702672,0,{"$f":"'Tabla Crec'!E109+'Tabla Crec'!H109","v":0},12394.226859702672,null,12258.20364816083]
[null,102,"2030-10-04",30,8.900000000000001E-2,1.0082166666666665,2.3296250470718469,0.42925362656832711,false,1.1995133054775289,0.51489543649319081,11408.058510458517,697496.3641521649,5676.9633850082282,5173.0980341285567,299,47.84,346.56416666666667,55.450266666666664,557.997091321732,84.482758620689665,13.517241379310347,120.09814684916013,19.215703495865622,12394.226794136877,8.900000000000001E-2,697496.37,5676.9633850082282,5173.0980775000007,557.99709600000006,12394.22684218659,0,{"$f":"'Tabla Crec'!E110+'Tabla Crec'!H110","v":0},12394.22684218659,null,12258.203630644748]
[null,103,"2030-11-04",31,8.900000000000001E-2,1.0084638888888888,2.3493427346230353,0.42565096410271336,false,1.1995133054775289,0.51057399493054267,11408.058510458517,691819.40076715662,5552.5759711876099,5302.0270186571815,299,47.84,346.56416666666667,55.450266666666664,553.4555206137253,84.482758620689665,13.517241379310347,120.09814684916013,19.215703495865622,12394.226794136877,8.900000000000001E-2,691819.41,5552.5759711876099,5302.0270894166679,553.45552800000007,12394.226872282637,0,{"$f":"'Tabla Crec'!E111+'Tabla Crec'!H111","v":0},12394.226872282637,null,12258.203660740795]
[null,104,"2030-12-04",30,8.900000000000001E-2,1.0082166666666665,2.3686465007591875,0.42218203504806845,false,1.1995133054775289,0.5064129683737385,11408.058510458517,686266.82479596906,5769.2327667183044,5089.8122839034377,299,47.84,346.56416666666667,55.450266666666664,549.01345983677527,84.482758620689665,13.517241379310347,120.09814684916013,19.215703495865622,12394.226794136877,8.900000000000001E-2,686266.83,5769.2327667183044,5089.8123224999999,549.013464,12394.226836896663,0,{"$f":"'Tabla Crec'!E112+'Tabla Crec'!H112","v":0},12394.226836896663,null,12258.203625354821]
[null,105,"2031-01-04",31,8.900000000000001E-2,1.0084638888888888,2.3886944615586687,0.41863872340855218,false,1.1995133054775289,0.5021627189166854,11408.058510458517,680497.59202925081,5648.4025023664963,5215.2579344686201,299,47.84,346.56416666666667,55.450266666666664,544.39807362340071,84.482758620689665,13.517241379310347,120.09814684916013,19.215703495865622,12394.226794136877,8.900000000000001E-2,680497.6,5648.4025023664963,5215.2579955555557,544.39808000000005,12394.226861600413,0,{"$f":"'Tabla Crec'!E113+'Tabla Crec'!H113","v":0},12394.226861600413,null,12258.203650058571]
[null,106,"2031-02-04",31,8.900000000000001E-2,1.0084638888888888,2.4089121060708054,0.41512515026175345,false,1.1995133054775289,0.49794814117733177,11408.058510458517,674849.18952688435,5696.2099535462485,5171.9692052907612,299,47.84,346.56416666666667,55.450266666666664,539.87935162150745,84.482758620689665,13.517241379310347,120.09814684916016,19.215703495865625,12394.226794136879,8.900000000000001E-2,674849.2,5696.2099535462485,5171.9692855555559,539.87936000000002,12394.226882780165,0,{"$f":"'Tabla Crec'!E114+'Tabla Crec'!H114","v":0},12394.226882780165,null,12258.203671238323]
[null,107,"2031-03-04",28,8.900000000000001E-2,1.0077222222222222,2.4275142606676856,0.41194402694258564,false,1.1995133054775289,0.49413234142962509,11408.058510458517,669152.97957333806,6240.7105015310735,4632.0256252687732,299,47.84,346.56416666666667,55.450266666666664,535.32238365867045,84.482758620689665,13.517241379310347,120.09814684916013,19.215703495865622,12394.226794136877,8.900000000000001E-2,669152.99,6240.7105015310735,4632.0256974444446,535.32239200000004,12394.226874653879,0,{"$f":"'Tabla Crec'!E115+'Tabla Crec'!H115","v":0},12394.226874653879,null,12258.203663112037]
[null,108,"2031-04-04",31,8.900000000000001E-2,1.0084638888888888,2.44806047164617,0.40848664139720436,true,1.2271021115035119,0.5012548201794873,11670.443856199063,662912.26907180704,6059.6280676940733,5080.4859732475443,299,47.84,346.56416666666667,55.450266666666664,530.3298152574456,84.482758620689665,13.517241379310347,122.66952323741751,19.627123717986802,12659.594936487802,8.900000000000001E-2,662912.28,6059.6280676940733,5080.486057000001,530.32982400000003,12659.595028982812,0,{"$f":"'Tabla Crec'!E116+'Tabla Crec'!H116","v":0},12659.595028982812,null,12523.16039721885]
[null,109,"2031-05-04",30,8.900000000000001E-2,1.0082166666666665,2.4681753685215289,0.40515759647946481,false,1.2271021115035119,0.49716974213163911,11670.443856199063,656852.64100411301,6273.3046559486011,4871.6570874471718,299,47.84,346.56416666666667,55.450266666666664,525.48211280329042,84.482758620689665,13.517241379310347,122.66952323741748,19.627123717986798,12659.5949364878,8.900000000000001E-2,656852.65,6273.3046559486011,4871.6571541666672,525.48212000000001,12659.595010404006,0,{"$f":"'Tabla Crec'!E117+'Tabla Crec'!H117","v":0},12659.595010404006,null,12523.160378640043]
[null,110,"2031-06-04",31,8.900000000000001E-2,1.0084638888888888,2.4890657305989872,0.40175716844542814,false,1.2271021115035119,0.49299706971105695,11670.443856199063,650579.33634816436,6164.0126399411265,4985.9677471794048,299,47.84,346.56416666666667,55.450266666666664,520.46346907853149,84.482758620689665,13.517241379310347,122.66952323741748,19.627123717986798,12659.5949364878,8.900000000000001E-2,650579.35,6164.0126399411265,4985.9678518055553,520.46348,12659.59505203542,0,{"$f":"'Tabla Crec'!E118+'Tabla Crec'!H118","v":0},12659.59505203542,null,12523.160420271457]
[null,111,"2031-07-04",30,8.900000000000001E-2,1.0082166666666665,2.5095175540187418,0.39848296673541889,false,1.2271021115035119,0.48897928987921618,11670.443856199063,644415.32370822318,6375.4979463964955,4779.4136508359888,299,47.84,346.56416666666667,55.450266666666664,515.53225896657852,84.482758620689665,13.517241379310347,122.66952323741748,19.627123717986798,12659.5949364878,8.900000000000001E-2,644415.34,6375.4979463964955,4779.4137716666673,515.53227200000003,12659.595070351899,0,{"$f":"'Tabla Crec'!E119+'Tabla Crec'!H119","v":0},12659.595070351899,null,12523.160438587936]
[null,112,"2031-08-04",31,8.900000000000001E-2,1.0084638888888888,2.5307578317606723,0.39513855788575808,false,1.2271021115035119,0.48487535871806642,11670.443856199063,638039.82576182671,6270.1456642649346,4889.866331324667,299,47.84,346.56416666666667,55.450266666666664,510.43186060946141,84.482758620689665,13.517241379310347,122.66952323741748,19.627123717986798,12659.5949364878,8.900000000000001E-2,638039.84,6270.1456642649346,4889.8664404444444,510.431872,12659.595056998114,0,{"$f":"'Tabla Crec'!E120+'Tabla Crec'!H120","v":0},12659.595056998114,null,12523.160425234151]
[null,113,"2031-09-04",31,8.900000000000001E-2,1.0084638888888888,2.5521778848533798,0.3918222181669947,false,1.2271021115035119,0.48080587124670887,11670.443856199063,631769.6800975618,6323.2154804844213,4841.8126316365924,299,47.84,346.56416666666667,55.450266666666664,505.41574407804944,84.482758620689665,13.517241379310347,122.66952323741748,19.627123717986798,12659.5949364878,8.900000000000001E-2,631769.68999999994,6323.2154804844213,4841.8127075277771,505.415752,12659.595020300936,0,{"$f":"'Tabla Crec'!E121+'Tabla Crec'!H121","v":0},12659.595020300936,null,12523.160388536973]
[null,114,"2031-10-04",30,8.900000000000001E-2,1.0082166666666665,2.573148279807258,0.38862898335377127,false,1.2271021115035119,0.47688744606487593,11670.443856199063,625446.46461707738,6531.3587385954097,4638.7279459099909,299,47.84,346.56416666666667,55.450266666666664,500.35717169366194,84.482758620689665,13.517241379310347,122.66952323741748,19.627123717986798,12659.5949364878,8.900000000000001E-2,625446.47,6531.3587385954097,4638.7279858333332,500.35717599999998,12659.59498071748,0,{"$f":"'Tabla Crec'!E122+'Tabla Crec'!H122","v":0},12659.59498071748,null,12523.160348953517]
[null,115,"2031-11-04",31,8.900000000000001E-2,1.0084638888888888,2.5949271209421823,0.38536727753529887,false,1.2271021115035119,0.4728849999679251,11670.443856199063,618915.10587848199,6432.0151683886888,4743.2966031075885,299,47.84,346.56416666666667,55.450266666666664,495.13208470278562,84.482758620689665,13.517241379310347,122.66952323741748,19.627123717986798,12659.5949364878,8.900000000000001E-2,618915.11,6432.0151683886888,4743.2966346944449,495.13208800000001,12659.594971371871,0,{"$f":"'Tabla Crec'!E123+'Tabla Crec'!H123","v":0},12659.594971371871,null,12523.160339607908]
[null,116,"2031-12-04",30,8.900000000000001E-2,1.0082166666666665,2.6162487721192567,0.3822266485728586,false,1.2271021115035119,0.46903112753666559,11670.443856199063,612483.09071009327,6637.8744608644629,4542.5829227665254,299,47.84,346.56416666666667,55.450266666666664,489.98647256807465,84.482758620689665,13.517241379310347,122.66952323741748,19.627123717986798,12659.5949364878,8.900000000000001E-2,612483.09,6637.8744608644629,4542.5829174999999,489.98647199999999,12659.5949306532,0,{"$f":"'Tabla Crec'!E124+'Tabla Crec'!H124","v":0},12659.5949306532,null,12523.160298889237]
[null,117,"2032-01-04",31,8.900000000000001E-2,1.0084638888888888,2.6383924110321657,0.37901867660724126,false,1.2271021115035119,0.4650946183640125,11670.443856199063,605845.2162492288,6542.6372620007278,4643.1304211989518,299,47.84,346.56416666666667,55.450266666666664,484.67617299938308,84.482758620689665,13.517241379310347,122.66952323741748,19.627123717986798,12659.5949364878,8.900000000000001E-2,605845.22,6542.6372620007278,4643.130449944445,484.676176,12659.594968233911,0,{"$f":"'Tabla Crec'!E125+'Tabla Crec'!H125","v":0},12659.594968233911,null,12523.160336469948]
[null,118,"2032-02-04",31,8.900000000000001E-2,1.0084638888888888,2.6607234712444296,0.37583762867784848,false,1.2271021115035119,0.46119114773306075,11670.443856199063,599302.5789872281,6598.0134168266068,4592.9883761826732,299,47.84,346.56416666666667,55.450266666666664,479.44206318978252,84.482758620689665,13.517241379310347,122.66952323741748,19.627123717986798,12659.5949364878,8.900000000000001E-2,599302.57999999996,6598.0134168266068,4592.9883839444456,479.44206400000002,12659.594945059791,0,{"$f":"'Tabla Crec'!E126+'Tabla Crec'!H126","v":0},12659.594945059791,null,12523.160313295828]
[null,119,"2032-03-04",29,8.900000000000001E-2,1.0079694444444443,2.6819279591305412,0.37286609306395824,false,1.2271021115035119,0.45754477010684813,11670.443856199063,592704.56557040149,6946.9177489171689,4249.362454825573,299,47.84,346.56416666666667,55.450266666666664,474.16365245632124,84.482758620689665,13.517241379310347,122.66952323741751,19.627123717986802,12659.594936487802,8.900000000000001E-2,592704.56999999995,6946.9177489171689,4249.3624865833335,474.163656,12659.59497178924,0,{"$f":"'Tabla Crec'!E127+'Tabla Crec'!H127","v":0},12659.59497178924,null,12523.160340025277]
[null,120,"2032-04-04",31,8.900000000000001E-2,1.0084638888888888,2.7046274993846264,0.3697366828620674,true,1.2553254600680925,0.46413987151787517,11938.864064891639,585757.64782148437,6981.0764179136868,4489.1815287207646,299,47.84,346.56416666666667,55.450266666666664,468.60611825718752,84.482758620689665,13.517241379310347,125.30004128260471,20.048006605216752,12931.066546112792,8.900000000000001E-2,585757.65,6981.0764179136868,4489.1815454166681,468.60612000000003,12931.066564551509,0,{"$f":"'Tabla Crec'!E128+'Tabla Crec'!H128","v":0},12931.066564551509,null,12794.211049900316]
[null,121,"2032-05-04",30,8.900000000000001E-2,1.0082166666666665,2.7268505220045696,0.36672343860817036,false,1.2553254600680925,0.46035726928855436,11938.864064891639,578776.57140357071,7183.2499031922989,4292.5929045764833,299,47.84,346.56416666666667,55.450266666666664,463.02125712285658,84.482758620689665,13.517241379310347,125.30004128260472,20.048006605216756,12931.066546112794,8.900000000000001E-2,578776.56999999995,7183.2499031922989,4292.5928941666662,463.02125599999999,12931.066534580119,0,{"$f":"'Tabla Crec'!E129+'Tabla Crec'!H129","v":0},12931.066534580119,null,12794.211019928925]
[null,122,"2032-06-04",31,8.900000000000001E-2,1.0084638888888888,2.7499302818394247,0.36364558280041243,false,1.2553254600680925,0.45649355853065737,11938.864064891639,571593.32150037843,7100.9617020814912,4380.6277056098452,299,47.84,346.56416666666667,55.450266666666664,457.27465720030278,84.482758620689665,13.517241379310347,125.30004128260472,20.048006605216756,12931.066546112794,8.900000000000001E-2,571593.31999999995,7100.9617020814912,4380.6276941111109,457.27465599999999,12931.066533413756,0,{"$f":"'Tabla Crec'!E130+'Tabla Crec'!H130","v":0},12931.066533413756,null,12794.211018762562]
[null,123,"2032-07-04",30,8.900000000000001E-2,1.0082166666666665,2.7725255423218718,0.36068197920461453,false,1.2553254600680925,0.45277327148330293,11938.864064891639,564492.35979829694,7300.6185085489651,4186.651668504036,299,47.84,346.56416666666667,55.450266666666664,451.59388783863756,84.482758620689665,13.517241379310347,125.30004128260471,20.048006605216752,12931.066546112792,8.900000000000001E-2,564492.36,7300.6185085489651,4186.6516700000002,451.59388799999999,12931.06654777012,0,{"$f":"'Tabla Crec'!E131+'Tabla Crec'!H131","v":0},12931.06654777012,null,12794.211033118927]
[null,124,"2032-08-04",31,8.900000000000001E-2,1.0084638888888888,2.7959918904536902,0.35765482847582064,false,1.2553254600680925,0.44897321210198426,11938.864064891639,557191.741289748,7222.8550768086889,4270.2555950511514,299,47.84,346.56416666666667,55.450266666666664,445.7533930317984,84.482758620689665,13.517241379310347,125.30004128260472,20.048006605216756,12931.066546112794,8.900000000000001E-2,557191.74,7222.8550768086889,4270.2555851666675,445.75339200000002,12931.066535196511,0,{"$f":"'Tabla Crec'!E132+'Tabla Crec'!H132","v":0},12931.066535196511,null,12794.211020545317]
[null,125,"2032-09-04",31,8.900000000000001E-2,1.0084638888888888,2.8196568551487244,0.35465308417724273,false,1.2553254600680925,0.44520504605936517,11938.864064891639,549968.88621293928,7283.9885196393434,4214.9004362819442,299,47.84,346.56416666666667,55.450266666666664,439.97510897035147,84.482758620689665,13.517241379310347,125.30004128260472,20.048006605216756,12931.066546112794,8.900000000000001E-2,549968.88,7283.9885196393434,4214.9003886666669,439.97510400000004,12931.066493527163,0,{"$f":"'Tabla Crec'!E133+'Tabla Crec'!H133","v":0},12931.066493527163,null,12794.21097887597]
[null,126,"2032-10-04",30,8.900000000000001E-2,1.0082166666666665,2.8428250356418627,0.35176276677689261,false,1.2553254600680925,0.44157675703902788,11938.864064891639,542684.89769329992,7479.8031555116904,4024.9129912253079,299,47.84,346.56416666666667,55.450266666666664,434.14791815463997,84.482758620689665,13.517241379310347,125.30004128260472,20.048006605216756,12931.066546112794,8.900000000000001E-2,542684.89,7479.8031555116904,4024.9129341666671,434.14791200000002,12931.066482899512,0,{"$f":"'Tabla Crec'!E134+'Tabla Crec'!H134","v":0},12931.066482899512,null,12794.210968248319]
[null,127,"2032-11-04",31,8.900000000000001E-2,1.0084638888888888,2.8668863908740869,0.34881047368434759,false,1.2553254600680925,0.43787066835437294,11938.864064891639,535205.09453778819,7408.9476119565261,4101.7523773048824,299,47.84,346.56416666666667,55.450266666666664,428.16407563023057,84.482758620689665,13.517241379310347,125.30004128260472,20.048006605216756,12931.066546112794,8.900000000000001E-2,535205.09,7408.9476119565261,4101.7523425277777,428.16407199999998,12931.066507705458,0,{"$f":"'Tabla Crec'!E135+'Tabla Crec'!H135","v":0},12931.066507705458,null,12794.210993054265]
[null,128,"2032-12-04",30,{"$f":"IF(B142=0,TASACREC,IF(B142=MESES_INC_TASACREC,E141+INCREMENTO_TASACREC,E141))","v":8.900000000000001E-2},{"$f":"1 + D142 * E142 / 360 + FACTOR_SEG_DEUDCREC","v":1.0082166666666665},2.890442640719102,0.34596777182584532,{"$f":"MOD(B142, MESES_INCCREC)=0","v":false},1.2553254600680925,{"$f":"H142*J142","v":0.43430215233601216},{"$f":"CUOTA_INTCREC*J142","v":11938.864064891639},527796.14692583168,7602.1390576510548,{"$f":"M142 * D142 * E142 /360","v":3914.4880896999189},{"$f":"COMISION_AMORTCREC","v":299},{"$f":"P142*IVACREC","v":47.84},{"$f":"SEGURO_DAÑOS_MENS","v":346.56416666666667},{"$f":"R142*IVACREC","v":55.450266666666664},{"$f":"M142 * FACTOR_SEG_DEUDCREC","v":422.23691754066539},{"$f":"SEGURO_INTERIORESCREC","v":84.482758620689665},{"$f":"U142*IVACREC","v":13.517241379310347},{"$f":"SUM(N142:V142) * FACTOR_SEG_DESEMPLEOCREC","v":125.30004128260472},{"$f":"W142*IVACREC","v":20.048006605216756},{"$f":"IF(B142>=PLAZOCREC, 0, SUM(N142:X142))","v":12931.066546112794},{"$f":"IF(B142>=MESES_PAG_PUNTCREC,TASACREC-DISMINUCION_TASACREC,TASACREC)","v":8.900000000000001E-2},527796.14,{"$f":"MIN(AA142,N142)","v":7602.1390576510548},{"$f":"AA142 * D142 * Z142 /360","v":3914.4880383333339},{"$f":"AA142 * FACTOR_SEG_DEUDCREC","v":422.23691200000002},{"$f":"IF(AA142>0, AB142+AC142+AD142+P142+Q142+R142+S142+U142+V142+W142+X142, 0)","v":12931.066489205545},{"$f":"IF(ACCION_EXCEDENTE_PPCREC=\"MENOS PLAZO\", IF(AA142>N142, ROUND(Y142-AE142, 2), 0), 0)","v":0},{"$f":"'Tabla Crec'!E136+'Tabla Crec'!H136","v":0},12931.066489205545,null,{"$f":"IF(AA142> 0,AB142+AC142+AD142+P142+R142+U142+W142, 0)","v":12794.210974554351}]
[null,129,{"$f":"IF(B143=0,FECHA_1ER_PAGO,DATE(YEAR(C142),MONTH(C142)+1,4))","v":"2033-01-04"},31,8.900000000000001E-2,1.0084638888888888,{"$f":"IF(B143 = 0, 0,\n            IF(G142=0, F143, G142 * F143 ))","v":2.9149070260698546},{"$f":"IF(G143=0, 0, 1/G143)","v":0.34306411527241465},false,{"$f":"IF(B143=0, 1, IF(I143,J142*(1+INCREMENTO_CREC),J142))","v":1.2553254600680925},0.43065711833719705,11938.864064891639,{"$f":"IF(B143=0,TOTAL_FINANCIADOCREC, M142-N142)","v":520194.00786818063},{"$f":"IF(B143=0, 0, L143-O143-T143)","v":7535.9997816295645},3986.7090769675297,299,47.84,346.56416666666667,55.450266666666664,416.15520629454454,84.482758620689665,13.517241379310347,125.30004128260472,20.048006605216756,12931.066546112794,8.900000000000001E-2,{"$f":"IF(B143=0,TOTAL_FINANCIADOCREC, MAX(ROUND(AA142-N142-AF142-AG142,2), 0))","v":520194},7535.9997816295645,3986.7090166666667,416.15520000000004,12931.066479517385,0,{"$f":"'Tabla Crec'!E137+'Tabla Crec'!H137","v":0},{"$f":"AE143+AF143","v":12931.066479517385},null,12794.210964866192]
[null,130,"2033-02-04",31,8.900000000000001E-2,1.0084638888888888,2.9395784752599514,0.34018482868077488,false,1.2553254600680925,0.42704267657187894,11938.864064891639,512658.0080865511,7599.7836464479697,3928.9540119744292,299,47.84,346.56416666666667,55.450266666666664,410.12640646924092,84.482758620689665,13.517241379310347,125.30004128260472,20.048006605216756,12931.066546112794,8.900000000000001E-2,512658,7599.7836464479697,3928.9539500000005,410.12640000000005,12931.066477669125,0,{"$f":"'Tabla Crec'!E138+'Tabla Crec'!H138","v":0},12931.066477669125,null,12794.210963017931]
[null,131,"2033-03-04",28,8.900000000000001E-2,1.0077222222222222,2.9622785534855698,0.3375779765286922,false,1.2553254600680925,0.4237702286947363,11938.864064891639,505058.22444010311,8038.6922206041754,3496.1252647353808,299,47.84,346.56416666666667,55.450266666666664,404.04657955208251,84.482758620689665,13.517241379310347,125.30004128260472,20.048006605216756,12931.066546112794,8.900000000000001E-2,505058.22,8038.6922206041754,3496.1252340000005,404.04657600000002,12931.066511825331,0,{"$f":"'Tabla Crec'!E139+'Tabla Crec'!H139","v":0},12931.066511825331,null,12794.210997174137]
[null,132,"2033-04-04",31,8.900000000000001E-2,1.0084638888888888,2.9873509500202098,0.33474473429150831,true,1.2841979456496586,0.42987850009419581,12213.457938384146,497019.53221949894,8006.7398420707759,3809.1024705377713,299,47.84,346.56416666666667,55.450266666666664,397.6156257755992,84.482758620689665,13.517241379310347,127.99106124283131,20.478569798853009,13208.782002759166,8.900000000000001E-2,497019.53,8006.7398420707759,3809.1024535277788,397.61562400000003,13208.781983973575,0,{"$f":"'Tabla Crec'!E140+'Tabla Crec'!H140","v":0},13208.781983973575,null,13071.495906128745]
[null,133,"2033-05-04",30,8.900000000000001E-2,1.0082166666666665,3.0118970169928754,0.33201666403535118,false,1.2841979456496586,0.42637511787565086,12213.457938384146,489012.79237742815,8195.4028276829449,3626.8448767992591,299,47.84,346.56416666666667,55.450266666666664,391.21023390194256,84.482758620689665,13.517241379310347,127.99106124283131,20.478569798853009,13208.782002759166,8.900000000000001E-2,489012.79,8195.4028276829449,3626.844859166667,391.21023200000002,13208.781983224631,0,{"$f":"'Tabla Crec'!E141+'Tabla Crec'!H141","v":0},13208.781983224631,null,13071.495905379801]
[null,134,"2033-06-04",{"$f":"IF(B148=0,C148-C140+1, C148-C147)","v":31},8.900000000000001E-2,1.0084638888888888,3.0373893786894786,0.32923009707483175,false,1.2841979456496586,0.42279661430953663,12213.457938384146,480817.38954974519,8143.8729773894975,3684.9310493548528,299,47.84,346.56416666666667,55.450266666666664,384.65391163979615,84.482758620689665,13.517241379310347,127.99106124283131,20.478569798853009,13208.782002759166,8.900000000000001E-2,480817.39,8143.8729773894975,3684.9310528055557,384.65391200000005,13208.782006570073,0,{"$f":"'Tabla Crec'!E142+'Tabla Crec'!H142","v":0},13208.782006570073,null,13071.495928725242]
[null,135,"2033-07-04",30,8.900000000000001E-2,1.0082166666666665,3.0623465947510433,0.32654696947564033,false,1.2841979456496586,0.41935094735873907,12213.457938384146,472673.5165723557,8329.6572105479554,3505.6619145783052,299,47.84,346.56416666666667,55.450266666666664,378.13881325788458,84.482758620689665,13.517241379310347,127.99106124283131,20.478569798853009,13208.782002759166,8.900000000000001E-2,472673.52,8329.6572105479554,3505.6619400000004,378.13881600000002,13208.782030922976,0,{"$f":"'Tabla Crec'!E143+'Tabla Crec'!H143","v":0},13208.782030922976,null,13071.495953078145]
[null,136,"2033-08-04",31,8.900000000000001E-2,1.0084638888888888,3.088265956068283,0.32380630885596223,false,1.2841979456496586,0.41583139662122554,12213.457938384146,464343.85936180776,8283.3031065079558,3558.679744386744,299,47.84,346.56416666666667,55.450266666666664,371.4750874894462,84.482758620689665,13.517241379310347,127.99106124283128,20.478569798853005,13208.782002759164,8.900000000000001E-2,464343.86,8283.3031065079558,3558.6797492777778,371.47508800000003,13208.782008160752,0,{"$f":"'Tabla Crec'!E144+'Tabla Crec'!H144","v":0},13208.782008160752,null,13071.495930315921]
[null,137,"2033-09-04",31,8.900000000000001E-2,1.0084638888888888,3.1144046959797831,0.32108865019720978,false,1.2841979456496586,0.41234138495467865,12213.457938384146,456060.55625529983,8353.4120636344287,3495.197429745479,299,47.84,346.56416666666667,55.450266666666664,364.84844500423986,84.482758620689665,13.517241379310347,127.99106124283131,20.478569798853009,13208.782002759166,8.900000000000001E-2,456060.56,8353.4120636344287,3495.1974584444447,364.84844800000002,13208.782034453894,0,{"$f":"'Tabla Crec'!E145+'Tabla Crec'!H145","v":0},13208.782034453894,null,13071.495956609064]
[null,138,"2033-10-04",30,8.900000000000001E-2,1.0082166666666665,3.1399947212317501,0.31847187297427121,false,1.2841979456496586,0.40898092502075811,12213.457938384146,447707.1441916654,8534.7975702759613,3320.4946527548523,299,47.84,346.56416666666667,55.450266666666664,358.16571535333236,84.482758620689665,13.517241379310347,127.99106124283131,20.478569798853009,13208.782002759166,8.900000000000001E-2,447707.15,8534.7975702759613,3320.4946958333339,358.16572000000002,13208.782050484317,0,{"$f":"'Tabla Crec'!E146+'Tabla Crec'!H146","v":0},13208.782050484317,null,13071.495972639486]
[null,139,"2033-11-04",31,8.900000000000001E-2,1.0084638888888888,3.1665712876639529,0.31579898545019691,false,1.2841979456496586,0.40554840835338929,12213.457938384146,439172.34662138944,8496.3519935081076,3365.7680675789265,299,47.84,346.56416666666667,55.450266666666664,351.33787729711156,84.482758620689665,13.517241379310347,127.99106124283131,20.478569798853009,13208.782002759166,8.900000000000001E-2,439172.35,8496.3519935081076,3365.7680934722225,351.33787999999998,13208.782031355349,0,{"$f":"'Tabla Crec'!E147+'Tabla Crec'!H147","v":0},13208.782031355349,null,13071.495953510519]
[null,140,"2033-12-04",30,8.900000000000001E-2,1.0082166666666665,3.1925899484109248,0.31322531742535198,false,1.2841979456496586,0.40224330916309925,12213.457938384146,430675.99462788133,8674.7368491917205,3194.1802934901202,299,47.84,346.56416666666667,55.450266666666664,344.5407957023051,84.482758620689665,13.517241379310347,127.99106124283131,20.478569798853009,13208.782002759166,8.900000000000001E-2,430676,8674.7368491917205,3194.1803333333337,344.54079999999999,13208.782046900074,0,{"$f":"'Tabla Crec'!E148+'Tabla Crec'!H148","v":0},13208.782046900074,null,13071.495969055244]
[null,141,"2034-01-04",31,8.900000000000001E-2,1.0084638888888888,3.2196116750020582,0.31059646346926628,false,1.2841979456496586,0.39886734031328097,12213.457938384146,422001.25777868961,8641.6861815739594,3234.1707505872355,299,47.84,346.56416666666667,55.450266666666664,337.6010062229517,84.482758620689665,13.517241379310347,127.99106124283131,20.478569798853009,13208.782002759166,8.900000000000001E-2,422001.26,8641.6861815739594,3234.1707676111118,337.60100800000004,13208.782021560091,0,{"$f":"'Tabla Crec'!E149+'Tabla Crec'!H149","v":0},13208.782021560091,null,13071.495943715261]
[null,142,"2034-02-04",31,8.900000000000001E-2,1.0084638888888888,3.2468621104846451,0.30798967309724595,false,1.2841979456496586,0.39551970547279319,12213.457938384146,413359.57159711566,8714.8284532274483,3167.9418278790058,299,47.84,346.56416666666667,55.450266666666664,330.68765727769255,84.482758620689665,13.517241379310347,127.99106124283131,20.478569798853009,13208.782002759166,8.900000000000001E-2,413359.57,8714.8284532274483,3167.9418156388897,330.687656,13208.781989241357,0,{"$f":"'Tabla Crec'!E150+'Tabla Crec'!H150","v":0},13208.781989241357,null,13071.495911396527]
[null,143,"2034-03-04",28,8.900000000000001E-2,1.0077222222222222,3.2719351012267208,0.30562953391865194,false,1.2841979456496586,0.39248881958819548,12213.457938384146,404644.74314388819,9088.7013107730108,2801.0408330960263,299,47.84,346.56416666666667,55.450266666666664,323.71579451511059,84.482758620689665,13.517241379310347,127.99106124283131,20.478569798853009,13208.782002759166,8.900000000000001E-2,404644.74,9088.7013107730108,2801.0408113333333,323.71579200000002,13208.781978481366,0,{"$f":"'Tabla Crec'!E151+'Tabla Crec'!H151","v":0},13208.781978481366,null,13071.495900636535]
[null,144,"2034-04-04",31,8.900000000000001E-2,1.0084638888888888,3.2996283963751591,0.3030644302548009,true,1.3137344983996007,0.3981461972635516,12494.367470966981,395556.04183311516,9146.42508356281,3031.4975539376796,299,47.84,346.56416666666667,55.450266666666664,316.44483346649213,84.482758620689665,13.517241379310347,130.74397466214307,20.919035945942891,13492.884914908402,8.900000000000001E-2,395556.04,9146.42508356281,3031.4975398888896,316.44483200000002,13492.884899393119,0,{"$f":"'Tabla Crec'!E152+'Tabla Crec'!H152","v":0},13492.884899393119,null,13355.1583554012]
[null,145,"2034-05-04",30,8.900000000000001E-2,1.0082166666666665,3.3267403430320415,0.3005945450760924,false,1.3137344983996007,0.3949014238971964,12494.367470966981,386409.61674955237,9319.3684533414926,2865.8713242258473,299,47.84,346.56416666666667,55.450266666666664,309.12769339964188,84.482758620689665,13.517241379310347,130.74397466214307,20.919035945942891,13492.884914908402,8.900000000000001E-2,386409.61,9319.3684533414926,2865.8712741666668,309.12768799999998,13492.884859449581,0,{"$f":"'Tabla Crec'!E153+'Tabla Crec'!H153","v":0},13492.884859449581,null,13355.158315457662]
[null,146,"2034-06-04",31,8.900000000000001E-2,1.0084638888888888,3.3548975036576487,0.29807169933202382,false,1.3137344983996007,0.39158707440907292,12494.367470966981,377090.24829621089,9302.7175083043294,2889.9777640256834,299,47.84,346.56416666666667,55.450266666666664,301.67219863696874,84.482758620689665,13.517241379310347,130.74397466214307,20.919035945942891,13492.884914908402,8.900000000000001E-2,377090.24,9302.7175083043294,2889.977700444445,301.672192,13492.884844690194,0,{"$f":"'Tabla Crec'!E154+'Tabla Crec'!H154","v":0},13492.884844690194,null,13355.158300698275]
[null,147,"2034-07-04",30,8.900000000000001E-2,1.0082166666666665,3.3824635781460355,0.29564250342885012,false,1.3137344983996007,0.38839575594770265,12494.367470966981,367787.53078790655,9472.3799263263481,2727.757520010307,299,47.84,346.56416666666667,55.450266666666664,294.23002463032526,84.482758620689665,13.517241379310347,130.74397466214307,20.919035945942891,13492.884914908402,8.900000000000001E-2,367787.52000000002,9472.3799263263481,2727.7574400000008,294.23001600000003,13492.884826267769,0,{"$f":"'Tabla Crec'!E155+'Tabla Crec'!H155","v":0},13492.884826267769,null,13355.15828227585]
[null,148,"2034-08-04",31,8.900000000000001E-2,1.0084638888888888,3.4110923740421768,0.29316121944097062,false,1.3137344983996007,0.38513600757249877,12494.367470966981,358315.15086158022,9461.6278468691053,2746.0875034086107,299,47.84,346.56416666666667,55.450266666666664,286.65212068926417,84.482758620689665,13.517241379310347,130.74397466214307,20.919035945942891,13492.884914908402,8.900000000000001E-2,358315.14,9461.6278468691053,2746.087420166667,286.65211200000005,13492.884822977192,0,{"$f":"'Tabla Crec'!E156+'Tabla Crec'!H156","v":0},13492.884822977192,null,13355.158278985273]
[null,149,"2034-09-04",31,8.900000000000001E-2,1.0084638888888888,3.4399634808858059,0.290700760504148,false,1.3137344983996007,0.3819036177852993,12494.367470966981,348853.5230147111,9541.7100136730242,2673.574638882189,299,47.84,346.56416666666667,55.450266666666664,279.08281841176887,84.482758620689665,13.517241379310347,130.74397466214307,20.919035945942891,13492.884914908402,8.900000000000001E-2,348853.51,9541.7100136730242,2673.5745391388891,279.082808,13492.884804753334,0,{"$f":"'Tabla Crec'!E157+'Tabla Crec'!H157","v":0},13492.884804753334,null,13355.158260761415]
[null,150,"2034-10-04",30,8.900000000000001E-2,1.0082166666666665,3.4682285141537506,0.28833163556525354,false,1.3137344983996007,0.37879121662205484,12494.367470966981,339311.8130010381,9706.3554074751173,2516.5626130910323,299,47.84,346.56416666666667,55.450266666666664,271.44945040083047,84.482758620689665,13.517241379310347,130.74397466214307,20.919035945942891,13492.884914908402,8.900000000000001E-2,339311.8,9706.3554074751173,2516.5625166666669,271.44943999999998,13492.884808083205,0,{"$f":"'Tabla Crec'!E158+'Tabla Crec'!H158","v":0},13492.884808083205,null,13355.158264091286]
[null,151,"2034-11-04",31,8.900000000000001E-2,1.0084638888888888,3.4975832149388237,0.2859117106145796,false,1.3137344983996007,0.37561207773081651,12494.367470966981,329605.45759356295,9704.6235007236846,2526.0596041684457,299,47.84,346.56416666666667,55.450266666666664,263.6843660748504,84.482758620689665,13.517241379310347,130.74397466214307,20.919035945942891,13492.884914908402,8.900000000000001E-2,329605.44,9704.6235007236846,2526.0594693333337,263.68435199999999,13492.884765998439,0,{"$f":"'Tabla Crec'!E159+'Tabla Crec'!H159","v":0},13492.884765998439,null,13355.158222006519]
[null,152,"2034-12-04",30,8.900000000000001E-2,1.0082166666666665,3.5263216903549042,0.2835816150112373,false,1.3137344983996007,0.37255095075213651,12494.367470966981,319900.83409283927,9865.848950837486,2372.5978528552246,299,47.84,346.56416666666667,55.450266666666664,255.92066727427144,84.482758620689665,13.517241379310347,130.74397466214307,20.919035945942891,13492.884914908402,8.900000000000001E-2,319900.82,9865.848950837486,2372.5977483333336,255.92065600000001,13492.88479911224,0,{"$f":"'Tabla Crec'!E160+'Tabla Crec'!H160","v":0},13492.88479911224,null,13355.158255120321]
[null,153,"2035-01-04",31,8.900000000000001E-2,1.0084638888888888,3.5561680853285469,0.28120155628347138,false,1.3137344983996007,0.36942418549325334,12494.367470966981,310034.98514200177,9870.2658050567607,2376.073677796619,299,47.84,346.56416666666667,55.450266666666664,248.02798811360142,84.482758620689665,13.517241379310347,130.74397466214307,20.919035945942891,13492.884914908402,8.900000000000001E-2,310034.96999999997,9870.2658050567607,2376.07356175,248.027976,13492.88478674818,0,{"$f":"'Tabla Crec'!E161+'Tabla Crec'!H161","v":0},13492.88478674818,null,13355.158242756261]
[null,154,"2035-02-04",31,8.900000000000001E-2,1.0084638888888888,3.5862670968729802,0.27884147303806311,false,1.3137344983996007,0.3663236627146656,12494.367470966981,300164.71933694498,9953.8066381345616,2300.4290573628646,299,47.84,346.56416666666667,55.450266666666664,240.131775469556,84.482758620689665,13.517241379310347,130.74397466214307,20.919035945942891,13492.884914908402,8.900000000000001E-2,300164.7,9953.8066381345616,2300.4289091666674,240.13176000000001,13492.884751242649,0,{"$f":"'Tabla Crec'!E162+'Tabla Crec'!H162","v":0},13492.884751242649,null,13355.15820725073]
[null,155,"2035-03-04",28,8.900000000000001E-2,1.0077222222222222,3.6139610483432771,0.27670469787116908,false,1.3137344983996007,0.36351650746259334,12494.367470966981,290210.9126988104,10253.294311792835,2008.9044290150987,299,47.84,346.56416666666667,55.450266666666664,232.16873015904832,84.482758620689665,13.517241379310347,130.74397466214307,20.919035945942891,13492.884914908402,8.900000000000001E-2,290210.89,10253.294311792835,2008.9042718888891,232.16871200000003,13492.884739623145,0,{"$f":"'Tabla Crec'!E163+'Tabla Crec'!H163","v":0},13492.884739623145,null,13355.158195631226]
[null,156,"2035-04-04",31,8.900000000000001E-2,1.0084638888888888,3.6445492131052268,0.27438235609610018,true,1.3439503918627913,0.36875627499558977,12781.737922799221,279957.61838701757,10412.207747173547,2145.56408091606,299,47.84,346.56416666666667,55.450266666666664,223.96609470961408,84.482758620689665,13.517241379310347,133.56020509009903,21.369632814415844,13783.52219403707,8.900000000000001E-2,279957.59999999998,10412.207747173547,2145.56394,223.96608000000001,13783.522038411396,0,{"$f":"'Tabla Crec'!E164+'Tabla Crec'!H164","v":0},13783.522038411396,null,13645.344897551004]
[null,157,"2035-05-04",30,8.900000000000001E-2,1.0082166666666665,3.6744952591395745,0.27214622131099486,false,1.3439503918627913,0.36575102077488947,12781.737922799221,269545.41063984402,10566.973132041836,1999.12846224551,299,47.84,346.56416666666667,55.450266666666664,215.63632851187523,84.482758620689665,13.517241379310347,133.56020509009903,21.369632814415844,13783.52219403707,8.900000000000001E-2,269545.39,10566.973132041836,1999.1283091666669,215.63631200000003,13783.522024446353,0,{"$f":"'Tabla Crec'!E165+'Tabla Crec'!H165","v":0},13783.522024446353,null,13645.34488358596]
[null,158,"2035-06-04",31,8.900000000000001E-2,1.0084638888888888,3.7055957787356806,0.26986213815830501,false,1.3439503918627913,0.36268132632678474,12781.737922799221,258978.43750780218,10589.77320311513,1984.7819696778506,299,47.84,346.56416666666667,55.450266666666664,207.18275000624175,84.482758620689665,13.517241379310347,133.56020509009906,21.369632814415851,13783.522194037072,8.900000000000001E-2,258978.42,10589.77320311513,1984.7818355000002,207.18273600000003,13783.52204585298,0,{"$f":"'Tabla Crec'!E166+'Tabla Crec'!H166","v":0},13783.52204585298,null,13645.344904992588]
[null,159,"2035-07-04",30,8.900000000000001E-2,1.0082166666666665,3.7360434240509584,0.267662841808115,false,1.3439503918627913,0.35972558113512448,12781.737922799221,248388.66430468706,10740.811064429043,1842.2159269264291,299,47.84,346.56416666666667,55.450266666666664,198.71093144374964,84.482758620689665,13.517241379310347,133.56020509009903,21.369632814415844,13783.52219403707,8.900000000000001E-2,248388.65,10740.811064429043,1842.2158208333335,198.71092000000002,13783.522076500225,0,{"$f":"'Tabla Crec'!E167+'Tabla Crec'!H167","v":0},13783.522076500225,null,13645.344935639832]
[null,160,"2035-08-04",31,8.900000000000001E-2,1.0084638888888888,3.7676648804761896,0.2654163869992629,false,1.3439503918627913,0.35670645731446565,12781.737922799221,237647.853240258,10770.312898290704,1821.3067419163106,299,47.84,346.56416666666667,55.450266666666664,190.11828259220641,84.482758620689665,13.517241379310347,133.56020509009903,21.369632814415844,13783.52219403707,8.900000000000001E-2,237647.84,10770.312898290704,1821.3066404444446,190.11827200000002,13783.522081972998,0,{"$f":"'Tabla Crec'!E168+'Tabla Crec'!H168","v":0},13783.522081972998,null,13645.344941112606]
[null,161,"2035-09-04",31,8.900000000000001E-2,1.0084638888888888,3.7995539773951088,0.26318878635475479,false,1.3439503918627913,0.35371267255536515,12781.737922799221,226877.54034196731,10861.471629960402,1738.7642605652441,299,47.84,346.56416666666667,55.450266666666664,181.50203227357386,84.482758620689665,13.517241379310347,133.56020509009903,21.369632814415844,13783.52219403707,8.900000000000001E-2,226877.53,10861.471629960402,1738.7641813055557,181.50202400000001,13783.522106503808,0,{"$f":"'Tabla Crec'!E169+'Tabla Crec'!H169","v":0},13783.522106503808,null,13645.344965643415]
[null,162,"2035-10-04",30,8.900000000000001E-2,1.0082166666666665,3.8307736459093715,0.26104387584158972,false,1.3439503918627913,0.35083001923068635,12781.737922799221,216016.06871200691,11006.805891548898,1602.119176280718,299,47.84,346.56416666666667,55.450266666666664,172.81285496960552,84.482758620689665,13.517241379310347,133.56020509009903,21.369632814415844,13783.52219403707,8.900000000000001E-2,216016.06,11006.805891548898,1602.1191116666666,172.812848,13783.522122453414,0,{"$f":"'Tabla Crec'!E170+'Tabla Crec'!H170","v":0},13783.522122453414,null,13645.344981593022]
[null,163,"2035-11-04",31,8.900000000000001E-2,1.0084638888888888,3.863196888406832,0.25885297303922716,false,1.3439503918627913,0.34788555455091791,12781.737922799221,205009.26282045801,11046.562301093843,1571.1682114490104,299,47.84,346.56416666666667,55.450266666666664,164.00741025636643,84.482758620689665,13.517241379310347,133.56020509009903,21.369632814415844,13783.52219403707,8.900000000000001E-2,205009.25,11046.562301093843,1571.1681131944445,164.00740000000002,13783.522085526138,0,{"$f":"'Tabla Crec'!E171+'Tabla Crec'!H171","v":0},13783.522085526138,null,13645.344944665745]
[null,164,"2035-12-04",30,8.900000000000001E-2,1.0082166666666665,3.8949394895065743,0.2567433981180241,false,1.3439503918627913,0.34505039050890313,12781.737922799221,193962.70051936415,11188.011066865112,1438.5566955186175,299,47.84,346.56416666666667,55.450266666666664,155.17016041549132,84.482758620689665,13.517241379310347,133.56020509009903,21.369632814415844,13783.52219403707,8.900000000000001E-2,193962.69,11188.011066865112,1438.5566175000001,155.170152,13783.522107602963,0,{"$f":"'Tabla Crec'!E172+'Tabla Crec'!H172","v":0},13783.522107602963,null,13645.34496674257]
[null,165,"2036-01-04",31,8.900000000000001E-2,1.0084638888888888,3.9279058245747032,0.25458858859180405,false,1.3439503918627913,0.34215443340175,12781.737922799221,182774.68945249903,11234.753259572097,1400.7649116651248,299,47.84,346.56416666666667,55.450266666666664,146.21975156199923,84.482758620689665,13.517241379310347,133.56020509009903,21.369632814415844,13783.52219403707,8.900000000000001E-2,182774.68,11234.753259572097,1400.7648392222222,146.21974399999999,13783.522114032168,0,{"$f":"'Tabla Crec'!E173+'Tabla Crec'!H173","v":0},13783.522114032168,null,13645.344973171776]
[null,166,"2036-02-04",31,8.900000000000001E-2,1.0084638888888888,3.9611511830399229,0.25245186406456865,false,1.3439503918627913,0.33928278163606918,12781.737922799221,171539.93619292695,11329.842962855197,1314.6630109896821,299,47.84,346.56416666666667,55.450266666666664,137.23194895434156,84.482758620689665,13.517241379310347,133.56020509009903,21.369632814415844,13783.52219403707,8.900000000000001E-2,171539.93,11329.842962855197,1314.6629635277779,137.231944,13783.522141620824,0,{"$f":"'Tabla Crec'!E174+'Tabla Crec'!H174","v":0},13783.522141620824,null,13645.345000760432]
[null,167,"2036-03-04",29,8.900000000000001E-2,1.0079694444444443,3.9927193573292041,0.25045586992342894,false,1.3439503918627913,0.33660026452792863,12781.737922799221,160210.09323007177,11504.952485362899,1148.6173628522645,299,47.84,346.56416666666667,55.450266666666664,128.16807458405742,84.482758620689665,13.517241379310347,133.56020509009903,21.369632814415844,13783.52219403707,8.900000000000001E-2,160210.09,11504.952485362899,1148.6173396944446,128.168072,13783.522168295194,0,{"$f":"'Tabla Crec'!E175+'Tabla Crec'!H175","v":0},13783.522168295194,null,13645.345027434802]
[null,168,"2036-04-04",31,8.900000000000001E-2,1.0084638888888888,4.0265132903341545,0.24835383069529404,true,1.3748612508756355,0.34145205832948777,13075.717895023603,148705.14074470886,11817.094106553803,1139.6596758740329,299,47.84,346.56416666666667,55.450266666666664,118.96411259576709,84.482758620689665,13.517241379310347,136.44120881789797,21.830593410863678,14080.844130585698,8.900000000000001E-2,148705.14000000001,11817.094106553803,1139.659670166667,118.96411200000001,14080.844124282565,0,{"$f":"'Tabla Crec'!E176+'Tabla Crec'!H176","v":0},14080.844124282565,null,13942.206022825725]
[null,169,"2036-05-04",30,8.900000000000001E-2,1.0082166666666665,4.059597807869733,0.2463298206687988,false,1.3748612508756355,0.33866932537267569,13075.717895023603,136888.04663815507,11950.954445146763,1015.2530125663168,299,47.84,346.56416666666667,55.450266666666664,109.51043731052405,84.482758620689665,13.517241379310347,136.44120881789797,21.830593410863678,14080.844130585698,8.900000000000001E-2,136888.04999999999,11950.954445146763,1015.2530375,109.51044,14080.844158208858,0,{"$f":"'Tabla Crec'!E177+'Tabla Crec'!H177","v":0},14080.844158208858,null,13942.206056752018]
[null,170,"2036-06-04",31,8.900000000000001E-2,1.0084638888888888,4.0939577926491193,0.24426241076435712,false,1.3748612508756355,0.3358269236053823,13075.717895023603,124937.0921930083,12018.264228601112,957.50399266808313,299,47.84,346.56416666666667,55.450266666666664,99.949673754406646,84.482758620689665,13.517241379310347,136.44120881789797,21.830593410863678,14080.844130585698,8.900000000000001E-2,124937.1,12018.264228601112,957.50405250000006,99.949680000000015,14080.844196663207,0,{"$f":"'Tabla Crec'!E178+'Tabla Crec'!H178","v":0},14080.844196663207,null,13942.206095206368]
[null,171,"2036-07-04",30,8.900000000000001E-2,1.0082166666666665,4.1275964791787194,0.24227174459625789,false,1.3748612508756355,0.33309003382743363,13075.717895023603,112918.82796440719,12147.901525249392,837.48130740268675,299,47.84,346.56416666666667,55.450266666666664,90.335062371525751,84.482758620689665,13.517241379310347,136.44120881789797,21.830593410863678,14080.844130585698,8.900000000000001E-2,112918.84,12147.901525249392,837.48139666666668,90.335071999999997,14080.844229478153,0,{"$f":"'Tabla Crec'!E179+'Tabla Crec'!H179","v":0},14080.844229478153,null,13942.206128021313]
[null,172,"2036-08-04",31,8.900000000000001E-2,1.0084638888888888,4.1625319971566572,0.24023839352660353,false,1.3748612508756355,0.33029445823233933,13075.717895023603,100770.9264391578,12222.803970412175,772.29718346010111,299,47.84,346.56416666666667,55.450266666666664,80.616741151326252,84.482758620689665,13.517241379310347,136.44120881789797,21.830593410863678,14080.844130585698,8.900000000000001E-2,100770.94,12222.803970412175,772.297287388889,80.616752000000005,14080.844245363158,0,{"$f":"'Tabla Crec'!E180+'Tabla Crec'!H180","v":0},14080.844245363158,null,13942.206143906318]
[null,173,"2036-09-04",31,8.900000000000001E-2,1.0084638888888888,4.1977632054770355,0.23822210807299685,false,1.3748612508756355,0.32752234549147125,13075.717895023603,88548.122468745627,12326.256425128413,678.62297192019219,299,47.84,346.56416666666667,55.450266666666664,70.8384979749965,84.482758620689665,13.517241379310347,136.44120881789797,21.830593410863678,14080.844130585698,8.900000000000001E-2,88548.14,12326.256425128413,678.62310627777777,70.838512000000009,14080.844278968285,0,{"$f":"'Tabla Crec'!E181+'Tabla Crec'!H181","v":0},14080.844278968285,null,13942.206177511445]
[null,174,"2036-10-04",30,8.900000000000001E-2,1.0082166666666665,4.2322548264820377,0.23628066857950197,false,1.3748612508756355,0.32485313556094553,13075.717895023603,76221.866043617221,12449.428229031881,565.31217315682773,299,47.84,346.56416666666667,55.450266666666664,60.977492834893781,84.482758620689665,13.517241379310347,136.44120881789797,21.830593410863678,14080.844130585698,8.900000000000001E-2,76221.88,12449.428229031881,565.31227666666678,60.977504000000003,14080.844245260643,0,{"$f":"'Tabla Crec'!E182+'Tabla Crec'!H182","v":0},14080.844245260643,null,13942.206143803804]
[null,175,"2036-11-04",31,8.900000000000001E-2,1.0084638888888888,4.2680761610828455,0.23429759972846687,false,1.3748612508756355,0.32212669103983893,13075.717895023603,63772.437814585341,12535.955067187377,488.7448775845582,299,47.84,346.56416666666667,55.450266666666664,51.017950251668275,84.482758620689665,13.517241379310347,136.44120881789797,21.830593410863678,14080.844130585698,8.900000000000001E-2,63772.45,12535.955067187377,488.74497097222223,51.017960000000002,14080.844233721693,0,{"$f":"'Tabla Crec'!E183+'Tabla Crec'!H183","v":0},14080.844233721693,null,13942.206132264853]
[null,176,"2036-12-04",30,8.900000000000001E-2,1.0082166666666665,4.3031455202064093,0.23238814381346623,false,1.3748612508756355,0.31950145409204928,13075.717895023603,51236.482747397968,12654.724795115817,380.0039137098683,299,47.84,346.56416666666667,55.450266666666664,40.989186197918379,84.482758620689665,13.517241379310347,136.44120881789797,21.830593410863678,14080.844130585698,8.900000000000001E-2,51236.49,12654.724795115817,380.00396749999999,40.989192000000003,14080.844190177913,0,{"$f":"'Tabla Crec'!E184+'Tabla Crec'!H184","v":0},14080.844190177913,null,13942.206088721074]
[null,177,"2037-01-04",31,8.900000000000001E-2,1.0084638888888888,4.3395668657621558,0.23043774434948602,false,1.3748612508756355,0.31681992544529425,13075.717895023603,38581.757952282147,12749.166182577483,295.68630608429572,299,47.84,346.56416666666667,55.450266666666664,30.86540636182572,84.482758620689665,13.517241379310347,136.44120881789797,21.830593410863678,14080.844130585698,8.900000000000001E-2,38581.769999999997,12749.166182577483,295.68639841666669,30.865416,14080.844232556245,0,{"$f":"'Tabla Crec'!E185+'Tabla Crec'!H185","v":0},14080.844232556245,null,13942.206131099405]
[null,178,"2037-02-04",31,8.900000000000001E-2,1.0084638888888888,4.3762964775398698,0.22850371430094446,false,1.3748612508756355,0.31416090247352535,13075.717895023603,25832.591769704664,12857.073708572798,197.97811303504216,299,47.84,346.56416666666667,55.450266666666664,20.666073415763734,84.482758620689665,13.517241379310347,136.44120881789797,21.830593410863678,14080.844130585698,8.900000000000001E-2,25832.6,12857.073708572798,197.97817611111111,20.666080000000001,14080.844200246005,0,{"$f":"'Tabla Crec'!E186+'Tabla Crec'!H186","v":0},14080.844200246005,null,13942.206098789165]
[null,179,"2037-03-04",28,8.900000000000001E-2,1.0077222222222222,4.4100912114497612,0.22675267971867247,false,1.3748612508756355,0.31175347287741639,13075.717895023603,12975.518061131866,12975.518061107085,89.819419467612818,299,47.84,346.56416666666667,55.450266666666664,10.380414448905494,84.482758620689665,13.517241379310347,136.44120881789797,21.830593410863678,14080.844130585698,8.900000000000001E-2,12975.53,12975.518061107085,89.819502111111134,10.380424000000001,14080.844222780292,0,{"$f":"'Tabla Crec'!E187+'Tabla Crec'!H187","v":0},14080.844222780292,null,13942.206121323452]
[null,180,"2037-04-04",31,8.900000000000001E-2,1.0084638888888888,4.4474177334533369,0.2248495778748264,true,1.4064830596457749,0.31624712224944679,13376.459406609143,2.4781911633908749E-8,13376.459406608934,1.8992581721653957E-10,299,47.84,346.56416666666667,55.450266666666664,1.9825529307127E-11,84.482758620689665,13.517241379310347,139.38847563143628,22.302156101029805,0,8.900000000000001E-2,0.01,0.01,7.6638888888888894E-5,8.0000000000000013E-6,1008.5551497046883,0,{"$f":"'Tabla Crec'!E188+'Tabla Crec'!H188","v":0},1008.5551497046883,null,869.44548555768142]
[null,181,"2037-05-04",30,8.900000000000001E-2,1.0082166666666665,4.4839606824965443,0.22301712053443518,false,1.4064830596457749,0.31366980204266298,13376.459406609143,-13376.459406584152,13486.369314733243,-99.208740598832463,299,47.84,346.56416666666667,55.450266666666664,-10.701167525267323,84.482758620689665,13.517241379310347,139.38847563143628,22.302156101029805,0,8.900000000000001E-2,0,0,0,0,0,0,{"$f":"'Tabla Crec'!E189+'Tabla Crec'!H189","v":0},0,null,0]
[null,182,"2037-06-04",31,8.900000000000001E-2,1.0084638888888888,4.5219124274953408,0.22114537068863446,false,1.4064830596457749,0.31103721759264968,13376.459406609143,-26862.828721317397,13603.823404147626,-205.87373456142976,299,47.84,346.56416666666667,55.450266666666664,-21.49026297705392,84.482758620689665,13.517241379310347,139.38847563143628,22.302156101029805,0,8.900000000000001E-2,0,0,0,0,0,0,{"$f":"'Tabla Crec'!E190+'Tabla Crec'!H190","v":0},0,null,0]
[null,183,"2037-07-04",30,8.900000000000001E-2,1.0082166666666665,4.5590674746079269,0.21934310153766665,false,1.4064830596457749,0.30850235656289127,13376.459406609143,-40466.652125465022,13708.960398240048,-300.12766993053231,299,47.84,346.56416666666667,55.450266666666664,-32.373321700372017,84.482758620689665,13.517241379310347,139.38847563143628,22.302156101029805,0,8.900000000000001E-2,0,0,0,0,0,0,{"$f":"'Tabla Crec'!E191+'Tabla Crec'!H191","v":0},0,null,0]
[null,184,"2037-08-04",31,8.900000000000001E-2,1.0084638888888888,4.5976549151499553,0.21750218719218173,false,1.4064830596457749,0.30591314172170786,13376.459406609143,-54175.612523705073,13834.995771497281,-415.19587486917317,299,47.84,346.56416666666667,55.450266666666664,-43.340490018964061,84.482758620689665,13.517241379310347,139.38847563143628,22.302156101029805,0,8.900000000000001E-2,0,0,0,0,0,0,{"$f":"'Tabla Crec'!E192+'Tabla Crec'!H192","v":0},0,null,0]
[null,185,"2037-09-04",31,8.900000000000001E-2,1.0084638888888888,4.6365689555012377,0.21567672336966132,false,1.4064830596457749,0.30334565777933664,13376.459406609143,-68010.608295202357,13952.093638485481,-521.22574524017591,299,47.84,346.56416666666667,55.450266666666664,-54.408486636161889,84.482758620689665,13.517241379310347,139.38847563143628,22.302156101029805,0,8.900000000000001E-2,0,0,0,0,0,0,{"$f":"'Tabla Crec'!E193+'Tabla Crec'!H193","v":0},0,null,0]
[null,186,"2037-10-04",30,8.900000000000001E-2,1.0082166666666665,4.6746660970856055,0.21391902207163938,false,1.4064830596457749,0.30087348067975139,13376.459406609143,-81962.701933687844,14049.919607497612,-607.89003934151822,299,47.84,346.56416666666667,55.450266666666664,-65.570161546950274,84.482758620689665,13.517241379310347,139.38847563143628,22.302156101029805,0,8.900000000000001E-2,0,0,0,0,0,0,{"$f":"'Tabla Crec'!E194+'Tabla Crec'!H194","v":0},0,null,0]
[null,187,"2037-11-04",31,8.900000000000001E-2,1.0084638888888888,4.7142319515239937,0.21212363122623293,false,1.4064830596457749,0.29834829387024414,13376.459406609143,-96012.62154118545,14189.099567264677,-735.83006342258534,299,47.84,346.56416666666667,55.450266666666664,-76.810097232948365,84.482758620689665,13.517241379310347,139.38847563143628,22.302156101029805,0,8.900000000000001E-2,0,0,0,0,0,0,{"$f":"'Tabla Crec'!E195+'Tabla Crec'!H195","v":0},0,null,0]
[null,188,"2037-12-04",30,8.900000000000001E-2,1.0082166666666665,4.7529672240590148,0.21039488657487607,false,1.4064830596457749,0.29591684380365746,13376.459406609143,-110201.72110845013,14281.950215050243,-817.32943155433861,299,47.84,346.56416666666667,55.450266666666664,-88.16137688676011,84.482758620689665,13.517241379310347,139.38847563143628,22.302156101029805,0,8.900000000000001E-2,0,0,0,0,0,0,{"$f":"'Tabla Crec'!E196+'Tabla Crec'!H196","v":0},0,null,0]
[null,189,"2038-01-04",31,8.900000000000001E-2,1.0084638888888888,4.7931958105359804,0.20862907327964531,false,1.4064830596457749,0.29343325731741809,13376.459406609143,-124483.67132350037,14430.075369172215,-954.02902550427098,299,47.84,346.56416666666667,55.450266666666664,-99.586937058800302,84.482758620689665,13.517241379310347,139.38847563143628,22.302156101029805,0,8.900000000000001E-2,0,0,0,0,0,0,{"$f":"'Tabla Crec'!E197+'Tabla Crec'!H197","v":0},0,null,0]
[null,190,"2038-02-04",31,8.900000000000001E-2,1.0084638888888888,4.8337648872990444,0.20687808019532544,false,1.4064830596457749,0.29097051520676531,13376.459406609143,-138913.74669267258,14552.209923755179,-1064.6195197918992,299,47.84,346.56416666666667,55.450266666666664,-111.13099735413806,84.482758620689665,13.517241379310347,139.38847563143628,22.302156101029805,0,8.900000000000001E-2,0,0,0,0,0,0,{"$f":"'Tabla Crec'!E198+'Tabla Crec'!H198","v":0},0,null,0]
[null,191,"2038-03-04",28,8.900000000000001E-2,1.0077222222222222,4.8710922939287427,0.20529276385224424,false,1.4064830596457749,0.28874079462604202,13376.459406609143,-153465.95661642775,14561.557627147115,-1062.3254552448279,299,47.84,346.56416666666667,55.450266666666664,-122.7727652931422,84.482758620689665,13.517241379310347,139.38847563143628,22.302156101029805,0,8.900000000000001E-2,0,0,0,0,0,0,{"$f":"'Tabla Crec'!E199+'Tabla Crec'!H199","v":0},0,null,0]
[null,192,"2038-04-04",31,{"$f":"IF(B206=0,TASACREC,IF(B206=MESES_INC_TASACREC,E205+INCREMENTO_TASACREC,E205))","v":8.900000000000001E-2},{"$f":"1 + D206 * E206 / 360 + FACTOR_SEG_DEUDCREC","v":1.0084638888888888},4.9123206778720778,0.2035697719215637,{"$f":"MOD(B206, MESES_INCCREC)=0","v":true},1.4388321700176276,{"$f":"H206*J206","v":0.29290273668389699},{"$f":"CUOTA_INTCREC*J206","v":13684.117972961152},-168027.51424357487,15106.284183794965,{"$f":"M206 * D206 * E206 /360","v":-1287.7441994389533},{"$f":"COMISION_AMORTCREC","v":299},{"$f":"P206*IVACREC","v":47.84},{"$f":"SEGURO_DAÑOS_MENS","v":346.56416666666667},{"$f":"R206*IVACREC","v":55.450266666666664},{"$f":"M206 * FACTOR_SEG_DEUDCREC","v":-134.42201139485991},{"$f":"SEGURO_INTERIORESCREC","v":84.482758620689665},{"$f":"U206*IVACREC","v":13.517241379310347},{"$f":"SUM(N206:V206) * FACTOR_SEG_DESEMPLEOCREC","v":142.40352958168597},{"$f":"W206*IVACREC","v":22.784564733069757},{"$f":"IF(B206>=PLAZOCREC, 0, SUM(N206:X206))","v":0},{"$f":"IF(B206>=MESES_PAG_PUNTCREC,TASACREC-DISMINUCION_TASACREC,TASACREC)","v":8.900000000000001E-2},0,{"$f":"MIN(AA206,N206)","v":0},{"$f":"AA206 * D206 * Z206 /360","v":0},{"$f":"AA206 * FACTOR_SEG_DEUDCREC","v":0},{"$f":"IF(AA206>0, AB206+AC206+AD206+P206+Q206+R206+S206+U206+V206+W206+X206, 0)","v":0},{"$f":"IF(ACCION_EXCEDENTE_PPCREC=\"MENOS PLAZO\", IF(AA206>N206, ROUND(Y206-AE206, 2), 0), 0)","v":0},{"$f":"'Tabla Crec'!E200+'Tabla Crec'!H200","v":0},0,null,{"$f":"IF(AA206> 0,AB206+AC206+AD206+P206+R206+U206+W206, 0)","v":0}]
[null,193,{"$f":"IF(B207=0,FECHA_1ER_PAGO,DATE(YEAR(C206),MONTH(C206)+1,4))","v":"2038-05-04"},30,8.900000000000001E-2,1.0082166666666665,{"$f":"IF(B207 = 0, 0,\n            IF(G206=0, F207, G206 * F207 ))","v":4.9526835794419259},{"$f":"IF(G207=0, 0, 1/G207)","v":0.20191073868536563},false,{"$f":"IF(B207=0, 1, IF(I207,J206*(1+INCREMENTO_CREC),J206))","v":1.4388321700176276},0.29051566629252679,13684.117972961152,{"$f":"IF(B207=0,TOTAL_FINANCIADOCREC, M206-N206)","v":-183133.79842736982},{"$f":"IF(B207=0, 0, L207-O207-T207)","v":15188.867350039374},-1358.2423383363262,299,47.84,346.56416666666667,55.450266666666664,-146.50703874189585,84.482758620689665,13.517241379310347,142.40352958168597,22.784564733069757,0,8.900000000000001E-2,{"$f":"IF(B207=0,TOTAL_FINANCIADOCREC, MAX(ROUND(AA206-N206-AF206-AG206,2), 0))","v":0},0,0,0,0,0,{"$f":"'Tabla Crec'!E201+'Tabla Crec'!H201","v":0},{"$f":"AE207+AF207","v":0},null,0]
[null,194,"2038-06-04",31,8.900000000000001E-2,1.0084638888888888,4.9946025429601466,0.20021613159379262,false,1.4388321700176276,0.28807741109363155,13684.117972961152,-198322.66577740919,15362.69898024939,-1519.9228746663109,299,47.84,346.56416666666667,55.450266666666664,-158.65813262192736,84.482758620689665,13.517241379310347,142.40352958168597,22.784564733069757,0,8.900000000000001E-2,0,0,0,0,0,0,{"$f":"'Tabla Crec'!E202+'Tabla Crec'!H202","v":0},0,null,0]
[null,195,"2038-07-04",30,8.900000000000001E-2,1.0082166666666665,5.035641527188135,0.19858442953114508,false,1.4388321700176276,0.28572966567401015,13684.117972961152,-213685.36475765856,15439.899386719915,-1584.8331219526347,299,47.84,346.56416666666667,55.450266666666664,-170.94829180612686,84.482758620689665,13.517241379310347,142.40352958168597,22.784564733069757,0,8.900000000000001E-2,0,0,0,0,0,0,{"$f":"'Tabla Crec'!E203+'Tabla Crec'!H203","v":0},0,null,0]
[null,196,"2038-08-04",31,8.900000000000001E-2,1.0084638888888888,5.07826263755853,0.19691773966239146,false,1.4388321700176276,0.28333157867340497,13684.117972961152,-229125.26414437848,15623.40875031649,-1755.990566039834,299,47.84,346.56416666666667,55.450266666666664,-183.30021131550279,84.482758620689665,13.517241379310347,142.40352958168597,22.784564733069757,0,8.900000000000001E-2,0,0,0,0,0,0,{"$f":"'Tabla Crec'!E204+'Tabla Crec'!H204","v":0},0,null,0]
[null,197,"2038-09-04",31,8.900000000000001E-2,1.0084638888888888,5.1212444882714205,0.19526503807622961,false,1.4388321700176276,0.28095361846379613,13684.117972961152,-244748.67289469496,15755.643546044863,-1875.7266347679542,299,47.84,346.56416666666667,55.450266666666664,-195.79893831575598,84.482758620689665,13.517241379310347,142.40352958168597,22.784564733069757,0,8.900000000000001E-2,0,0,0,0,0,0,{"$f":"'Tabla Crec'!E205+'Tabla Crec'!H205","v":0},0,null,0]
[null,198,"2038-10-04",{"$f":"IF(B212=0,C212-C204+1, C212-C211)","v":30},8.900000000000001E-2,1.0082166666666665,5.1633240471500503,0.19367368595661941,false,1.4388321700176276,0.27866392984027522,13684.117972961152,-260504.31644073981,15824.595106382565,-1932.0736802688205,299,47.84,346.56416666666667,55.450266666666664,-208.40345315259185,84.482758620689665,13.517241379310347,142.40352958168597,22.784564733069757,0,8.900000000000001E-2,0,0,0,0,0,0,{"$f":"'Tabla Crec'!E206+'Tabla Crec'!H206","v":0},0,null,0]
[null,199,"2038-11-04",31,8.900000000000001E-2,1.0084638888888888,5.2070258481824565,0.19204821123541302,false,1.4388321700176276,0.27632514451985307,13684.117972961152,-276328.91154712241,16022.935177083602,-2117.7540748847523,299,47.84,346.56416666666667,55.450266666666664,-221.06312923769795,84.482758620689665,13.517241379310347,142.40352958168597,22.784564733069757,0,8.900000000000001E-2,0,0,0,0,0,0,{"$f":"'Tabla Crec'!E207+'Tabla Crec'!H207","v":0},0,null,0]
[null,200,"2038-12-04",30,8.900000000000001E-2,1.0082166666666665,5.2498102439016883,0.19048307530003111,false,1.4388321700176276,0.27407317658557495,13684.117972961152,-292351.846724206,16086.275646878379,-2168.2761965378613,299,47.84,346.56416666666667,55.450266666666664,-233.88147737936481,84.482758620689665,13.517241379310347,142.40352958168597,22.784564733069757,0,8.900000000000001E-2,0,0,0,0,0,0,{"$f":"'Tabla Crec'!E208+'Tabla Crec'!H208","v":0},0,null,0]
[null,201,"2039-01-04",31,8.900000000000001E-2,1.0084638888888888,5.2942440544938227,0.1888843789041397,false,1.4388321700176276,0.27177292078107512,13684.117972961152,-308438.12237108441,16294.703969807526,-2363.8354989495056,299,47.84,346.56416666666667,55.450266666666664,-246.75049789686753,84.482758620689665,13.517241379310347,142.40352958168597,22.784564733069757,0,8.900000000000001E-2,0,0,0,0,0,0,{"$f":"'Tabla Crec'!E209+'Tabla Crec'!H209","v":0},0,null,0]
[null,202,"2039-02-04",31,8.900000000000001E-2,1.0084638888888888,5.3390539479217187,0.18729910013163667,false,1.4388321700176276,0.26949197068475172,13684.117972961152,-324732.82634089194,16432.620533685313,-2488.7162996514476,299,47.84,346.56416666666667,55.450266666666664,-259.78626107271356,84.482758620689665,13.517241379310347,142.40352958168597,22.784564733069757,0,8.900000000000001E-2,0,0,0,0,0,0,{"$f":"'Tabla Crec'!E210+'Tabla Crec'!H210","v":0},0,null,0]
[null,203,"2039-03-04",28,8.900000000000001E-2,1.0077222222222222,5.3802833089640032,0.18586381842270575,false,1.4388321700176276,0.26742684118890403,13684.117972961152,-341165.44687457726,16318.673368270387,-2361.6230378095743,299,47.84,346.56416666666667,55.450266666666664,-272.9323574996618,84.482758620689665,13.517241379310347,142.40352958168597,22.784564733069757,0,8.900000000000001E-2,0,0,0,0,0,0,{"$f":"'Tabla Crec'!E211+'Tabla Crec'!H211","v":0},0,null,0]
[null,204,"2039-04-04",31,8.900000000000001E-2,1.0084638888888888,5.4258214290818172,0.18430389076944331,true,1.4719253099280329,0.2712815615417552,13998.852686339258,-357484.12024284765,17024.558559616915,-2739.7185770833798,299,47.84,346.56416666666667,55.450266666666664,-285.98729619427814,84.482758620689665,13.517241379310347,145.48792977279138,23.278068763646619,0,8.900000000000001E-2,0,0,0,0,0,0,{"$f":"'Tabla Crec'!E212+'Tabla Crec'!H212","v":0},0,null,0]
[null,205,"2039-05-04",30,8.900000000000001E-2,1.0082166666666665,5.470403595157439,0.18280186874789808,false,1.4719253099280329,0.26907069731217348,13998.852686339258,-374508.67880246456,17076.06566383284,-2777.6060344516127,299,47.84,346.56416666666667,55.450266666666664,-299.60694304197165,84.482758620689665,13.517241379310347,145.48792977279138,23.278068763646619,0,8.900000000000001E-2,0,0,0,0,0,0,{"$f":"'Tabla Crec'!E213+'Tabla Crec'!H213","v":0},0,null,0]
[null,206,"2039-06-04",31,8.900000000000001E-2,1.0084638888888888,5.5167044833642294,0.1812676395872802,false,1.4719253099280329,0.26681242657943038,13998.852686339258,-391584.74446629739,17313.182454085949,-3001.0619721736521,299,47.84,346.56416666666667,55.450266666666664,-313.26779557303792,84.482758620689665,13.517241379310347,145.4879297727914,23.278068763646626,0,8.900000000000001E-2,0,0,0,0,0,0,{"$f":"'Tabla Crec'!E214+'Tabla Crec'!H214","v":0},0,null,0]
[null,207,"2039-07-04",30,8.900000000000001E-2,1.0082166666666665,5.5620334052025378,0.17979036211192725,false,1.4719253099280329,0.26463798447367182,13998.852686339258,-408897.92692038335,17358.630652535077,-3032.65962465951,299,47.84,346.56416666666667,55.450266666666664,-327.11834153630667,84.482758620689665,13.517241379310347,145.4879297727914,23.278068763646626,0,8.900000000000001E-2,0,0,0,0,0,0,{"$f":"'Tabla Crec'!E215+'Tabla Crec'!H215","v":0},0,null,0]
[null,208,"2039-08-04",31,8.900000000000001E-2,1.0084638888888888,5.6091098379404603,0.17828140808295842,false,1.4719253099280329,0.26241691684691471,13998.852686339258,-426256.55757291842,17606.640827796709,-3266.782895399117,299,47.84,346.56416666666667,55.450266666666664,-341.00524605833476,84.482758620689665,13.517241379310347,145.48792977279138,23.278068763646619,0,8.900000000000001E-2,0,0,0,0,0,0,{"$f":"'Tabla Crec'!E216+'Tabla Crec'!H216","v":0},0,null,0]
[null,209,"2039-09-04",31,8.900000000000001E-2,1.0084638888888888,5.6565847203743616,0.17678511848291004,false,1.4719253099280329,0.26021449031362137,13998.852686339258,-443863.19840071513,17755.661479469753,-3401.7182344099256,299,47.84,346.56416666666667,55.450266666666664,-355.09055872057212,84.482758620689665,13.517241379310347,145.48792977279135,23.278068763646615,0,8.900000000000001E-2,0,0,0,0,0,0,{"$f":"'Tabla Crec'!E217+'Tabla Crec'!H217","v":0},0,null,0]
[null,210,"2039-10-04",30,8.900000000000001E-2,1.0082166666666665,5.7030629914934368,0.17534437222446569,false,1.4719253099280329,0.25809381943063303,13998.852686339258,-461618.85988018487,17791.820985021444,-3423.6732107780381,299,47.84,346.56416666666667,55.450266666666664,-369.29508790414792,84.482758620689665,13.517241379310347,145.4879297727914,23.278068763646626,0,8.900000000000001E-2,0,0,0,0,0,0,{"$f":"'Tabla Crec'!E218+'Tabla Crec'!H218","v":0},0,null,0]
[null,211,"2039-11-04",31,8.900000000000001E-2,1.0084638888888888,5.7513330829797713,0.17387273273379936,false,1.4719253099280329,0.25592767601723165,13998.852686339258,-479410.68086520629,18056.531421328935,-3674.1501902975124,299,47.84,346.56416666666667,55.450266666666664,-383.52854469216504,84.482758620689665,13.517241379310347,145.4879297727914,23.278068763646626,0,8.900000000000001E-2,0,0,0,0,0,0,{"$f":"'Tabla Crec'!E219+'Tabla Crec'!H219","v":0},0,null,0]
[null,212,"2039-12-04",30,8.900000000000001E-2,1.0082166666666665,5.7985898698115879,0.17245572155502226,false,1.4719253099280329,0.25384194139873867,13998.852686339258,-497467.21228653524,18086.374947293622,-3689.5484911251365,299,47.84,346.56416666666667,55.450266666666664,-397.97376982922822,84.482758620689665,13.517241379310347,145.48792977279138,23.278068763646619,0,8.900000000000001E-2,0,0,0,0,0,0,{"$f":"'Tabla Crec'!E220+'Tabla Crec'!H220","v":0},0,null,0]
[null,213,"2040-01-04",31,8.900000000000001E-2,1.0084638888888888,5.8476684901819098,0.17100832608397265,false,1.4719253099280329,0.25171148337142557,13998.852686339258,-515553.58723382885,18362.440964954472,-3951.1454088281498,299,47.84,346.56416666666667,55.450266666666664,-412.4428697870631,84.482758620689665,13.517241379310347,145.4879297727914,23.278068763646626,0,8.900000000000001E-2,0,0,0,0,0,0,{"$f":"'Tabla Crec'!E221+'Tabla Crec'!H221","v":0},0,null,0]
[null,214,"2040-02-04",31,8.900000000000001E-2,1.0084638888888888,5.897162506541866,0.16957307838993341,false,1.4719253099280329,0.24959890596455336,13998.852686339258,-533916.02819878329,18517.858625010627,-4091.8731161123428,299,47.84,346.56416666666667,55.450266666666664,-427.13282255902664,84.482758620689665,13.517241379310347,145.4879297727914,23.278068763646626,0,8.900000000000001E-2,0,0,0,0,0,0,{"$f":"'Tabla Crec'!E222+'Tabla Crec'!H222","v":0},0,null,0]
[null,215,"2040-03-04",29,8.900000000000001E-2,1.0079694444444443,5.9441596155176111,0.16823235994360508,false,1.4719253099280329,0.2476254685499153,13998.852686339258,-552433.88682379387,18401.443856609993,-3960.6440608117005,299,47.84,346.56416666666667,55.450266666666664,-441.94710945903512,84.482758620689665,13.517241379310347,145.48792977279138,23.278068763646619,0,8.900000000000001E-2,0,0,0,0,0,0,{"$f":"'Tabla Crec'!E223+'Tabla Crec'!H223","v":0},0,null,0]
[null,216,"2040-04-04",31,8.900000000000001E-2,1.0084638888888888,5.9944703220411721,0.16682041052452667,true,1.5057795920563775,0.25119476970629917,14320.826298125059,-570835.33068040386,19152.313110856143,-4374.8185481867622,299,47.84,346.56416666666667,55.450266666666664,-456.66826454432311,84.482758620689665,13.517241379310347,148.64327116829222,23.782923386926754,0,8.900000000000001E-2,0,0,0,0,0,0,{"$f":"'Tabla Crec'!E224+'Tabla Crec'!H224","v":0},0,null,0]
[null,217,"2040-05-04",30,8.900000000000001E-2,1.0082166666666665,6.0437248865206099,0.16546087367912984,false,1.5057795920563775,0.24914760686985193,14320.826298125059,-589987.64379125996,19168.558104609914,-4375.7416914518453,299,47.84,346.56416666666667,55.450266666666664,-471.99011503300801,84.482758620689665,13.517241379310347,148.64327116829227,23.782923386926765,0,8.900000000000001E-2,0,0,0,0,0,0,{"$f":"'Tabla Crec'!E225+'Tabla Crec'!H225","v":0},0,null,0]
[null,218,"2040-06-04",31,8.900000000000001E-2,1.0084638888888888,6.0948783024351325,0.1640721849360737,false,1.5057795920563775,0.24705654770083957,14320.826298125059,-609156.20189586992,19476.65670694927,-4668.5054473075152,299,47.84,346.56416666666667,55.450266666666664,-487.32496151669596,84.482758620689665,13.517241379310347,148.64327116829227,23.782923386926765,0,8.900000000000001E-2,0,0,0,0,0,0,{"$f":"'Tabla Crec'!E226+'Tabla Crec'!H226","v":0},0,null,0]
[null,219,"2040-07-04",30,8.900000000000001E-2,1.0082166666666665,6.1449578858201406,0.16273504531374577,false,1.5057795920563775,0.24504311014580821,14320.826298125059,-628632.85860281915,19486.092952978222,-4662.3603679709086,299,47.84,346.56416666666667,55.450266666666664,-502.90628688225536,84.482758620689665,13.517241379310347,148.64327116829224,23.782923386926761,0,8.900000000000001E-2,0,0,0,0,0,0,{"$f":"'Tabla Crec'!E227+'Tabla Crec'!H227","v":0},0,null,0]
[null,220,"2040-08-04",31,8.900000000000001E-2,1.0084638888888888,6.1969681265926235,0.16136923404668949,false,1.5057795920563775,0.24298649941327419,14320.826298125059,-648118.95155579736,19806.43309087649,-4967.111631506792,299,47.84,346.56416666666667,55.450266666666664,-518.49516124463787,84.482758620689665,13.517241379310347,148.64327116829224,23.782923386926761,0,8.900000000000001E-2,0,0,0,0,0,0,{"$f":"'Tabla Crec'!E228+'Tabla Crec'!H228","v":0},0,null,0]
[null,221,"2040-09-04",31,8.900000000000001E-2,1.0084638888888888,6.2494185762640893,0.16001488583243553,false,1.5057795920563775,0.24094714951171259,14320.826298125059,-667925.3846466738,19974.07253984288,-5118.9059340004815,299,47.84,346.56416666666667,55.450266666666664,-534.3403077173391,84.482758620689665,13.517241379310347,148.64327116829224,23.782923386926761,0,8.900000000000001E-2,0,0,0,0,0,0,{"$f":"'Tabla Crec'!E229+'Tabla Crec'!H229","v":0},0,null,0]
[null,222,"2040-10-04",30,8.900000000000001E-2,1.0082166666666665,6.3007679655657247,0.15871081199388579,false,1.5057795920563775,0.23898350173908975,14320.826298125059,-687899.45718651672,19973.066838007606,-5101.9209741333334,299,47.84,346.56416666666667,55.450266666666664,-550.31956574921344,84.482758620689665,13.517241379310347,148.64327116829224,23.782923386926761,0,8.900000000000001E-2,0,0,0,0,0,0,{"$f":"'Tabla Crec'!E230+'Tabla Crec'!H230","v":0},0,null,0]
[null,223,"2040-11-04",31,8.900000000000001E-2,1.0084638888888888,6.3540969655409434,0.15737877552437807,false,1.5057795920563775,0.23697774840743022,14320.826298125059,-707872.52402452438,20312.180688965964,-5425.0563716212864,299,47.84,346.56416666666667,55.450266666666664,-566.2980192196195,84.482758620689665,13.517241379310347,148.64327116829224,23.782923386926761,0,8.900000000000001E-2,0,0,0,0,0,0,{"$f":"'Tabla Crec'!E231+'Tabla Crec'!H231","v":0},0,null,0]
[null,224,"2040-12-04",30,8.900000000000001E-2,1.0082166666666665,6.406306462274471,0.1560961852026298,false,1.5057795920563775,0.23504645007597263,14320.826298125059,-728184.70471349033,20304.077288520904,-5400.7032266250544,299,47.84,346.56416666666667,55.450266666666664,-582.54776377079224,84.482758620689665,13.517241379310347,148.64327116829224,23.782923386926761,0,8.900000000000001E-2,0,0,0,0,0,0,{"$f":"'Tabla Crec'!E232+'Tabla Crec'!H232","v":0},0,null,0]
[null,225,"2041-01-04",31,8.900000000000001E-2,1.0084638888888888,6.4605287283593329,0.15478609291068851,false,1.5057795920563775,0.23307373983905708,14320.826298125059,-748488.7820020112,20655.952183569858,-5736.3348598431921,299,47.84,346.56416666666667,55.450266666666664,-598.79102560160902,84.482758620689665,13.517241379310347,148.64327116829222,23.782923386926754,0,8.900000000000001E-2,0,0,0,0,0,0,{"$f":"'Tabla Crec'!E233+'Tabla Crec'!H233","v":0},0,null,0,4527.9306125484045]
[null,226,"2041-02-04",31,8.900000000000001E-2,1.0084638888888888,6.5152099256796401,0.15348699603039792,false,1.5057795920563775,0.2311175862686114,14320.826298125059,-769144.7341855811,20830.781867745794,-5894.6397822722738,299,47.84,346.56416666666667,55.450266666666664,-615.31578734846494,84.482758620689665,13.517241379310347,148.64327116829222,23.782923386926754,0,8.900000000000001E-2,0,0,0,0,0,0,{"$f":"'Tabla Crec'!E234+'Tabla Crec'!H234","v":0},0,null,0]
[null,227,"2041-03-04",28,8.900000000000001E-2,1.0077222222222222,6.5655218245501663,0.15231081804659366,false,1.5057795920563775,0.22934652146397294,14320.826298125059,-789975.51605332689,20421.192783203529,-5468.3860722358086,299,47.84,346.56416666666667,55.450266666666664,-631.98041284266151,84.482758620689665,13.517241379310347,148.64327116829224,23.782923386926761,0,8.900000000000001E-2,0,0,0,0,0,0,{"$f":"'Tabla Crec'!E235+'Tabla Crec'!H235","v":0},0,null,0]
[null,228,"2041-04-04",31,8.900000000000001E-2,1.0084638888888888,6.621091671770734,0.15103249578366909,true,1.540412522673674,0.23265234783582273,14650.205302981934,-810396.70883653045,21509.313002495568,-6210.7903324444105,299,47.84,346.56416666666667,55.450266666666664,-648.31736706922436,84.482758620689665,13.517241379310347,151.87118541588961,24.299389666542339,0,8.900000000000001E-2,0,0,0,0,0,0,{"$f":"'Tabla Crec'!E236+'Tabla Crec'!H236","v":0},0,null,0]
[null,229,"2041-05-04",30,8.900000000000001E-2,1.0082166666666665,6.6754949750071164,0.14980162575868525,false,1.540412522673674,0.23075630023555396,14650.205302981934,-831906.02183902601,21485.699782425934,-6169.9696619727765,299,47.84,346.56416666666667,55.450266666666664,-665.52481747122079,84.482758620689665,13.517241379310347,151.87118541588964,24.299389666542343,0,8.900000000000001E-2,0,0,0,0,0,0,{"$f":"'Tabla Crec'!E237+'Tabla Crec'!H237","v":0},0,null,0]
[null,230,"2041-06-04",31,8.900000000000001E-2,1.0084638888888888,6.7319956227539119,0.14854436277706934,false,1.540412522673674,0.22881959659437878,14650.205302981934,-853391.7216214519,21873.2180134835,-6540.2993332044052,299,47.84,346.56416666666667,55.450266666666664,-682.71337729716151,84.482758620689665,13.517241379310347,151.87118541588961,24.299389666542339,0,8.900000000000001E-2,0,0,0,0,0,0,{"$f":"'Tabla Crec'!E238+'Tabla Crec'!H238","v":0},0,null,0]
[null,231,"2041-07-04",30,8.900000000000001E-2,1.0082166666666665,6.7873101867875389,0.14733377029778921,false,1.540412522673674,0.22695478477944112,14650.205302981934,-875264.93963493535,21841.965556982319,-6491.5483022924373,299,47.84,346.56416666666667,55.450266666666664,-700.21195170794829,84.482758620689665,13.517241379310347,151.87118541588961,24.299389666542339,0,8.900000000000001E-2,0,0,0,0,0,0,{"$f":"'Tabla Crec'!E239+'Tabla Crec'!H239","v":0},0,null,0]
[null,232,"2041-08-04",31,8.900000000000001E-2,1.0084638888888888,6.8447572260629324,0.14609721966358105,false,1.540412522673674,0.22504998669758677,14650.205302981934,-897106.90519191767,22243.218469981304,-6875.3276428458375,299,47.84,346.56416666666667,55.450266666666664,-717.68552415353417,84.482758620689665,13.517241379310347,151.87118541588961,24.299389666542339,0,8.900000000000001E-2,0,0,0,0,0,0,{"$f":"'Tabla Crec'!E240+'Tabla Crec'!H240","v":0},0,null,0]
[null,233,"2041-09-04",31,8.900000000000001E-2,1.0084638888888888,6.9026904906957478,0.14487104721672175,false,1.540412522673674,0.22316117530548729,14650.205302981934,-919350.12366189901,22431.482599642506,-7045.7971977310553,299,47.84,346.56416666666667,55.450266666666664,-735.48009892951927,84.482758620689665,13.517241379310347,151.87118541588958,24.299389666542336,0,8.900000000000001E-2,0,0,0,0,0,0,{"$f":"'Tabla Crec'!E241+'Tabla Crec'!H241","v":0},0,null,0]
[null,234,"2041-10-04",30,8.900000000000001E-2,1.0082166666666665,6.9594075975609639,0.14369039116928084,false,1.540412522673674,0.22134247794503892,14650.205302981934,-941781.60626154148,22388.510834430934,-6984.8802464397659,299,47.84,346.56416666666667,55.450266666666664,-753.42528500923322,84.482758620689665,13.517241379310347,151.87118541588961,24.299389666542339,0,8.900000000000001E-2,0,0,0,0,0,0,{"$f":"'Tabla Crec'!E242+'Tabla Crec'!H242","v":0},0,null,0]
[null,235,"2041-11-04",31,8.900000000000001E-2,1.0084638888888888,7.0183112501992087,0.14248441887948698,false,1.540412522673674,0.219484783127843,14650.205302981934,-964170.11709597241,22810.834044069237,-7389.2926474105234,299,47.84,346.56416666666667,55.450266666666664,-771.33609367677798,84.482758620689665,13.517241379310347,151.87118541588964,24.299389666542343,0,8.900000000000001E-2,0,0,0,0,0,0,{"$f":"'Tabla Crec'!E243+'Tabla Crec'!H243","v":0},0,null,0]
[null,236,"2041-12-04",30,8.900000000000001E-2,1.0082166666666665,7.0759783743050111,0.14132321314481378,false,1.540412522673674,0.21769604727275191,14650.205302981934,-986980.9511400417,22759.898784849276,-7320.1087209553098,299,47.84,346.56416666666667,55.450266666666664,-789.5847609120334,84.482758620689665,13.517241379310347,151.87118541588961,24.299389666542339,0,8.900000000000001E-2,0,0,0,0,0,0,{"$f":"'Tabla Crec'!E244+'Tabla Crec'!H244","v":0},0,null,0]
[null,237,"2042-01-04",31,8.900000000000001E-2,1.0084638888888888,7.1358686690453093,0.14013710823153191,false,1.540412522673674,0.21586895641112777,14650.205302981934,-1009740.849924891,23196.539663318443,-7738.5416803965954,299,47.84,346.56416666666667,55.450266666666664,-807.79267993991289,84.482758620689665,13.517241379310347,151.87118541588961,24.299389666542339,0,8.900000000000001E-2,0,0,0,0,0,0,{"$f":"'Tabla Crec'!E245+'Tabla Crec'!H245","v":0},0,null,0]
[null,238,"2042-02-04",31,8.900000000000001E-2,1.0084638888888888,7.1962658685858116,0.13896095812209297,false,1.540412522673674,0.214057200054004,14650.205302981934,-1032937.3895882095,23392.872597635473,-7916.317382982972,299,47.84,346.56416666666667,55.450266666666664,-826.34991167056762,84.482758620689665,13.517241379310347,151.87118541588961,24.299389666542339,0,8.900000000000001E-2,0,0,0,0,0,0,{"$f":"'Tabla Crec'!E246+'Tabla Crec'!H246","v":0},0,null,0]
[null,239,"2042-03-04",28,8.900000000000001E-2,1.0077222222222222,7.2518370327932242,0.13789609384186965,false,1.540412522673674,0.21241686978180011,14650.205302981934,-1056330.2621858448,22807.422327639291,-7312.1528149086826,299,47.84,346.56416666666667,55.450266666666664,-845.06420974867592,84.482758620689665,13.517241379310347,151.87118541588961,24.299389666542339,0,8.900000000000001E-2,0,0,0,0,0,0,{"$f":"'Tabla Crec'!E247+'Tabla Crec'!H247","v":0},0,null,0]
[null,240,"2042-04-04",31,8.900000000000001E-2,1.0084638888888888,7.3132157756791152,0.13673875223613768,true,1.5758420106951683,0.21547867026374365,14987.160024950515,-1079137.6845134841,24120.861482485478,-8270.3913099241745,299,47.84,346.56416666666667,55.450266666666664,-863.31014761078734,84.482758620689665,13.517241379310347,155.17334169118169,24.82773467058907,0,8.900000000000001E-2,0,0,0,0,0,0,{"$f":"'Tabla Crec'!E248+'Tabla Crec'!H248","v":0},0,null,0]
[null,241,"2042-05-04",30,8.900000000000001E-2,1.0082166666666665,7.3733060319692774,0.13562437197970448,false,1.5758420106951683,0.21372258303976693,14987.160024950515,-1103258.5459959696,24052.267744550732,-8182.5008828034415,299,47.84,346.56416666666667,55.450266666666664,-882.60683679677572,84.482758620689665,13.517241379310347,155.17334169118172,24.827734670589077,0,8.900000000000001E-2,0,0,0,0,0,0,{"$f":"'Tabla Crec'!E249+'Tabla Crec'!H249","v":0},0,null,0]
[null,242,"2042-06-04",31,8.900000000000001E-2,1.0084638888888888,7.4357128749676393,0.13448609660097346,false,1.5758420106951683,0.21192884087822267,14987.160024950515,-1127310.8137405203,24528.593495693196,-8639.5848197502655,299,47.84,346.56416666666667,55.450266666666664,-901.84865099241631,84.482758620689665,13.517241379310347,155.17334169118169,24.82773467058907,0,8.900000000000001E-2,0,0,0,0,0,0,{"$f":"'Tabla Crec'!E250+'Tabla Crec'!H250","v":0},0,null,0]
[null,243,"2042-07-04",30,8.900000000000001E-2,1.0082166666666665,7.4968096490902889,0.1333900748195396,false,1.5758420106951683,0.21020168371040221,14987.160024950515,-1151839.4072362136,24451.440487741402,-8542.808937001917,299,47.84,346.56416666666667,55.450266666666664,-921.47152578897089,84.482758620689665,13.517241379310347,155.17334169118169,24.82773467058907,0,8.900000000000001E-2,0,0,0,0,0,0,{"$f":"'Tabla Crec'!E251+'Tabla Crec'!H251","v":0},0,null,0]
[null,244,"2042-08-04",31,8.900000000000001E-2,1.0084638888888888,7.5602618129813388,0.13227055156779771,false,1.5758420106951683,0.20843749193835728,14987.160024950515,-1176290.8477239551,24943.155061102992,-9014.9623579733125,299,47.84,346.56416666666667,55.450266666666664,-941.03267817916412,84.482758620689665,13.517241379310347,155.17334169118172,24.827734670589077,0,8.900000000000001E-2,0,0,0,0,0,0,{"$f":"'Tabla Crec'!E252+'Tabla Crec'!H252","v":0},0,null,0]
[null,245,"2042-09-04",31,8.900000000000001E-2,1.0084638888888888,7.624251028937322,0.13116042430981989,false,1.5758420106951683,0.20668810676801799,14987.160024950515,-1201234.002785058,25154.271154078495,-9206.1239268999307,299,47.84,346.56416666666667,55.450266666666664,-960.98720222804639,84.482758620689665,13.517241379310347,155.17334169118175,24.827734670589081,0,8.900000000000001E-2,0,0,0,0,0,0,{"$f":"'Tabla Crec'!E253+'Tabla Crec'!H253","v":0},0,null,0]

{"sheet":"Tabla Crec","index":7,"n_rows":248,"n_cols":17,"rows_kept":248,"cut":false,"hidden":false,"merged":[[0,4,0,11],[1,4,1,11],[250,0,250,14]]}
[null,null,null,null,"TABLA DE AMORTIZACIONES"]
[null,null,null,null,"CRÉDITO HIPOTECARIO PAGOS CRECIENTES"]
[null,null,null,null,{"$f":"IF(K4=7.9%, \"NO APLICAN PAGOS CRECIENTES EN TASA 7.90%\",\"\")","v":""}]
[null,null,"Destino",{"$f":"'Parametros Fijo'!E23","v":"SUSTITUCION"},null,"Tasa",{"$f":"ESQUEMA","v":8.900000000000001E-2},null,null,null,null,{"$f":"IF(M4=\"\",\"\",\"CAT\")","v":"CAT"},{"$f":"IF(E248<>0,\"\",'Tabla Amortización Crec'!M4)","v":0.12254269752344071},null,null,"MENOS PLAZO"]
[null,null,null,null,null,"Plazo",{"$f":"PLAZO_SIMULACION","v":14},null,"Incremento Anual en el Pago",null,{"$f":"INCREMENTO_CREC","v":"2.30%"},null,null,null,null,"MENOS CUOTA",{"$f":"IRR(Q7:Q247,0)","v":9.6773406497607795E-3}]
[]
["Mes","FECHA\n PAGO","Saldo","Amortización","Prepagos","Intereses","Pago del crédito","Apoyo Infonavit","Seguro de Vida","Seguro de daños",{"$f":"IF('Parametros Fijo'!D23=\"TERRENO\",\"Seguro de  desempleo\",\"Seguro de  desempleo y contenidos\")","v":"Seguro de  desempleo y contenidos"},"Comisión Mensual","Iva de comisión y Seguros","Pago Mensual",null,null,{"$f":"-C8+Simulación!K40+Simulación!K41","v":-977500}]
[1,{"$f":"'Tabla Amortización Crec'!C14","v":"2022-04-04"},{"$f":"MTO_SOLICITADO","v":1000000},{"$f":"'Tabla Amortización Fijo'!AB14","v":0},null,{"$f":"'Tabla Amortización Crec'!AC14","v":5191.666666666667},{"$f":"D8+F8","v":5191.666666666667},null,{"$f":"(C8*0.8/1000)","v":800},{"$f":"'Tabla Amortización Crec'!R14","v":346.56416666666667},{"$f":"'Tabla Amortización Crec'!W14+'Tabla Amortización Crec'!U14","v":151.50026540068967},{"$f":"IF(C8<=0,,299)","v":299},{"$f":"IF(C8=0,0,'Tabla Amortización Crec'!X14+'Tabla Amortización Crec'!V14+'Tabla Amortización Crec'!S14+'Tabla Amortización Crec'!Q14)","v":127.53030913077701},{"$f":"G8+K8+J8+L8+M8+I8","v":6916.2614078648003},null,{"$f":"C8-D8-E8-H8","v":1000000},{"$f":"N8-M8+H8+E8","v":6788.7310987340234}]
[2,{"$f":"'Tabla Amortización Crec'!C15","v":"2022-05-04"},{"$f":"IF(P8<0.01,0,P8)","v":1000000},{"$f":"IF(C9<=0,0,IF(C9<D8,C9,'Tabla Amortización Crec'!AB15))","v":1293.9060450857414},null,{"$f":"IF(C9<=0,0,'Tabla Amortización Crec'!AC15)","v":7416.6666666666679},8710.5727117524093,null,{"$f":"IF(C9<=0,0,(C9*0.8/1000))","v":800},{"$f":"IF(P8<=0.01,0,'Tabla Amortización Crec'!R15)","v":346.56416666666667},{"$f":"IF(D9<=0,0,'Tabla Amortización Crec'!W15+'Tabla Amortización Crec'!U15)","v":185.98554464252993},{"$f":"IF(C9<=0,,299)","v":299},{"$f":"IF(C9=0,0,'Tabla Amortización Crec'!X15+'Tabla Amortización Crec'!V15+'Tabla Amortización Crec'!S15+'Tabla Amortización Crec'!Q15)","v":133.04795380947147},{"$f":"G9+K9+J9+L9+M9+I9","v":10475.170376871078},null,998706.09395491425,{"$f":"N9-M9+H9+E9","v":10342.122423061606}]
[3,{"$f":"'Tabla Amortización Crec'!C16","v":"2022-06-04"},{"$f":"IF(P9<=0.01,0,P9)","v":998706.09395491425},{"$f":"IF(C10<=0,0,IF(C10<D9,C10,'Tabla Amortización Crec'!AB16))","v":1057.6352998617876},null,{"$f":"IF(C10<=0,0,'Tabla Amortización Crec'!AC16)","v":7653.9725064166669},8711.6078062784545,null,798.96487516393142,{"$f":"IF(P9<=0.01,0,'Tabla Amortización Crec'!R16)","v":346.56416666666667},{"$f":"IF(D10<=0,0,'Tabla Amortización Crec'!W16+'Tabla Amortización Crec'!U16)","v":185.98554464252993},299,{"$f":"IF(C10=0,0,'Tabla Amortización Crec'!X16+'Tabla Amortización Crec'!V16+'Tabla Amortización Crec'!S16+'Tabla Amortización Crec'!Q16)","v":133.04795380947147},{"$f":"G10+K10+J10+L10+M10+I10","v":10475.170346561054},null,997648.45865505247,{"$f":"N10-M10+H10+E10","v":10342.122392751582}]
[4,{"$f":"'Tabla Amortización Crec'!C17","v":"2022-07-04"},{"$f":"IF(P10<=0.01,0,P10)","v":997648.45865505247},{"$f":"IF(C11<=0,0,IF(C11<D10,C11,'Tabla Amortización Crec'!AB17))","v":1313.22787647006},null,{"$f":"IF(C11<=0,0,'Tabla Amortización Crec'!AC17)","v":7399.2260041666668},8712.4538806367273,null,798.11876692404201,{"$f":"IF(P10<=0.01,0,'Tabla Amortización Crec'!R17)","v":346.56416666666667},{"$f":"IF(D11<=0,0,'Tabla Amortización Crec'!W17+'Tabla Amortización Crec'!U17)","v":185.98554464252993},299,{"$f":"IF(C11=0,0,'Tabla Amortización Crec'!X17+'Tabla Amortización Crec'!V17+'Tabla Amortización Crec'!S17+'Tabla Amortización Crec'!Q17)","v":133.04795380947147},10475.170312679438,null,996335.23077858239,10342.122358869967]
[5,{"$f":"'Tabla Amortización Crec'!C18","v":"2022-08-04"},996335.23077858239,{"$f":"IF(C12<=0,0,IF(C12<D11,C12,'Tabla Amortización Crec'!AB18))","v":1077.7020223570184},null,{"$f":"IF(C12<=0,0,'Tabla Amortización Crec'!AC18)","v":7635.8024221666674},{"$f":"D12+F12","v":8713.5044445236854},null,797.06818462286594,{"$f":"IF(P11<=0.01,0,'Tabla Amortización Crec'!R18)","v":346.56416666666667},{"$f":"IF(D12<=0,0,'Tabla Amortización Crec'!W18+'Tabla Amortización Crec'!U18)","v":185.98554464252993},299,{"$f":"IF(C12=0,0,'Tabla Amortización Crec'!X18+'Tabla Amortización Crec'!V18+'Tabla Amortización Crec'!S18+'Tabla Amortización Crec'!Q18)","v":133.04795380947147},10475.170294265219,null,995257.52875622537,{"$f":"N12-M12+H12+E12","v":10342.122340455748}]
[6,{"$f":"'Tabla Amortización Crec'!C19","v":"2022-09-04"},995257.52875622537,{"$f":"IF(C13<=0,0,IF(C13<D12,C13,'Tabla Amortización Crec'!AB19))","v":1086.8235725295788},null,{"$f":"IF(C13<=0,0,'Tabla Amortización Crec'!AC19)","v":7627.5430491111129},8714.3666216406909,null,796.20602300498024,{"$f":"IF(P12<=0.01,0,'Tabla Amortización Crec'!R19)","v":346.56416666666667},{"$f":"IF(D13<=0,0,'Tabla Amortización Crec'!W19+'Tabla Amortización Crec'!U19)","v":185.98554464252993},299,{"$f":"IF(C13=0,0,'Tabla Amortización Crec'!X19+'Tabla Amortización Crec'!V19+'Tabla Amortización Crec'!S19+'Tabla Amortización Crec'!Q19)","v":133.04795380947147},10475.17030976434,null,994170.70518369577,10342.122355954869]
[7,{"$f":"'Tabla Amortización Crec'!C20","v":"2022-10-04"},994170.70518369577,{"$f":"IF(C14<=0,0,IF(C14<D13,C14,'Tabla Amortización Crec'!AB20))","v":1341.8034174930413},null,{"$f":"IF(C14<=0,0,'Tabla Amortización Crec'!AC20)","v":7373.4326916666678},8715.2361091597086,null,795.33656414695668,{"$f":"IF(P13<=0.01,0,'Tabla Amortización Crec'!R20)","v":346.56416666666667},{"$f":"IF(D14<=0,0,'Tabla Amortización Crec'!W20+'Tabla Amortización Crec'!U20)","v":185.98554464252993},299,{"$f":"IF(C14=0,0,'Tabla Amortización Crec'!X20+'Tabla Amortización Crec'!V20+'Tabla Amortización Crec'!S20+'Tabla Amortización Crec'!Q20)","v":133.04795380947147},10475.170338425334,null,992828.90176620276,10342.122384615863]
[8,{"$f":"'Tabla Amortización Crec'!C21","v":"2022-11-04"},992828.90176620276,{"$f":"IF(C15<=0,0,IF(C15<D14,C15,'Tabla Amortización Crec'!AB21))","v":1107.3792015256859},null,{"$f":"IF(C15<=0,0,'Tabla Amortización Crec'!AC21)","v":7608.9303752777787},8716.3095768034655,null,794.26312141296216,{"$f":"IF(P14<=0.01,0,'Tabla Amortización Crec'!R21)","v":346.56416666666667},{"$f":"IF(D15<=0,0,'Tabla Amortización Crec'!W21+'Tabla Amortización Crec'!U21)","v":185.98554464252993},299,{"$f":"IF(C15=0,0,'Tabla Amortización Crec'!X21+'Tabla Amortización Crec'!V21+'Tabla Amortización Crec'!S21+'Tabla Amortización Crec'!Q21)","v":133.04795380947147},10475.170363335095,null,991721.52256467706,10342.122409525624]
[9,{"$f":"'Tabla Amortización Crec'!C22","v":"2022-12-04"},991721.52256467706,{"$f":"IF(C16<=0,0,IF(C16<D15,C16,'Tabla Amortización Crec'!AB22))","v":1361.927534679312},null,{"$f":"IF(C16<=0,0,'Tabla Amortización Crec'!AC22)","v":7355.2679400000006},8717.1954746793126,null,793.37721805174169,{"$f":"IF(P15<=0.01,0,'Tabla Amortización Crec'!R22)","v":346.56416666666667},{"$f":"IF(D16<=0,0,'Tabla Amortización Crec'!W22+'Tabla Amortización Crec'!U22)","v":185.98554464252993},299,{"$f":"IF(C16=0,0,'Tabla Amortización Crec'!X22+'Tabla Amortización Crec'!V22+'Tabla Amortización Crec'!S22+'Tabla Amortización Crec'!Q22)","v":133.04795380947147},10475.170357849722,null,990359.59502999776,10342.12240404025]
[10,{"$f":"'Tabla Amortización Crec'!C23","v":"2023-01-04"},990359.59502999776,{"$f":"IF(C17<=0,0,IF(C17<D16,C17,'Tabla Amortización Crec'!AB23))","v":1128.279139373511},null,{"$f":"IF(C17<=0,0,'Tabla Amortización Crec'!AC23)","v":7590.0058578055559},8718.2849971790674,null,792.2876760239983,{"$f":"IF(P16<=0.01,0,'Tabla Amortización Crec'!R23)","v":346.56416666666667},{"$f":"IF(D17<=0,0,'Tabla Amortización Crec'!W23+'Tabla Amortización Crec'!U23)","v":185.98554464252993},299,{"$f":"IF(C17=0,0,'Tabla Amortización Crec'!X23+'Tabla Amortización Crec'!V23+'Tabla Amortización Crec'!S23+'Tabla Amortización Crec'!Q23)","v":133.04795380947147},10475.170338321734,null,989231.31589062419,10342.122384512262]
[11,{"$f":"'Tabla Amortización Crec'!C24","v":"2023-02-04"},989231.31589062419,{"$f":"IF(C18<=0,0,IF(C18<D17,C18,'Tabla Amortización Crec'!AB24))","v":1137.8287686448195},null,{"$f":"IF(C18<=0,0,'Tabla Amortización Crec'!AC24)","v":7581.3588452500017},8719.187613894821,null,791.38505271249937,{"$f":"IF(P17<=0.01,0,'Tabla Amortización Crec'!R24)","v":346.56416666666667},{"$f":"IF(D18<=0,0,'Tabla Amortización Crec'!W24+'Tabla Amortización Crec'!U24)","v":185.98554464252993},299,{"$f":"IF(C18=0,0,'Tabla Amortización Crec'!X24+'Tabla Amortización Crec'!V24+'Tabla Amortización Crec'!S24+'Tabla Amortización Crec'!Q24)","v":133.04795380947147},10475.170331725989,null,988093.48712197936,10342.122377916518]
[12,{"$f":"'Tabla Amortización Crec'!C25","v":"2023-03-04"},988093.48712197936,{"$f":"IF(C19<=0,0,IF(C19<D18,C19,'Tabla Amortización Crec'!AB25))","v":1880.2952278660127},null,{"$f":"IF(C19<=0,0,'Tabla Amortización Crec'!AC25)","v":6839.8026448888886},8720.0978727549009,null,790.47478969758356,{"$f":"IF(P18<=0.01,0,'Tabla Amortización Crec'!R25)","v":346.56416666666667},{"$f":"IF(D19<=0,0,'Tabla Amortización Crec'!W25+'Tabla Amortización Crec'!U25)","v":185.98554464252993},299,{"$f":"IF(C19=0,0,'Tabla Amortización Crec'!X25+'Tabla Amortización Crec'!V25+'Tabla Amortización Crec'!S25+'Tabla Amortización Crec'!Q25)","v":133.04795380947147},10475.170327571153,null,986213.19189411332,10342.122373761682]
[13,{"$f":"'Tabla Amortización Crec'!C26","v":"2023-04-04"},986213.19189411332,{"$f":"IF(C20<=0,0,IF(C20<D19,C20,'Tabla Amortización Crec'!AB26))","v":1382.1170071744818},null,{"$f":"IF(C20<=0,0,'Tabla Amortización Crec'!AC26)","v":7558.2282322777783},{"$f":"D20+F20","v":8940.345239452261},null,788.9705535152907,{"$f":"IF(P19<=0.01,0,'Tabla Amortización Crec'!R26)","v":346.56416666666667},{"$f":"IF(D20<=0,0,'Tabla Amortización Crec'!W26+'Tabla Amortización Crec'!U26)","v":188.12922773175893},299,{"$f":"IF(C20=0,0,'Tabla Amortización Crec'!X26+'Tabla Amortización Crec'!V26+'Tabla Amortización Crec'!S26+'Tabla Amortización Crec'!Q26)","v":133.3909431037481},{"$f":"G20+K20+J20+L20+M20+I20","v":10696.400130469727},{"$f":"(G20/G19)-1","v":2.5257442050679479E-2},984831.07488693879,10563.009187365979]
[14,{"$f":"'Tabla Amortización Crec'!C27","v":"2023-05-04"},984831.07488693879,{"$f":"IF(C21<=0,0,IF(C21<D20,C21,'Tabla Amortización Crec'!AB27))","v":1637.2872188016993},null,{"$f":"IF(C21<=0,0,'Tabla Amortización Crec'!AC27)","v":7304.1636950000011},8941.4509138017002,null,787.86485990955111,{"$f":"IF(P20<=0.01,0,'Tabla Amortización Crec'!R27)","v":346.56416666666667},{"$f":"IF(D21<=0,0,'Tabla Amortización Crec'!W27+'Tabla Amortización Crec'!U27)","v":188.12922773175893},299,{"$f":"IF(C21=0,0,'Tabla Amortización Crec'!X27+'Tabla Amortización Crec'!V27+'Tabla Amortización Crec'!S27+'Tabla Amortización Crec'!Q27)","v":133.3909431037481},10696.400111213425,null,983193.78766813711,10563.009168109676]
[15,{"$f":"'Tabla Amortización Crec'!C28","v":"2023-06-04"},983193.78766813711,{"$f":"IF(C22<=0,0,IF(C22<D21,C22,'Tabla Amortización Crec'!AB28))","v":1407.672909053787},null,{"$f":"IF(C22<=0,0,'Tabla Amortización Crec'!AC28)","v":7535.0878095277794},8942.7607185815668,null,786.55503013450982,{"$f":"IF(P21<=0.01,0,'Tabla Amortización Crec'!R28)","v":346.56416666666667},{"$f":"IF(D22<=0,0,'Tabla Amortización Crec'!W28+'Tabla Amortización Crec'!U28)","v":188.12922773175893},299,{"$f":"IF(C22=0,0,'Tabla Amortización Crec'!X28+'Tabla Amortización Crec'!V28+'Tabla Amortización Crec'!S28+'Tabla Amortización Crec'!Q28)","v":133.3909431037481},10696.400086218251,null,981786.11475908337,10563.009143114503]
[16,{"$f":"'Tabla Amortización Crec'!C29","v":"2023-07-04"},981786.11475908337,{"$f":"IF(C23<=0,0,IF(C23<D22,C23,'Tabla Amortización Crec'!AB29))","v":1662.3066411855784},null,{"$f":"IF(C23<=0,0,'Tabla Amortización Crec'!AC29)","v":7281.5802416666666},8943.8868828522445,null,785.42889180726672,{"$f":"IF(P22<=0.01,0,'Tabla Amortización Crec'!R29)","v":346.56416666666667},{"$f":"IF(D23<=0,0,'Tabla Amortización Crec'!W29+'Tabla Amortización Crec'!U29)","v":188.12922773175893},299,{"$f":"IF(C23=0,0,'Tabla Amortización Crec'!X29+'Tabla Amortización Crec'!V29+'Tabla Amortización Crec'!S29+'Tabla Amortización Crec'!Q29)","v":133.3909431037481},10696.400112161686,null,980123.80811789783,10563.009169057937]
[17,{"$f":"'Tabla Amortización Crec'!C30","v":"2023-08-04"},980123.80811789783,{"$f":"IF(C24<=0,0,IF(C24<D23,C24,'Tabla Amortización Crec'!AB30))","v":1433.6568748581717},null,{"$f":"IF(C24<=0,0,'Tabla Amortización Crec'!AC30)","v":7511.5598239166675},8945.2166987748387,null,784.09904649431826,{"$f":"IF(P23<=0.01,0,'Tabla Amortización Crec'!R30)","v":346.56416666666667},{"$f":"IF(D24<=0,0,'Tabla Amortización Crec'!W30+'Tabla Amortización Crec'!U30)","v":188.12922773175893},299,{"$f":"IF(C24=0,0,'Tabla Amortización Crec'!X30+'Tabla Amortización Crec'!V30+'Tabla Amortización Crec'!S30+'Tabla Amortización Crec'!Q30)","v":133.3909431037481},10696.400082771332,null,978690.15124303964,10563.009139667583]
[18,{"$f":"'Tabla Amortización Crec'!C31","v":"2023-09-04"},978690.15124303964,{"$f":"IF(C25<=0,0,IF(C25<D24,C25,'Tabla Amortización Crec'!AB31))","v":1445.7911873517637},null,{"$f":"IF(C25<=0,0,'Tabla Amortización Crec'!AC31)","v":7500.572412972223},8946.3636003239862,null,782.95212099443177,{"$f":"IF(P24<=0.01,0,'Tabla Amortización Crec'!R31)","v":346.56416666666667},{"$f":"IF(D25<=0,0,'Tabla Amortización Crec'!W31+'Tabla Amortización Crec'!U31)","v":188.12922773175893},299,{"$f":"IF(C25=0,0,'Tabla Amortización Crec'!X31+'Tabla Amortización Crec'!V31+'Tabla Amortización Crec'!S31+'Tabla Amortización Crec'!Q31)","v":133.3909431037481},10696.400058820593,null,977244.36005568784,10563.009115716844]
[19,{"$f":"'Tabla Amortización Crec'!C32","v":"2023-10-04"},977244.36005568784,{"$f":"IF(C26<=0,0,IF(C26<D25,C26,'Tabla Amortización Crec'!AB32))","v":1699.624725665145},null,{"$f":"IF(C26<=0,0,'Tabla Amortización Crec'!AC32)","v":7247.8955216666673},8947.5202473318132,null,781.79548804455032,{"$f":"IF(P25<=0.01,0,'Tabla Amortización Crec'!R32)","v":346.56416666666667},{"$f":"IF(D26<=0,0,'Tabla Amortización Crec'!W32+'Tabla Amortización Crec'!U32)","v":188.12922773175893},299,{"$f":"IF(C26=0,0,'Tabla Amortización Crec'!X32+'Tabla Amortización Crec'!V32+'Tabla Amortización Crec'!S32+'Tabla Amortización Crec'!Q32)","v":133.3909431037481},10696.400072878538,null,975544.73533002264,10563.009129774789]
[20,{"$f":"'Tabla Amortización Crec'!C33","v":"2023-11-04"},975544.73533002264,{"$f":"IF(C27<=0,0,IF(C27<D26,C27,'Tabla Amortización Crec'!AB33))","v":1472.4136381488822},null,{"$f":"IF(C27<=0,0,'Tabla Amortización Crec'!AC33)","v":7476.4663402222222},8948.8799783711038,null,780.43578826401813,{"$f":"IF(P26<=0.01,0,'Tabla Amortización Crec'!R33)","v":346.56416666666667},{"$f":"IF(D27<=0,0,'Tabla Amortización Crec'!W33+'Tabla Amortización Crec'!U33)","v":188.12922773175893},299,{"$f":"IF(C27=0,0,'Tabla Amortización Crec'!X33+'Tabla Amortización Crec'!V33+'Tabla Amortización Crec'!S33+'Tabla Amortización Crec'!Q33)","v":133.3909431037481},10696.400104137296,null,974072.32169187372,10563.009161033548]
[21,{"$f":"'Tabla Amortización Crec'!C34","v":"2023-12-04"},974072.32169187372,{"$f":"IF(C28<=0,0,IF(C28<D27,C28,'Tabla Amortización Crec'!AB34))","v":1725.688307554484},null,{"$f":"IF(C28<=0,0,'Tabla Amortización Crec'!AC34)","v":7224.369632500001},8950.0579400544848,null,779.25785735349905,{"$f":"IF(P27<=0.01,0,'Tabla Amortización Crec'!R34)","v":346.56416666666667},{"$f":"IF(D28<=0,0,'Tabla Amortización Crec'!W34+'Tabla Amortización Crec'!U34)","v":188.12922773175893},299,{"$f":"IF(C28=0,0,'Tabla Amortización Crec'!X34+'Tabla Amortización Crec'!V34+'Tabla Amortización Crec'!S34+'Tabla Amortización Crec'!Q34)","v":133.3909431037481},10696.400134910158,null,972346.63338431926,10563.00919180641]
[22,{"$f":"'Tabla Amortización Crec'!C35","v":"2024-01-04"},972346.63338431926,{"$f":"IF(C29<=0,0,IF(C29<D28,C29,'Tabla Amortización Crec'!AB35))","v":1499.4820176726562},null,{"$f":"IF(C29<=0,0,'Tabla Amortización Crec'!AC35)","v":7451.956457166667},8951.438474839324,null,777.87730670745543,{"$f":"IF(P28<=0.01,0,'Tabla Amortización Crec'!R35)","v":346.56416666666667},{"$f":"IF(D29<=0,0,'Tabla Amortización Crec'!W35+'Tabla Amortización Crec'!U35)","v":188.12922773175893},299,{"$f":"IF(C29=0,0,'Tabla Amortización Crec'!X35+'Tabla Amortización Crec'!V35+'Tabla Amortización Crec'!S35+'Tabla Amortización Crec'!Q35)","v":133.3909431037481},10696.400119048954,null,970847.15136664663,10563.009175945206]
[23,{"$f":"'Tabla Amortización Crec'!C36","v":"2024-02-04"},970847.15136664663,{"$f":"IF(C30<=0,0,IF(C30<D29,C30,'Tabla Amortización Crec'!AB36))","v":1512.173466861123},null,{"$f":"IF(C30<=0,0,'Tabla Amortización Crec'!AC36)","v":7440.4646090555561},8952.6380759166786,null,776.67772109331736,{"$f":"IF(P29<=0.01,0,'Tabla Amortización Crec'!R36)","v":346.56416666666667},{"$f":"IF(D30<=0,0,'Tabla Amortización Crec'!W36+'Tabla Amortización Crec'!U36)","v":188.12922773175893},299,{"$f":"IF(C30=0,0,'Tabla Amortización Crec'!X36+'Tabla Amortización Crec'!V36+'Tabla Amortización Crec'!S36+'Tabla Amortización Crec'!Q36)","v":133.3909431037481},10696.400134512171,null,969334.9778997855,10563.009191408422]
[24,{"$f":"'Tabla Amortización Crec'!C37","v":"2024-03-04"},969334.9778997855,{"$f":"IF(C31<=0,0,IF(C31<D30,C31,'Tabla Amortización Crec'!AB37))","v":2004.2546296935898},null,{"$f":"IF(C31<=0,0,'Tabla Amortización Crec'!AC37)","v":6949.5932154722232},8953.847845165812,null,775.46798231982848,{"$f":"IF(P30<=0.01,0,'Tabla Amortización Crec'!R37)","v":346.56416666666667},{"$f":"IF(D31<=0,0,'Tabla Amortización Crec'!W37+'Tabla Amortización Crec'!U37)","v":188.12922773175893},299,{"$f":"IF(C31=0,0,'Tabla Amortización Crec'!X37+'Tabla Amortización Crec'!V37+'Tabla Amortización Crec'!S37+'Tabla Amortización Crec'!Q37)","v":133.3909431037481},10696.400164987816,null,967330.72327009193,10563.009221884067]
[25,{"$f":"'Tabla Amortización Crec'!C38","v":"2024-04-04"},967330.72327009193,{"$f":"IF(C32<=0,0,IF(C32<D31,C32,'Tabla Amortización Crec'!AB38))","v":1765.710388890951},null,{"$f":"IF(C32<=0,0,'Tabla Amortización Crec'!AC38)","v":7413.5151568888896},9179.2255457798401,null,773.86457861607357,{"$f":"IF(P31<=0.01,0,'Tabla Amortización Crec'!R38)","v":346.56416666666667},{"$f":"IF(D32<=0,0,'Tabla Amortización Crec'!W38+'Tabla Amortización Crec'!U38)","v":190.32221553204016},299,{"$f":"IF(C32=0,0,'Tabla Amortización Crec'!X38+'Tabla Amortización Crec'!V38+'Tabla Amortización Crec'!S38+'Tabla Amortización Crec'!Q38)","v":133.74182115179309},10922.718327746414,{"$f":"(G32/G31)-1","v":2.5171044283012867E-2},965565.01288120099,10788.976506594621]
[26,{"$f":"'Tabla Amortización Crec'!C39","v":"2024-05-04"},965565.01288120099,{"$f":"IF(C33<=0,0,IF(C33<D32,C33,'Tabla Amortización Crec'!AB39))","v":2019.3642936169999},null,{"$f":"IF(C33<=0,0,'Tabla Amortización Crec'!AC39)","v":7161.2738241666684},9180.6381177836683,null,772.45201030496094,{"$f":"IF(P32<=0.01,0,'Tabla Amortización Crec'!R39)","v":346.56416666666667},{"$f":"IF(D33<=0,0,'Tabla Amortización Crec'!W39+'Tabla Amortización Crec'!U39)","v":190.32221553204022},299,{"$f":"IF(C33=0,0,'Tabla Amortización Crec'!X39+'Tabla Amortización Crec'!V39+'Tabla Amortización Crec'!S39+'Tabla Amortización Crec'!Q39)","v":133.74182115179309},10922.71833143913,null,963545.64858758403,10788.976510287337]
[27,{"$f":"'Tabla Amortización Crec'!C40","v":"2024-06-04"},963545.64858758403,{"$f":"IF(C34<=0,0,IF(C34<D33,C34,'Tabla Amortización Crec'!AB40))","v":1797.7468404398451},null,{"$f":"IF(C34<=0,0,'Tabla Amortización Crec'!AC40)","v":7384.5068009722245},9182.2536414120696,null,770.83651887006727,{"$f":"IF(P33<=0.01,0,'Tabla Amortización Crec'!R40)","v":346.56416666666667},{"$f":"IF(D34<=0,0,'Tabla Amortización Crec'!W40+'Tabla Amortización Crec'!U40)","v":190.32221553204016},299,{"$f":"IF(C34=0,0,'Tabla Amortización Crec'!X40+'Tabla Amortización Crec'!V40+'Tabla Amortización Crec'!S40+'Tabla Amortización Crec'!Q40)","v":133.74182115179309},10922.718363632637,null,961747.90174714418,10788.976542480845]
[28,{"$f":"'Tabla Amortización Crec'!C41","v":"2024-07-04"},961747.90174714418,{"$f":"IF(C35<=0,0,IF(C35<D34,C35,'Tabla Amortización Crec'!AB41))","v":2050.7282234351669},null,{"$f":"IF(C35<=0,0,'Tabla Amortización Crec'!AC41)","v":7132.9635916666675},9183.6918151018344,null,769.39832139771534,{"$f":"IF(P34<=0.01,0,'Tabla Amortización Crec'!R41)","v":346.56416666666667},{"$f":"IF(D35<=0,0,'Tabla Amortización Crec'!W41+'Tabla Amortización Crec'!U41)","v":190.32221553204016},299,{"$f":"IF(C35=0,0,'Tabla Amortización Crec'!X41+'Tabla Amortización Crec'!V41+'Tabla Amortización Crec'!S41+'Tabla Amortización Crec'!Q41)","v":133.74182115179309},10922.718339850049,null,959697.17352370906,10788.976518698257]
[29,{"$f":"'Tabla Amortización Crec'!C42","v":"2024-08-04"},959697.17352370906,{"$f":"IF(C36<=0,0,IF(C36<D35,C36,'Tabla Amortización Crec'!AB42))","v":1830.3199057721415},null,{"$f":"IF(C36<=0,0,'Tabla Amortización Crec'!AC42)","v":7355.0124778611116},9185.3323836332529,null,767.75773881896725,{"$f":"IF(P35<=0.01,0,'Tabla Amortización Crec'!R42)","v":346.56416666666667},{"$f":"IF(D36<=0,0,'Tabla Amortización Crec'!W42+'Tabla Amortización Crec'!U42)","v":190.32221553204016},299,{"$f":"IF(C36=0,0,'Tabla Amortización Crec'!X42+'Tabla Amortización Crec'!V42+'Tabla Amortización Crec'!S42+'Tabla Amortización Crec'!Q42)","v":133.74182115179309},10922.71832580272,null,957866.85361793695,10788.976504650927]
[30,{"$f":"'Tabla Amortización Crec'!C43","v":"2024-09-04"},957866.85361793695,{"$f":"IF(C37<=0,0,IF(C37<D36,C37,'Tabla Amortización Crec'!AB43))","v":1845.8115300857182},null,{"$f":"IF(C37<=0,0,'Tabla Amortización Crec'!AC43)","v":7340.9851087500001},9186.7966388357181,null,766.29348289434961,{"$f":"IF(P36<=0.01,0,'Tabla Amortización Crec'!R43)","v":346.56416666666667},{"$f":"IF(D37<=0,0,'Tabla Amortización Crec'!W43+'Tabla Amortización Crec'!U43)","v":190.32221553204016},299,{"$f":"IF(C37=0,0,'Tabla Amortización Crec'!X43+'Tabla Amortización Crec'!V43+'Tabla Amortización Crec'!S43+'Tabla Amortización Crec'!Q43)","v":133.74182115179309},10922.718325080567,null,956021.04208785121,10788.976503928774]
[31,{"$f":"'Tabla Amortización Crec'!C44","v":"2024-10-04"},956021.04208785121,{"$f":"IF(C38<=0,0,IF(C38<D37,C38,'Tabla Amortización Crec'!AB44))","v":2097.7839203023568},null,{"$f":"IF(C38<=0,0,'Tabla Amortización Crec'!AC44)","v":7090.4893800000009},9188.2733003023568,null,764.81683367028097,{"$f":"IF(P37<=0.01,0,'Tabla Amortización Crec'!R44)","v":346.56416666666667},{"$f":"IF(D38<=0,0,'Tabla Amortización Crec'!W44+'Tabla Amortización Crec'!U44)","v":190.32221553204016},299,{"$f":"IF(C38=0,0,'Tabla Amortización Crec'!X44+'Tabla Amortización Crec'!V44+'Tabla Amortización Crec'!S44+'Tabla Amortización Crec'!Q44)","v":133.74182115179309},10922.718337323136,null,953923.2581675488,10788.976516171344]
[32,{"$f":"'Tabla Amortización Crec'!C45","v":"2024-11-04"},953923.2581675488,{"$f":"IF(C39<=0,0,IF(C39<D38,C39,'Tabla Amortización Crec'!AB45))","v":1879.1896838005316},null,{"$f":"IF(C39<=0,0,'Tabla Amortización Crec'!AC45)","v":7310.7618731666671},9189.9515569671985,null,763.13860653403913,{"$f":"IF(P38<=0.01,0,'Tabla Amortización Crec'!R45)","v":346.56416666666667},{"$f":"IF(D39<=0,0,'Tabla Amortización Crec'!W45+'Tabla Amortización Crec'!U45)","v":190.32221553204016},299,{"$f":"IF(C39=0,0,'Tabla Amortización Crec'!X45+'Tabla Amortización Crec'!V45+'Tabla Amortización Crec'!S45+'Tabla Amortización Crec'!Q45)","v":133.74182115179309},10922.718366851737,null,952044.06848374824,10788.976545699945]
[33,{"$f":"'Tabla Amortización Crec'!C46","v":"2024-12-04"},952044.06848374824,{"$f":"IF(C40<=0,0,IF(C40<D39,C40,'Tabla Amortización Crec'!AB46))","v":2130.4613867494022},null,{"$f":"IF(C40<=0,0,'Tabla Amortización Crec'!AC46)","v":7060.9935191666673},9191.454905916069,null,761.63525478699864,{"$f":"IF(P39<=0.01,0,'Tabla Amortización Crec'!R46)","v":346.56416666666667},{"$f":"IF(D40<=0,0,'Tabla Amortización Crec'!W46+'Tabla Amortización Crec'!U46)","v":190.32221553204016},299,{"$f":"IF(C40=0,0,'Tabla Amortización Crec'!X46+'Tabla Amortización Crec'!V46+'Tabla Amortización Crec'!S46+'Tabla Amortización Crec'!Q46)","v":133.74182115179309},10922.718364053568,null,949913.60709699884,10788.976542901775]
[34,{"$f":"'Tabla Amortización Crec'!C47","v":"2025-01-04"},949913.60709699884,{"$f":"IF(C41<=0,0,IF(C41<D40,C41,'Tabla Amortización Crec'!AB47))","v":1913.1269249448801},null,{"$f":"IF(C41<=0,0,'Tabla Amortización Crec'!AC47)","v":7280.0323610833339},9193.1592860282144,null,759.93088567759912,{"$f":"IF(P40<=0.01,0,'Tabla Amortización Crec'!R47)","v":346.56416666666667},{"$f":"IF(D41<=0,0,'Tabla Amortización Crec'!W47+'Tabla Amortización Crec'!U47)","v":190.32221553204016},299,{"$f":"IF(C41=0,0,'Tabla Amortización Crec'!X47+'Tabla Amortización Crec'!V47+'Tabla Amortización Crec'!S47+'Tabla Amortización Crec'!Q47)","v":133.74182115179309},10922.718375056313,null,948000.48017205391,10788.97655390452]
[35,{"$f":"'Tabla Amortización Crec'!C48","v":"2025-02-04"},948000.48017205391,{"$f":"IF(C42<=0,0,IF(C42<D41,C42,'Tabla Amortización Crec'!AB48))","v":1929.3194186679559},null,{"$f":"IF(C42<=0,0,'Tabla Amortización Crec'!AC48)","v":7265.3703453333337},9194.6897640012903,null,758.40038413764319,{"$f":"IF(P41<=0.01,0,'Tabla Amortización Crec'!R48)","v":346.56416666666667},{"$f":"IF(D42<=0,0,'Tabla Amortización Crec'!W48+'Tabla Amortización Crec'!U48)","v":190.32221553204016},299,{"$f":"IF(C42=0,0,'Tabla Amortización Crec'!X48+'Tabla Amortización Crec'!V48+'Tabla Amortización Crec'!S48+'Tabla Amortización Crec'!Q48)","v":133.74182115179309},10922.718351489433,null,946071.16075338598,10788.976530337641]
[36,{"$f":"'Tabla Amortización Crec'!C49","v":"2025-03-04"},946071.16075338598,{"$f":"IF(C43<=0,0,IF(C43<D42,C43,'Tabla Amortización Crec'!AB49))","v":2647.3184080841647},null,{"$f":"IF(C43<=0,0,'Tabla Amortización Crec'!AC49)","v":6548.9148075555568},9196.2332156397206,null,756.85692860270888,{"$f":"IF(P42<=0.01,0,'Tabla Amortización Crec'!R49)","v":346.56416666666667},{"$f":"IF(D43<=0,0,'Tabla Amortización Crec'!W49+'Tabla Amortización Crec'!U49)","v":190.32221553204016},299,{"$f":"IF(C43=0,0,'Tabla Amortización Crec'!X49+'Tabla Amortización Crec'!V49+'Tabla Amortización Crec'!S49+'Tabla Amortización Crec'!Q49)","v":133.74182115179309},10922.718347592929,null,943423.84234530176,10788.976526441136]
[37,{"$f":"'Tabla Amortización Crec'!C50","v":"2025-04-04"},943423.84234530176,{"$f":"IF(C44<=0,0,IF(C44<D43,C44,'Tabla Amortización Crec'!AB50))","v":2196.9766461557947},null,{"$f":"IF(C44<=0,0,'Tabla Amortización Crec'!AC50)","v":7230.2954848888903},9427.272131044685,null,754.73907387624149,{"$f":"IF(P43<=0.01,0,'Tabla Amortización Crec'!R50)","v":346.56416666666667},{"$f":"IF(D44<=0,0,'Tabla Amortización Crec'!W50+'Tabla Amortización Crec'!U50)","v":192.56564205172788},299,{"$f":"IF(C44=0,0,'Tabla Amortización Crec'!X50+'Tabla Amortización Crec'!V50+'Tabla Amortización Crec'!S50+'Tabla Amortización Crec'!Q50)","v":134.10076939494314},11154.241783034264,{"$f":"(G44/G43)-1","v":2.5123211861574513E-2},941226.86569914594,11020.141013639321]
[38,{"$f":"'Tabla Amortización Crec'!C51","v":"2025-05-04"},941226.86569914594,{"$f":"IF(C45<=0,0,IF(C45<D44,C45,'Tabla Amortización Crec'!AB51))","v":2448.2638097337417},null,{"$f":"IF(C45<=0,0,'Tabla Amortización Crec'!AC51)","v":6980.7658783333336},9429.0296880670758,null,752.98149255931685,{"$f":"IF(P44<=0.01,0,'Tabla Amortización Crec'!R51)","v":346.56416666666667},{"$f":"IF(D45<=0,0,'Tabla Amortización Crec'!W51+'Tabla Amortización Crec'!U51)","v":192.56564205172791},299,{"$f":"IF(C45=0,0,'Tabla Amortización Crec'!X51+'Tabla Amortización Crec'!V51+'Tabla Amortización Crec'!S51+'Tabla Amortización Crec'!Q51)","v":134.10076939494314},11154.24175873973,null,938778.60188941215,11020.140989344787]
[39,{"$f":"'Tabla Amortización Crec'!C52","v":"2025-06-04"},938778.60188941215,{"$f":"IF(C46<=0,0,IF(C46<D45,C46,'Tabla Amortización Crec'!AB52))","v":2236.2934452366162},null,{"$f":"IF(C46<=0,0,'Tabla Amortización Crec'!AC52)","v":7194.6948816666663},9430.9883269032835,null,751.02288151152982,{"$f":"IF(P45<=0.01,0,'Tabla Amortización Crec'!R52)","v":346.56416666666667},{"$f":"IF(D46<=0,0,'Tabla Amortización Crec'!W52+'Tabla Amortización Crec'!U52)","v":192.56564205172791},299,{"$f":"IF(C46=0,0,'Tabla Amortización Crec'!X52+'Tabla Amortización Crec'!V52+'Tabla Amortización Crec'!S52+'Tabla Amortización Crec'!Q52)","v":134.10076939494314},11154.241786528151,null,936542.30844417552,11020.141017133208]
[40,{"$f":"'Tabla Amortización Crec'!C53","v":"2025-07-04"},936542.30844417552,{"$f":"IF(C47<=0,0,IF(C47<D46,C47,'Tabla Amortización Crec'!AB53))","v":2486.7552551787489},null,{"$f":"IF(C47<=0,0,'Tabla Amortización Crec'!AC53)","v":6946.0221325000011},9432.7773876787505,null,749.23384675534044,{"$f":"IF(P46<=0.01,0,'Tabla Amortización Crec'!R53)","v":346.56416666666667},{"$f":"IF(D47<=0,0,'Tabla Amortización Crec'!W53+'Tabla Amortización Crec'!U53)","v":192.56564205172791},299,{"$f":"IF(C47=0,0,'Tabla Amortización Crec'!X53+'Tabla Amortización Crec'!V53+'Tabla Amortización Crec'!S53+'Tabla Amortización Crec'!Q53)","v":134.10076939494314},11154.241812547429,null,934055.55318899674,11020.141043152486]
[41,{"$f":"'Tabla Amortización Crec'!C54","v":"2025-08-04"},934055.55318899674,{"$f":"IF(C48<=0,0,IF(C48<D47,C48,'Tabla Amortización Crec'!AB54))","v":2276.2688046537442},null,{"$f":"IF(C48<=0,0,'Tabla Amortización Crec'!AC54)","v":7158.4979512500004},9434.7667559037436,null,747.24444255119749,{"$f":"IF(P47<=0.01,0,'Tabla Amortización Crec'!R54)","v":346.56416666666667},{"$f":"IF(D48<=0,0,'Tabla Amortización Crec'!W54+'Tabla Amortización Crec'!U54)","v":192.56564205172788},299,{"$f":"IF(C48=0,0,'Tabla Amortización Crec'!X54+'Tabla Amortización Crec'!V54+'Tabla Amortización Crec'!S54+'Tabla Amortización Crec'!Q54)","v":134.10076939494314},11154.241776568279,null,931779.28438434296,11020.141007173335]
[42,{"$f":"'Tabla Amortización Crec'!C55","v":"2025-09-04"},931779.28438434296,{"$f":"IF(C49<=0,0,IF(C49<D48,C49,'Tabla Amortización Crec'!AB55))","v":2295.534890897577},null,{"$f":"IF(C49<=0,0,'Tabla Amortización Crec'!AC55)","v":7141.0528708888887},9436.5877617864662,null,745.42342750747446,{"$f":"IF(P48<=0.01,0,'Tabla Amortización Crec'!R55)","v":346.56416666666667},{"$f":"IF(D49<=0,0,'Tabla Amortización Crec'!W55+'Tabla Amortización Crec'!U55)","v":192.56564205172791},299,{"$f":"IF(C49=0,0,'Tabla Amortización Crec'!X55+'Tabla Amortización Crec'!V55+'Tabla Amortización Crec'!S55+'Tabla Amortización Crec'!Q55)","v":134.10076939494314},11154.241767407279,null,929483.74949344539,11020.140998012335]
[43,{"$f":"'Tabla Amortización Crec'!C56","v":"2025-10-04"},929483.74949344539,{"$f":"IF(C50<=0,0,IF(C50<D49,C50,'Tabla Amortización Crec'!AB56))","v":2544.7530812239152},null,{"$f":"IF(C50<=0,0,'Tabla Amortización Crec'!AC56)","v":6893.6711458333339},9438.4242270572486,null,743.58699959475643,{"$f":"IF(P49<=0.01,0,'Tabla Amortización Crec'!R56)","v":346.56416666666667},{"$f":"IF(D50<=0,0,'Tabla Amortización Crec'!W56+'Tabla Amortización Crec'!U56)","v":192.56564205172791},299,{"$f":"IF(C50=0,0,'Tabla Amortización Crec'!X56+'Tabla Amortización Crec'!V56+'Tabla Amortización Crec'!S56+'Tabla Amortización Crec'!Q56)","v":134.10076939494314},11154.241804765343,null,926938.99641222146,11020.1410353704]
[44,{"$f":"'Tabla Amortización Crec'!C57","v":"2025-11-04"},926938.99641222146,{"$f":"IF(C51<=0,0,IF(C51<D50,C51,'Tabla Amortización Crec'!AB57))","v":2336.5025504838386},null,{"$f":"IF(C51<=0,0,'Tabla Amortización Crec'!AC57)","v":7103.9575027777792},9440.4600532616168,null,741.55119712977717,{"$f":"IF(P50<=0.01,0,'Tabla Amortización Crec'!R57)","v":346.56416666666667},{"$f":"IF(D51<=0,0,'Tabla Amortización Crec'!W57+'Tabla Amortización Crec'!U57)","v":192.56564205172791},299,{"$f":"IF(C51=0,0,'Tabla Amortización Crec'!X57+'Tabla Amortización Crec'!V57+'Tabla Amortización Crec'!S57+'Tabla Amortización Crec'!Q57)","v":134.10076939494314},11154.241828504732,null,924602.49386173766,11020.141059109788]
[45,{"$f":"'Tabla Amortización Crec'!C58","v":"2025-12-04"},924602.49386173766,{"$f":"IF(C52<=0,0,IF(C52<D51,C52,'Tabla Amortización Crec'!AB58))","v":2584.8607316644461},null,{"$f":"IF(C52<=0,0,'Tabla Amortización Crec'!AC58)","v":6857.4685416666671},9442.3292733311137,null,739.68199508939017,{"$f":"IF(P51<=0.01,0,'Tabla Amortización Crec'!R58)","v":346.56416666666667},{"$f":"IF(D52<=0,0,'Tabla Amortización Crec'!W58+'Tabla Amortización Crec'!U58)","v":192.56564205172791},299,{"$f":"IF(C52=0,0,'Tabla Amortización Crec'!X58+'Tabla Amortización Crec'!V58+'Tabla Amortización Crec'!S58+'Tabla Amortización Crec'!Q58)","v":134.10076939494314},11154.241846533841,null,922017.6331300732,11020.141077138898]
[46,{"$f":"'Tabla Amortización Crec'!C59","v":"2026-01-04"},922017.6331300732,{"$f":"IF(C53<=0,0,IF(C53<D52,C53,'Tabla Amortización Crec'!AB59))","v":2378.1564224857993},null,{"$f":"IF(C53<=0,0,'Tabla Amortización Crec'!AC59)","v":7066.2407465555561},9444.3971690413564,null,737.61410650405855,{"$f":"IF(P52<=0.01,0,'Tabla Amortización Crec'!R59)","v":346.56416666666667},{"$f":"IF(D53<=0,0,'Tabla Amortización Crec'!W59+'Tabla Amortización Crec'!U59)","v":192.56564205172791},299,{"$f":"IF(C53=0,0,'Tabla Amortización Crec'!X59+'Tabla Amortización Crec'!V59+'Tabla Amortización Crec'!S59+'Tabla Amortización Crec'!Q59)","v":134.10076939494314},11154.241853658754,null,919639.47670758737,11020.141084263811]
[47,{"$f":"'Tabla Amortización Crec'!C60","v":"2026-02-04"},919639.47670758737,{"$f":"IF(C54<=0,0,IF(C54<D53,C54,'Tabla Amortización Crec'!AB60))","v":2398.2848742061165},null,{"$f":"IF(C54<=0,0,'Tabla Amortización Crec'!AC60)","v":7048.0147925555566},9446.2996667616735,null,735.71158136606994,{"$f":"IF(P53<=0.01,0,'Tabla Amortización Crec'!R60)","v":346.56416666666667},{"$f":"IF(D54<=0,0,'Tabla Amortización Crec'!W60+'Tabla Amortización Crec'!U60)","v":192.56564205172791},299,{"$f":"IF(C54=0,0,'Tabla Amortización Crec'!X60+'Tabla Amortización Crec'!V60+'Tabla Amortización Crec'!S60+'Tabla Amortización Crec'!Q60)","v":134.10076939494314},11154.241826241081,null,917241.19183338131,11020.141056846138]
[48,{"$f":"'Tabla Amortización Crec'!C61","v":"2026-03-04"},917241.19183338131,{"$f":"IF(C55<=0,0,IF(C55<D54,C55,'Tabla Amortización Crec'!AB61))","v":3098.8709081817246},null,{"$f":"IF(C55<=0,0,'Tabla Amortización Crec'!AC61)","v":6349.347417777778},9448.2183259595022,null,733.79295346670506,{"$f":"IF(P54<=0.01,0,'Tabla Amortización Crec'!R61)","v":346.56416666666667},{"$f":"IF(D55<=0,0,'Tabla Amortización Crec'!W61+'Tabla Amortización Crec'!U61)","v":192.56564205172791},299,{"$f":"IF(C55=0,0,'Tabla Amortización Crec'!X61+'Tabla Amortización Crec'!V61+'Tabla Amortización Crec'!S61+'Tabla Amortización Crec'!Q61)","v":134.10076939494314},11154.241857539546,null,914142.32092519954,11020.141088144603]
[49,{"$f":"'Tabla Amortización Crec'!C62","v":"2026-04-04"},914142.32092519954,{"$f":"IF(C56<=0,0,IF(C56<D55,C56,'Tabla Amortización Crec'!AB62))","v":2678.9984480797443},null,{"$f":"IF(C56<=0,0,'Tabla Amortización Crec'!AC62)","v":7005.8852457500016},9684.8836938297463,null,731.31385674015974,{"$f":"IF(P55<=0.01,0,'Tabla Amortización Crec'!R62)","v":346.56416666666667},{"$f":"IF(D56<=0,0,'Tabla Amortización Crec'!W62+'Tabla Amortización Crec'!U62)","v":194.86066738136844},299,{"$f":"IF(C56=0,0,'Tabla Amortización Crec'!X62+'Tabla Amortización Crec'!V62+'Tabla Amortización Crec'!S62+'Tabla Amortización Crec'!Q62)","v":134.46797344768561},11391.090358065627,{"$f":"(G56/G55)-1","v":2.5048676872759579E-2},911463.32247711974,11256.622384617942]
[50,{"$f":"'Tabla Amortización Crec'!C63","v":"2026-05-04"},911463.32247711974,{"$f":"IF(C57<=0,0,IF(C57<D56,C57,'Tabla Amortización Crec'!AB63))","v":2927.0071813346408},null,{"$f":"IF(C57<=0,0,'Tabla Amortización Crec'!AC63)","v":6760.0196975000008},9687.026878834642,null,729.17065798169585,{"$f":"IF(P56<=0.01,0,'Tabla Amortización Crec'!R63)","v":346.56416666666667},{"$f":"IF(D57<=0,0,'Tabla Amortización Crec'!W63+'Tabla Amortización Crec'!U63)","v":194.86066738136844},299,{"$f":"IF(C57=0,0,'Tabla Amortización Crec'!X63+'Tabla Amortización Crec'!V63+'Tabla Amortización Crec'!S63+'Tabla Amortización Crec'!Q63)","v":134.46797344768561},11391.090344312059,null,908536.31529578508,11256.622370864374]
[51,{"$f":"'Tabla Amortización Crec'!C64","v":"2026-06-04"},908536.31529578508,{"$f":"IF(C58<=0,0,IF(C58<D57,C58,'Tabla Amortización Crec'!AB64))","v":2726.4470568375955},null,{"$f":"IF(C58<=0,0,'Tabla Amortización Crec'!AC64)","v":6962.9214080000002},9689.3684648375965,null,726.82905223662817,{"$f":"IF(P57<=0.01,0,'Tabla Amortización Crec'!R64)","v":346.56416666666667},{"$f":"IF(D58<=0,0,'Tabla Amortización Crec'!W64+'Tabla Amortización Crec'!U64)","v":194.86066738136844},299,{"$f":"IF(C58=0,0,'Tabla Amortización Crec'!X64+'Tabla Amortización Crec'!V64+'Tabla Amortización Crec'!S64+'Tabla Amortización Crec'!Q64)","v":134.46797344768561},11391.090324569945,null,905809.86823894747,11256.62235112226]
[52,{"$f":"'Tabla Amortización Crec'!C65","v":"2026-07-04"},905809.86823894747,{"$f":"IF(C59<=0,0,IF(C59<D58,C59,'Tabla Amortización Crec'!AB65))","v":2973.4597303249589},null,{"$f":"IF(C59<=0,0,'Tabla Amortización Crec'!AC65)","v":6718.0898691666671},9691.5495994916255,null,724.64789459115798,{"$f":"IF(P58<=0.01,0,'Tabla Amortización Crec'!R65)","v":346.56416666666667},{"$f":"IF(D59<=0,0,'Tabla Amortización Crec'!W65+'Tabla Amortización Crec'!U65)","v":194.86066738136844},299,{"$f":"IF(C59=0,0,'Tabla Amortización Crec'!X65+'Tabla Amortización Crec'!V65+'Tabla Amortización Crec'!S65+'Tabla Amortización Crec'!Q65)","v":134.46797344768561},11391.090301578504,null,902836.40850862255,11256.622328130819]
[53,{"$f":"'Tabla Amortización Crec'!C66","v":"2026-08-04"},902836.40850862255,{"$f":"IF(C60<=0,0,IF(C60<D59,C60,'Tabla Amortización Crec'!AB66))","v":2774.6904345611624},null,{"$f":"IF(C60<=0,0,'Tabla Amortización Crec'!AC66)","v":6919.2379310833339},9693.9283656444968,null,722.26912680689804,{"$f":"IF(P59<=0.01,0,'Tabla Amortización Crec'!R66)","v":346.56416666666667},{"$f":"IF(D60<=0,0,'Tabla Amortización Crec'!W66+'Tabla Amortización Crec'!U66)","v":194.86066738136844},299,{"$f":"IF(C60=0,0,'Tabla Amortización Crec'!X66+'Tabla Amortización Crec'!V66+'Tabla Amortización Crec'!S66+'Tabla Amortización Crec'!Q66)","v":134.46797344768561},11391.090299947115,null,900061.71807406144,11256.62232649943]
[54,{"$f":"'Tabla Amortización Crec'!C67","v":"2026-09-04"},900061.71807406144,{"$f":"IF(C61<=0,0,IF(C61<D60,C61,'Tabla Amortización Crec'!AB67))","v":2798.1751061003501},null,{"$f":"IF(C61<=0,0,'Tabla Amortización Crec'!AC67)","v":6897.9730152222228},9696.1481213225725,null,720.04937445924918,{"$f":"IF(P60<=0.01,0,'Tabla Amortización Crec'!R67)","v":346.56416666666667},{"$f":"IF(D61<=0,0,'Tabla Amortización Crec'!W67+'Tabla Amortización Crec'!U67)","v":194.86066738136844},299,{"$f":"IF(C61=0,0,'Tabla Amortización Crec'!X67+'Tabla Amortización Crec'!V67+'Tabla Amortización Crec'!S67+'Tabla Amortización Crec'!Q67)","v":134.46797344768561},11391.090303277542,null,897263.54296796105,11256.622329829857]
[55,{"$f":"'Tabla Amortización Crec'!C68","v":"2026-10-04"},897263.54296796105,{"$f":"IF(C62<=0,0,IF(C62<D61,C62,'Tabla Amortización Crec'!AB68))","v":3043.6820363015631},null,{"$f":"IF(C62<=0,0,'Tabla Amortización Crec'!AC68)","v":6654.7045883333349},9698.3866246348989,null,717.81083437436894,{"$f":"IF(P61<=0.01,0,'Tabla Amortización Crec'!R68)","v":346.56416666666667},{"$f":"IF(D62<=0,0,'Tabla Amortización Crec'!W68+'Tabla Amortización Crec'!U68)","v":194.86066738136844},299,{"$f":"IF(C62=0,0,'Tabla Amortización Crec'!X68+'Tabla Amortización Crec'!V68+'Tabla Amortización Crec'!S68+'Tabla Amortización Crec'!Q68)","v":134.46797344768561},11391.090266504989,null,894219.86093165947,11256.622293057304]
[56,{"$f":"'Tabla Amortización Crec'!C69","v":"2026-11-04"},894219.86093165947,{"$f":"IF(C63<=0,0,IF(C63<D62,C63,'Tabla Amortización Crec'!AB69))","v":2847.6199358584026},null,{"$f":"IF(C63<=0,0,'Tabla Amortización Crec'!AC69)","v":6853.2016492777784},9700.821585136182,null,715.37588874532764,{"$f":"IF(P62<=0.01,0,'Tabla Amortización Crec'!R69)","v":346.56416666666667},{"$f":"IF(D63<=0,0,'Tabla Amortización Crec'!W69+'Tabla Amortización Crec'!U69)","v":194.86066738136844},299,{"$f":"IF(C63=0,0,'Tabla Amortización Crec'!X69+'Tabla Amortización Crec'!V69+'Tabla Amortización Crec'!S69+'Tabla Amortización Crec'!Q69)","v":134.46797344768561},11391.09028137723,null,891372.24099580105,11256.622307929545]
[57,{"$f":"'Tabla Amortización Crec'!C70","v":"2026-12-04"},891372.24099580105,{"$f":"IF(C64<=0,0,IF(C64<D63,C64,'Tabla Amortización Crec'!AB70))","v":3092.0889008394774},null,{"$f":"IF(C64<=0,0,'Tabla Amortización Crec'!AC70)","v":6611.0107800000014},9703.0996808394793,null,713.09779279664087,{"$f":"IF(P63<=0.01,0,'Tabla Amortización Crec'!R70)","v":346.56416666666667},{"$f":"IF(D64<=0,0,'Tabla Amortización Crec'!W70+'Tabla Amortización Crec'!U70)","v":194.86066738136844},299,{"$f":"IF(C64=0,0,'Tabla Amortización Crec'!X70+'Tabla Amortización Crec'!V70+'Tabla Amortización Crec'!S70+'Tabla Amortización Crec'!Q70)","v":134.46797344768561},11391.090281131841,null,888280.15209496161,11256.622307684156]
[58,{"$f":"'Tabla Amortización Crec'!C71","v":"2027-01-04"},888280.15209496161,{"$f":"IF(C65<=0,0,IF(C65<D64,C65,'Tabla Amortización Crec'!AB71))","v":2897.892971484564},null,{"$f":"IF(C65<=0,0,'Tabla Amortización Crec'!AC71)","v":6807.6803718055571},9705.5733432901216,null,710.62412167596938,{"$f":"IF(P64<=0.01,0,'Tabla Amortización Crec'!R71)","v":346.56416666666667},{"$f":"IF(D65<=0,0,'Tabla Amortización Crec'!W71+'Tabla Amortización Crec'!U71)","v":194.86066738136844},299,{"$f":"IF(C65=0,0,'Tabla Amortización Crec'!X71+'Tabla Amortización Crec'!V71+'Tabla Amortización Crec'!S71+'Tabla Amortización Crec'!Q71)","v":134.46797344768561},11391.090272461812,null,885382.25912347704,11256.622299014127]
[59,{"$f":"'Tabla Amortización Crec'!C72","v":"2027-02-04"},885382.25912347704,{"$f":"IF(C66<=0,0,IF(C66<D65,C66,'Tabla Amortización Crec'!AB72))","v":2922.4204156071028},null,{"$f":"IF(C66<=0,0,'Tabla Amortización Crec'!AC72)","v":6785.4712648333334},9707.8916804404362,null,708.3058072987817,{"$f":"IF(P65<=0.01,0,'Tabla Amortización Crec'!R72)","v":346.56416666666667},{"$f":"IF(D66<=0,0,'Tabla Amortización Crec'!W72+'Tabla Amortización Crec'!U72)","v":194.86066738136844},299,{"$f":"IF(C66=0,0,'Tabla Amortización Crec'!X72+'Tabla Amortización Crec'!V72+'Tabla Amortización Crec'!S72+'Tabla Amortización Crec'!Q72)","v":134.46797344768561},11391.090295234939,null,882459.83870786999,11256.622321787254]
[60,{"$f":"'Tabla Amortización Crec'!C73","v":"2027-03-04"},882459.83870786999,{"$f":"IF(C67<=0,0,IF(C67<D66,C67,'Tabla Amortización Crec'!AB73))","v":3601.6465043330918},null,{"$f":"IF(C67<=0,0,'Tabla Amortización Crec'!AC73)","v":6108.5831146666678},9710.2296189997596,null,705.967870966296,{"$f":"IF(P66<=0.01,0,'Tabla Amortización Crec'!R73)","v":346.56416666666667},{"$f":"IF(D67<=0,0,'Tabla Amortización Crec'!W73+'Tabla Amortización Crec'!U73)","v":194.86066738136844},299,{"$f":"IF(C67=0,0,'Tabla Amortización Crec'!X73+'Tabla Amortización Crec'!V73+'Tabla Amortización Crec'!S73+'Tabla Amortización Crec'!Q73)","v":134.46797344768561},11391.090297461777,null,878858.19220353686,11256.622324014092]
[61,{"$f":"'Tabla Amortización Crec'!C74","v":"2027-04-04"},878858.19220353686,{"$f":"IF(C68<=0,0,IF(C68<D67,C68,'Tabla Amortización Crec'!AB74))","v":3217.2119351846468},null,{"$f":"IF(C68<=0,0,'Tabla Amortización Crec'!AC74)","v":6735.47151725},9952.6834524346468,null,703.08655376282957,{"$f":"IF(P67<=0.01,0,'Tabla Amortización Crec'!R74)","v":346.56416666666667},{"$f":"IF(D68<=0,0,'Tabla Amortización Crec'!W74+'Tabla Amortización Crec'!U74)","v":197.2084782935907},299,{"$f":"IF(C68=0,0,'Tabla Amortización Crec'!X74+'Tabla Amortización Crec'!V74+'Tabla Amortización Crec'!S74+'Tabla Amortización Crec'!Q74)","v":134.84362319364118},11633.386274351375,{"$f":"(G68/G67)-1","v":2.4968908352124286E-2},875640.9802683522,11498.542651157733]
[62,{"$f":"'Tabla Amortización Crec'!C75","v":"2027-05-04"},875640.9802683522,{"$f":"IF(C69<=0,0,IF(C69<D68,C69,'Tabla Amortización Crec'!AB75))","v":3460.9199685468443},null,{"$f":"IF(C69<=0,0,'Tabla Amortización Crec'!AC75)","v":6494.3372683333337},9955.2572368801775,null,700.5127842146818,{"$f":"IF(P68<=0.01,0,'Tabla Amortización Crec'!R75)","v":346.56416666666667},{"$f":"IF(D69<=0,0,'Tabla Amortización Crec'!W75+'Tabla Amortización Crec'!U75)","v":197.2084782935907},299,{"$f":"IF(C69=0,0,'Tabla Amortización Crec'!X75+'Tabla Amortización Crec'!V75+'Tabla Amortización Crec'!S75+'Tabla Amortización Crec'!Q75)","v":134.84362319364118},11633.386289248758,null,872180.06029980537,11498.542666055117]
[63,{"$f":"'Tabla Amortización Crec'!C76","v":"2027-06-04"},872180.06029980537,{"$f":"IF(C70<=0,0,IF(C70<D69,C70,'Tabla Amortización Crec'!AB76))","v":3273.7349016031749},null,{"$f":"IF(C70<=0,0,'Tabla Amortización Crec'!AC76)","v":6684.2910709444459},9958.0259725476208,null,697.74404823984435,{"$f":"IF(P69<=0.01,0,'Tabla Amortización Crec'!R76)","v":346.56416666666667},{"$f":"IF(D70<=0,0,'Tabla Amortización Crec'!W76+'Tabla Amortización Crec'!U76)","v":197.2084782935907},299,{"$f":"IF(C70=0,0,'Tabla Amortización Crec'!X76+'Tabla Amortización Crec'!V76+'Tabla Amortización Crec'!S76+'Tabla Amortización Crec'!Q76)","v":134.84362319364118},11633.386288941365,null,868906.32539820217,11498.542665747724]
[64,{"$f":"'Tabla Amortización Crec'!C77","v":"2027-07-04"},868906.32539820217,{"$f":"IF(C71<=0,0,IF(C71<D70,C71,'Tabla Amortización Crec'!AB77))","v":3516.2563827299109},null,{"$f":"IF(C71<=0,0,'Tabla Amortización Crec'!AC77)","v":6444.3886141666662},9960.6449968965771,null,695.12506031856174,{"$f":"IF(P70<=0.01,0,'Tabla Amortización Crec'!R77)","v":346.56416666666667},{"$f":"IF(D71<=0,0,'Tabla Amortización Crec'!W77+'Tabla Amortización Crec'!U77)","v":197.2084782935907},299,{"$f":"IF(C71=0,0,'Tabla Amortización Crec'!X77+'Tabla Amortización Crec'!V77+'Tabla Amortización Crec'!S77+'Tabla Amortización Crec'!Q77)","v":134.84362319364118},11633.386325369038,null,865390.06901547231,11498.542702175397]
[65,{"$f":"'Tabla Amortización Crec'!C78","v":"2027-08-04"},865390.06901547231,{"$f":"IF(C72<=0,0,IF(C72<D71,C72,'Tabla Amortización Crec'!AB78))","v":3331.204633390294},null,{"$f":"IF(C72<=0,0,'Tabla Amortización Crec'!AC78)","v":6632.2533420277787},{"$f":"D72+F72","v":9963.4579754180722},null,692.31205521237791,{"$f":"IF(P71<=0.01,0,'Tabla Amortización Crec'!R78)","v":346.56416666666667},{"$f":"IF(D72<=0,0,'Tabla Amortización Crec'!W78+'Tabla Amortización Crec'!U78)","v":197.2084782935907},299,{"$f":"IF(C72=0,0,'Tabla Amortización Crec'!X78+'Tabla Amortización Crec'!V78+'Tabla Amortización Crec'!S78+'Tabla Amortización Crec'!Q78)","v":134.84362319364118},11633.386298784349,null,{"$f":"C72-D72-E72-H72","v":862058.86438208201},11498.542675590708]
[66,{"$f":"'Tabla Amortización Crec'!C79","v":"2027-09-04"},862058.86438208201,{"$f":"IF(C73<=0,0,IF(C73<D72,C73,'Tabla Amortización Crec'!AB79))","v":3359.3995792734599},null,{"$f":"IF(C73<=0,0,'Tabla Amortización Crec'!AC79)","v":6606.7233953611112},9966.1229746345707,null,{"$f":"IF(C73<=0,0,(C73*0.8/1000))","v":689.64709150566568},{"$f":"IF(P72<=0.01,0,'Tabla Amortización Crec'!R79)","v":346.56416666666667},{"$f":"IF(D73<=0,0,'Tabla Amortización Crec'!W79+'Tabla Amortización Crec'!U79)","v":197.2084782935907},{"$f":"IF(C73<=0,,299)","v":299},{"$f":"IF(C73=0,0,'Tabla Amortización Crec'!X79+'Tabla Amortización Crec'!V79+'Tabla Amortización Crec'!S79+'Tabla Amortización Crec'!Q79)","v":134.84362319364118},11633.386334294135,null,858699.46480280859,11498.542711100494]
[67,{"$f":"'Tabla Amortización Crec'!C80","v":"2027-10-04"},858699.46480280859,{"$f":"IF(C74<=0,0,IF(C74<D73,C74,'Tabla Amortización Crec'!AB80))","v":3600.1227539553938},null,{"$f":"IF(C74<=0,0,'Tabla Amortización Crec'!AC80)","v":6368.687735833334},9968.8104897887279,null,686.95957184224687,{"$f":"IF(P73<=0.01,0,'Tabla Amortización Crec'!R80)","v":346.56416666666667},{"$f":"IF(D74<=0,0,'Tabla Amortización Crec'!W80+'Tabla Amortización Crec'!U80)","v":197.20847829359067},299,{"$f":"IF(C74=0,0,'Tabla Amortización Crec'!X80+'Tabla Amortización Crec'!V80+'Tabla Amortización Crec'!S80+'Tabla Amortización Crec'!Q80)","v":134.84362319364118},{"$f":"G74+K74+J74+L74+M74+I74","v":11633.386329784873},null,855099.34204885317,{"$f":"N74-M74+H74+E74","v":11498.542706591232}]
[68,{"$f":"'Tabla Amortización Crec'!C81","v":"2027-11-04"},{"$f":"IF(P74<=0.01,0,P74)","v":855099.34204885317},{"$f":"IF(C75<=0,0,IF(C75<D74,C75,'Tabla Amortización Crec'!AB81))","v":3418.3042030216502},null,{"$f":"IF(C75<=0,0,'Tabla Amortización Crec'!AC81)","v":6553.3864073611112},9971.6906103827605,null,684.07947363908261,{"$f":"IF(P74<=0.01,0,'Tabla Amortización Crec'!R81)","v":346.56416666666667},{"$f":"IF(D75<=0,0,'Tabla Amortización Crec'!W81+'Tabla Amortización Crec'!U81)","v":197.20847829359067},299,{"$f":"IF(C75=0,0,'Tabla Amortización Crec'!X81+'Tabla Amortización Crec'!V81+'Tabla Amortización Crec'!S81+'Tabla Amortización Crec'!Q81)","v":134.84362319364118},11633.386352175741,null,851681.03784583148,11498.5427289821]
[69,{"$f":"'Tabla Amortización Crec'!C82","v":"2027-12-04"},851681.03784583148,{"$f":"IF(C76<=0,0,IF(C76<D75,C76,'Tabla Amortización Crec'!AB82))","v":3657.7908287852229},null,{"$f":"IF(C76<=0,0,'Tabla Amortización Crec'!AC82)","v":6316.6344541666667},9974.42528295189,null,681.34483027666533,{"$f":"IF(P75<=0.01,0,'Tabla Amortización Crec'!R82)","v":346.56416666666667},{"$f":"IF(D76<=0,0,'Tabla Amortización Crec'!W82+'Tabla Amortización Crec'!U82)","v":197.2084782935907},299,{"$f":"IF(C76=0,0,'Tabla Amortización Crec'!X82+'Tabla Amortización Crec'!V82+'Tabla Amortización Crec'!S82+'Tabla Amortización Crec'!Q82)","v":134.84362319364118},11633.386381382454,null,848023.2470170462,11498.542758188813]
[70,{"$f":"'Tabla Amortización Crec'!C83","v":"2028-01-04"},848023.2470170462,{"$f":"IF(C77<=0,0,IF(C77<D76,C77,'Tabla Amortización Crec'!AB83))","v":3478.1954851380833},null,{"$f":"IF(C77<=0,0,'Tabla Amortización Crec'!AC83)","v":6499.1560398333331},9977.3515249714164,null,678.41859761363696,{"$f":"IF(P76<=0.01,0,'Tabla Amortización Crec'!R83)","v":346.56416666666667},{"$f":"IF(D77<=0,0,'Tabla Amortización Crec'!W83+'Tabla Amortización Crec'!U83)","v":197.2084782935907},299,{"$f":"IF(C77=0,0,'Tabla Amortización Crec'!X83+'Tabla Amortización Crec'!V83+'Tabla Amortización Crec'!S83+'Tabla Amortización Crec'!Q83)","v":134.84362319364118},11633.386390738953,null,844545.0515319081,11498.542767545312]
[71,{"$f":"'Tabla Amortización Crec'!C84","v":"2028-02-04"},844545.0515319081,{"$f":"IF(C78<=0,0,IF(C78<D77,C78,'Tabla Amortización Crec'!AB84))","v":3507.6345452581272},null,{"$f":"IF(C78<=0,0,'Tabla Amortización Crec'!AC84)","v":6472.4995015000022},9980.1340467581285,null,675.63604122552647,{"$f":"IF(P77<=0.01,0,'Tabla Amortización Crec'!R84)","v":346.56416666666667},{"$f":"IF(D78<=0,0,'Tabla Amortización Crec'!W84+'Tabla Amortización Crec'!U84)","v":197.2084782935907},299,{"$f":"IF(C78=0,0,'Tabla Amortización Crec'!X84+'Tabla Amortización Crec'!V84+'Tabla Amortización Crec'!S84+'Tabla Amortización Crec'!Q84)","v":134.84362319364118},11633.386356137555,null,841037.41698664997,11498.542732943914]
[72,{"$f":"'Tabla Amortización Crec'!C85","v":"2028-03-04"},841037.41698664997,{"$f":"IF(C79<=0,0,IF(C79<D78,C79,'Tabla Amortización Crec'!AB85))","v":3953.1690527109749},null,{"$f":"IF(C79<=0,0,'Tabla Amortización Crec'!AC85)","v":6029.7711300833344},9982.9401827943093,null,672.82993358932004,{"$f":"IF(P78<=0.01,0,'Tabla Amortización Crec'!R85)","v":346.56416666666667},{"$f":"IF(D79<=0,0,'Tabla Amortización Crec'!W85+'Tabla Amortización Crec'!U85)","v":197.2084782935907},299,{"$f":"IF(C79=0,0,'Tabla Amortización Crec'!X85+'Tabla Amortización Crec'!V85+'Tabla Amortización Crec'!S85+'Tabla Amortización Crec'!Q85)","v":134.84362319364118},11633.386384537529,null,837084.24793393898,11498.542761343888]
[73,{"$f":"'Tabla Amortización Crec'!C86","v":"2028-04-04"},837084.24793393898,{"$f":"IF(C80<=0,0,IF(C80<D79,C80,'Tabla Amortización Crec'!AB86))","v":3815.8646684641171},null,{"$f":"IF(C80<=0,0,'Tabla Amortización Crec'!AC86)","v":6415.3207592777781},10231.185427741895,null,669.66739834715122,{"$f":"IF(P79<=0.01,0,'Tabla Amortización Crec'!R86)","v":346.56416666666667},{"$f":"IF(D80<=0,0,'Tabla Amortización Crec'!W86+'Tabla Amortización Crec'!U86)","v":199.61028885679406},299,{"$f":"IF(C80=0,0,'Tabla Amortización Crec'!X86+'Tabla Amortización Crec'!V86+'Tabla Amortización Crec'!S86+'Tabla Amortización Crec'!Q86)","v":135.22791288375373},11881.255194496263,null,833268.38326547481,11746.027281612509]
[74,{"$f":"'Tabla Amortización Crec'!C87","v":"2028-05-04"},833268.38326547481,{"$f":"IF(C81<=0,0,IF(C81<D80,C81,'Tabla Amortización Crec'!AB87))","v":4054.1641844514429},null,{"$f":"IF(C81<=0,0,'Tabla Amortización Crec'!AC87)","v":6180.0739666666668},10234.23815111811,null,666.6147066123799,{"$f":"IF(P80<=0.01,0,'Tabla Amortización Crec'!R87)","v":346.56416666666667},{"$f":"IF(D81<=0,0,'Tabla Amortización Crec'!W87+'Tabla Amortización Crec'!U87)","v":199.61028885679406},299,{"$f":"IF(C81=0,0,'Tabla Amortización Crec'!X87+'Tabla Amortización Crec'!V87+'Tabla Amortización Crec'!S87+'Tabla Amortización Crec'!Q87)","v":135.22791288375373},11881.255226137706,null,829214.21908102336,11746.027313253951]
[75,{"$f":"'Tabla Amortización Crec'!C88","v":"2028-06-04"},829214.21908102336,{"$f":"IF(C82<=0,0,IF(C82<D81,C82,'Tabla Amortización Crec'!AB88))","v":3882.4757182275439},null,{"$f":"IF(C82<=0,0,'Tabla Amortización Crec'!AC88)","v":6355.0058004444454},10237.48151867199,null,663.37137526481877,{"$f":"IF(P81<=0.01,0,'Tabla Amortización Crec'!R88)","v":346.56416666666667},{"$f":"IF(D82<=0,0,'Tabla Amortización Crec'!W88+'Tabla Amortización Crec'!U88)","v":199.61028885679406},299,{"$f":"IF(C82=0,0,'Tabla Amortización Crec'!X88+'Tabla Amortización Crec'!V88+'Tabla Amortización Crec'!S88+'Tabla Amortización Crec'!Q88)","v":135.22791288375373},11881.255262344024,null,825331.74336279579,11746.02734946027]
[76,{"$f":"'Tabla Amortización Crec'!C89","v":"2028-07-04"},825331.74336279579,{"$f":"IF(C83<=0,0,IF(C83<D82,C83,'Tabla Amortización Crec'!AB89))","v":4119.3769089851221},null,{"$f":"IF(C83<=0,0,'Tabla Amortización Crec'!AC89)","v":6121.2105533333342},10240.587462318457,null,660.26539469023669,{"$f":"IF(P82<=0.01,0,'Tabla Amortización Crec'!R89)","v":346.56416666666667},{"$f":"IF(D83<=0,0,'Tabla Amortización Crec'!W89+'Tabla Amortización Crec'!U89)","v":199.61028885679409},299,{"$f":"IF(C83=0,0,'Tabla Amortización Crec'!X89+'Tabla Amortización Crec'!V89+'Tabla Amortización Crec'!S89+'Tabla Amortización Crec'!Q89)","v":135.22791288375373},11881.255225415911,null,821212.36645381071,11746.027312532156]
[77,{"$f":"'Tabla Amortización Crec'!C90","v":"2028-08-04"},821212.36645381071,{"$f":"IF(C84<=0,0,IF(C84<D83,C84,'Tabla Amortización Crec'!AB90))","v":3950.2025097695355},null,{"$f":"IF(C84<=0,0,'Tabla Amortización Crec'!AC90)","v":6293.6804345},10243.882944269535,null,656.96989316304871,{"$f":"IF(P83<=0.01,0,'Tabla Amortización Crec'!R90)","v":346.56416666666667},{"$f":"IF(D84<=0,0,'Tabla Amortización Crec'!W90+'Tabla Amortización Crec'!U90)","v":199.61028885679406},299,{"$f":"IF(C84=0,0,'Tabla Amortización Crec'!X90+'Tabla Amortización Crec'!V90+'Tabla Amortización Crec'!S90+'Tabla Amortización Crec'!Q90)","v":135.22791288375373},11881.2552058398,null,817262.16394404112,11746.027292956045]
[78,{"$f":"'Tabla Amortización Crec'!C91","v":"2028-09-04"},817262.16394404112,{"$f":"IF(C85<=0,0,IF(C85<D84,C85,'Tabla Amortización Crec'!AB91))","v":3983.6365849008344},null,{"$f":"IF(C85<=0,0,'Tabla Amortización Crec'!AC91)","v":6263.4065406111122},10247.043125511947,null,653.80973115523295,{"$f":"IF(P84<=0.01,0,'Tabla Amortización Crec'!R91)","v":346.56416666666667},{"$f":"IF(D85<=0,0,'Tabla Amortización Crec'!W91+'Tabla Amortización Crec'!U91)","v":199.61028885679406},299,{"$f":"IF(C85=0,0,'Tabla Amortización Crec'!X91+'Tabla Amortización Crec'!V91+'Tabla Amortización Crec'!S91+'Tabla Amortización Crec'!Q91)","v":135.22791288375373},11881.255225074397,null,813278.52735914034,11746.027312190643]
[79,{"$f":"'Tabla Amortización Crec'!C92","v":"2028-10-04"},813278.52735914034,{"$f":"IF(C86<=0,0,IF(C86<D85,C86,'Tabla Amortización Crec'!AB92))","v":4218.4141671484922},null,{"$f":"IF(C86<=0,0,'Tabla Amortización Crec'!AC92)","v":6031.8158383333348},10250.230005481826,null,650.62282188731228,{"$f":"IF(P85<=0.01,0,'Tabla Amortización Crec'!R92)","v":346.56416666666667},{"$f":"IF(D86<=0,0,'Tabla Amortización Crec'!W92+'Tabla Amortización Crec'!U92)","v":199.61028885679409},299,{"$f":"IF(C86=0,0,'Tabla Amortización Crec'!X92+'Tabla Amortización Crec'!V92+'Tabla Amortización Crec'!S92+'Tabla Amortización Crec'!Q92)","v":135.22791288375373},11881.255195776355,null,809060.11319199181,11746.027282892601]
[80,{"$f":"'Tabla Amortización Crec'!C93","v":"2028-11-04"},809060.11319199181,{"$f":"IF(C87<=0,0,IF(C87<D86,C87,'Tabla Amortización Crec'!AB93))","v":4053.0578311272079},null,{"$f":"IF(C87<=0,0,'Tabla Amortización Crec'!AC93)","v":6200.5469407500013},10253.60477187721,null,647.24809055359344,{"$f":"IF(P86<=0.01,0,'Tabla Amortización Crec'!R93)","v":346.56416666666667},{"$f":"IF(D87<=0,0,'Tabla Amortización Crec'!W93+'Tabla Amortización Crec'!U93)","v":199.61028885679406},299,{"$f":"IF(C87=0,0,'Tabla Amortización Crec'!X93+'Tabla Amortización Crec'!V93+'Tabla Amortización Crec'!S93+'Tabla Amortización Crec'!Q93)","v":135.22791288375373},11881.25523083802,null,805007.05536086462,11746.027317954266]
[81,{"$f":"'Tabla Amortización Crec'!C94","v":"2028-12-04"},805007.05536086462,{"$f":"IF(C88<=0,0,IF(C88<D87,C88,'Tabla Amortización Crec'!AB94))","v":4286.3780954009908},null,{"$f":"IF(C88<=0,0,'Tabla Amortización Crec'!AC94)","v":5970.4691025000002},10256.847197900992,null,644.00564428869166,{"$f":"IF(P87<=0.01,0,'Tabla Amortización Crec'!R94)","v":346.56416666666667},{"$f":"IF(D88<=0,0,'Tabla Amortización Crec'!W94+'Tabla Amortización Crec'!U94)","v":199.61028885679406},299,{"$f":"IF(C88=0,0,'Tabla Amortización Crec'!X94+'Tabla Amortización Crec'!V94+'Tabla Amortización Crec'!S94+'Tabla Amortización Crec'!Q94)","v":135.22791288375373},11881.255210596901,null,800720.67726546363,11746.027297713146]
[82,{"$f":"'Tabla Amortización Crec'!C95","v":"2029-01-04"},800720.67726546363,{"$f":"IF(C89<=0,0,IF(C89<D88,C89,'Tabla Amortización Crec'!AB95))","v":4123.641890205351},null,{"$f":"IF(C89<=0,0,'Tabla Amortización Crec'!AC95)","v":6136.6343991944441},10260.276289399795,null,640.57654181237103,{"$f":"IF(P88<=0.01,0,'Tabla Amortización Crec'!R95)","v":346.56416666666667},{"$f":"IF(D89<=0,0,'Tabla Amortización Crec'!W95+'Tabla Amortización Crec'!U95)","v":199.61028885679406},299,{"$f":"IF(C89=0,0,'Tabla Amortización Crec'!X95+'Tabla Amortización Crec'!V95+'Tabla Amortización Crec'!S95+'Tabla Amortización Crec'!Q95)","v":135.22791288375373},11881.255199619383,null,796597.0353752583,11746.027286735629]
[83,{"$f":"'Tabla Amortización Crec'!C96","v":"2029-02-04"},796597.0353752583,{"$f":"IF(C90<=0,0,IF(C90<D89,C90,'Tabla Amortización Crec'!AB96))","v":4158.5439369816168},null,{"$f":"IF(C90<=0,0,'Tabla Amortización Crec'!AC96)","v":6105.0312804166679},10263.575217398284,null,637.27762830020674,{"$f":"IF(P89<=0.01,0,'Tabla Amortización Crec'!R96)","v":346.56416666666667},{"$f":"IF(D90<=0,0,'Tabla Amortización Crec'!W96+'Tabla Amortización Crec'!U96)","v":199.61028885679406},299,{"$f":"IF(C90=0,0,'Tabla Amortización Crec'!X96+'Tabla Amortización Crec'!V96+'Tabla Amortización Crec'!S96+'Tabla Amortización Crec'!Q96)","v":135.22791288375373},11881.255214105706,null,792438.49143827672,11746.027301221951]
[84,{"$f":"'Tabla Amortización Crec'!C97","v":"2029-03-04"},792438.49143827672,{"$f":"IF(C91<=0,0,IF(C91<D90,C91,'Tabla Amortización Crec'!AB97))","v":4781.4666052871798},null,{"$f":"IF(C91<=0,0,'Tabla Amortización Crec'!AC97)","v":5485.4354636666676},10266.902068953848,null,633.95079315062151,{"$f":"IF(P90<=0.01,0,'Tabla Amortización Crec'!R97)","v":346.56416666666667},{"$f":"IF(D91<=0,0,'Tabla Amortización Crec'!W97+'Tabla Amortización Crec'!U97)","v":199.61028885679406},299,{"$f":"IF(C91=0,0,'Tabla Amortización Crec'!X97+'Tabla Amortización Crec'!V97+'Tabla Amortización Crec'!S97+'Tabla Amortización Crec'!Q97)","v":135.22791288375373},11881.255230511686,null,787657.02483298955,11746.027317627932]
[85,{"$f":"'Tabla Amortización Crec'!C98","v":"2029-04-04"},787657.02483298955,{"$f":"IF(C92<=0,0,IF(C92<D91,C92,'Tabla Amortización Crec'!AB98))","v":4484.9308057500457},null,{"$f":"IF(C92<=0,0,'Tabla Amortización Crec'!AC98)","v":6036.5160371111124},10521.446842861158,null,630.12561986639162,{"$f":"IF(P91<=0.01,0,'Tabla Amortización Crec'!R98)","v":346.56416666666667},{"$f":"IF(D92<=0,0,'Tabla Amortización Crec'!W98+'Tabla Amortización Crec'!U98)","v":202.06734106295116},299,{"$f":"IF(C92=0,0,'Tabla Amortización Crec'!X98+'Tabla Amortización Crec'!V98+'Tabla Amortización Crec'!S98+'Tabla Amortización Crec'!Q98)","v":135.62104123673885},12134.825011693907,null,783172.09402723948,11999.203970457169]
[86,{"$f":"'Tabla Amortización Crec'!C99","v":"2029-05-04"},783172.09402723948,{"$f":"IF(C93<=0,0,IF(C93<D92,C93,'Tabla Amortización Crec'!AB99))","v":4716.508307232114},null,{"$f":"IF(C93<=0,0,'Tabla Amortización Crec'!AC99)","v":5808.5264825000004},10525.034789732115,null,626.53767522179157,{"$f":"IF(P92<=0.01,0,'Tabla Amortización Crec'!R99)","v":346.56416666666667},{"$f":"IF(D93<=0,0,'Tabla Amortización Crec'!W99+'Tabla Amortización Crec'!U99)","v":202.06734106295113},299,{"$f":"IF(C93=0,0,'Tabla Amortización Crec'!X99+'Tabla Amortización Crec'!V99+'Tabla Amortización Crec'!S99+'Tabla Amortización Crec'!Q99)","v":135.62104123673885},12134.825013920263,null,778455.58572000731,11999.203972683525]
[87,{"$f":"'Tabla Amortización Crec'!C100","v":"2029-06-04"},778455.58572000731,{"$f":"IF(C94<=0,0,IF(C94<D93,C94,'Tabla Amortización Crec'!AB100))","v":4562.8107640202024},null,{"$f":"IF(C94<=0,0,'Tabla Amortización Crec'!AC100)","v":5965.9972233333337},10528.807987353535,null,622.76446857600592,{"$f":"IF(P93<=0.01,0,'Tabla Amortización Crec'!R100)","v":346.56416666666667},{"$f":"IF(D94<=0,0,'Tabla Amortización Crec'!W100+'Tabla Amortización Crec'!U100)","v":202.06734106295113},299,{"$f":"IF(C94=0,0,'Tabla Amortización Crec'!X100+'Tabla Amortización Crec'!V100+'Tabla Amortización Crec'!S100+'Tabla Amortización Crec'!Q100)","v":135.62104123673885},12134.825004895898,null,773892.77495598712,11999.20396365916]
[88,{"$f":"'Tabla Amortización Crec'!C101","v":"2029-07-04"},773892.77495598712,{"$f":"IF(C95<=0,0,IF(C95<D94,C95,'Tabla Amortización Crec'!AB101))","v":4792.7533789342378},null,{"$f":"IF(C95<=0,0,'Tabla Amortización Crec'!AC101)","v":5739.704859166668},10532.458238100906,null,619.11421996478964,{"$f":"IF(P94<=0.01,0,'Tabla Amortización Crec'!R101)","v":346.56416666666667},{"$f":"IF(D95<=0,0,'Tabla Amortización Crec'!W101+'Tabla Amortización Crec'!U101)","v":202.06734106295113},299,{"$f":"IF(C95=0,0,'Tabla Amortización Crec'!X101+'Tabla Amortización Crec'!V101+'Tabla Amortización Crec'!S101+'Tabla Amortización Crec'!Q101)","v":135.62104123673885},12134.825007032052,null,769100.02157705289,11999.203965795314]
[89,{"$f":"'Tabla Amortización Crec'!C102","v":"2029-08-04"},769100.02157705289,{"$f":"IF(C96<=0,0,IF(C96<D95,C96,'Tabla Amortización Crec'!AB102))","v":4641.995219419041},null,{"$f":"IF(C96<=0,0,'Tabla Amortización Crec'!AC102)","v":5894.2972510000009},10536.292470419041,null,615.28001726164234,{"$f":"IF(P95<=0.01,0,'Tabla Amortización Crec'!R102)","v":346.56416666666667},{"$f":"IF(D96<=0,0,'Tabla Amortización Crec'!W102+'Tabla Amortización Crec'!U102)","v":202.06734106295113},299,{"$f":"IF(C96=0,0,'Tabla Amortización Crec'!X102+'Tabla Amortización Crec'!V102+'Tabla Amortización Crec'!S102+'Tabla Amortización Crec'!Q102)","v":135.62104123673885},12134.82503664704,null,764458.02635763388,11999.203995410302]
[90,{"$f":"'Tabla Amortización Crec'!C103","v":"2029-09-04"},764458.02635763388,{"$f":"IF(C97<=0,0,IF(C97<D96,C97,'Tabla Amortización Crec'!AB103))","v":4681.2845511789583},null,{"$f":"IF(C97<=0,0,'Tabla Amortización Crec'!AC103)","v":5858.7214787777784},10540.006029956738,null,611.5664210861072,{"$f":"IF(P96<=0.01,0,'Tabla Amortización Crec'!R103)","v":346.56416666666667},{"$f":"IF(D97<=0,0,'Tabla Amortización Crec'!W103+'Tabla Amortización Crec'!U103)","v":202.06734106295113},299,{"$f":"IF(C97=0,0,'Tabla Amortización Crec'!X103+'Tabla Amortización Crec'!V103+'Tabla Amortización Crec'!S103+'Tabla Amortización Crec'!Q103)","v":135.62104123673885},12134.825000009201,null,759776.74180645496,11999.203958772463]
[91,{"$f":"'Tabla Amortización Crec'!C104","v":"2029-10-04"},759776.74180645496,{"$f":"IF(C98<=0,0,IF(C98<D97,C98,'Tabla Amortización Crec'!AB104))","v":4908.7401179795597},null,{"$f":"IF(C98<=0,0,'Tabla Amortización Crec'!AC104)","v":5635.0109700000012},10543.751087979561,null,607.82139344516395,{"$f":"IF(P97<=0.01,0,'Tabla Amortización Crec'!R104)","v":346.56416666666667},{"$f":"IF(D98<=0,0,'Tabla Amortización Crec'!W104+'Tabla Amortización Crec'!U104)","v":202.06734106295113},299,{"$f":"IF(C98=0,0,'Tabla Amortización Crec'!X104+'Tabla Amortización Crec'!V104+'Tabla Amortización Crec'!S104+'Tabla Amortización Crec'!Q104)","v":135.62104123673885},12134.825030391081,null,754868.00168847537,11999.203989154343]
[92,{"$f":"'Tabla Amortización Crec'!C105","v":"2029-11-04"},754868.00168847537,{"$f":"IF(C99<=0,0,IF(C99<D98,C99,'Tabla Amortización Crec'!AB105))","v":4762.4534544204198},null,{"$f":"IF(C99<=0,0,'Tabla Amortización Crec'!AC105)","v":5785.2246310555565},10547.678085475976,null,603.8944013507803,{"$f":"IF(P98<=0.01,0,'Tabla Amortización Crec'!R105)","v":346.56416666666667},{"$f":"IF(D99<=0,0,'Tabla Amortización Crec'!W105+'Tabla Amortización Crec'!U105)","v":202.06734106295116},299,{"$f":"IF(C99=0,0,'Tabla Amortización Crec'!X105+'Tabla Amortización Crec'!V105+'Tabla Amortización Crec'!S105+'Tabla Amortización Crec'!Q105)","v":135.62104123673885},12134.825035793114,null,750105.54823405494,11999.203994556376]
[93,{"$f":"'Tabla Amortización Crec'!C106","v":"2029-12-04"},750105.54823405494,{"$f":"IF(C100<=0,0,IF(C100<D99,C100,'Tabla Amortización Crec'!AB106))","v":4988.2050918327795},null,{"$f":"IF(C100<=0,0,'Tabla Amortización Crec'!AC106)","v":5563.2829775},10551.48806933278,null,600.08443858724399,{"$f":"IF(P99<=0.01,0,'Tabla Amortización Crec'!R106)","v":346.56416666666667},{"$f":"IF(D100<=0,0,'Tabla Amortización Crec'!W106+'Tabla Amortización Crec'!U106)","v":202.06734106295113},299,{"$f":"IF(C100=0,0,'Tabla Amortización Crec'!X106+'Tabla Amortización Crec'!V106+'Tabla Amortización Crec'!S106+'Tabla Amortización Crec'!Q106)","v":135.62104123673885},12134.82505688638,null,745117.34314222215,11999.204015649642]
[94,{"$f":"'Tabla Amortización Crec'!C107","v":"2030-01-04"},745117.34314222215,{"$f":"IF(C101<=0,0,IF(C101<D100,C101,'Tabla Amortización Crec'!AB107))","v":4844.9819449494007},null,{"$f":"IF(C101<=0,0,'Tabla Amortización Crec'!AC107)","v":5710.4966562222235},10555.478601171624,null,596.09387451377779,{"$f":"IF(P100<=0.01,0,'Tabla Amortización Crec'!R107)","v":346.56416666666667},{"$f":"IF(D101<=0,0,'Tabla Amortización Crec'!W107+'Tabla Amortización Crec'!U107)","v":202.06734106295113},299,{"$f":"IF(C101=0,0,'Tabla Amortización Crec'!X107+'Tabla Amortización Crec'!V107+'Tabla Amortización Crec'!S107+'Tabla Amortización Crec'!Q107)","v":135.62104123673885},12134.825024651758,null,740272.36119727278,11999.20398341502]
[95,{"$f":"'Tabla Amortización Crec'!C108","v":"2030-02-04"},740272.36119727278,{"$f":"IF(C102<=0,0,IF(C102<D101,C102,'Tabla Amortización Crec'!AB108))","v":4885.9893338001257},null,{"$f":"IF(C102<=0,0,'Tabla Amortización Crec'!AC108)","v":5673.3652678333337},10559.354601633459,null,592.21788895781822,{"$f":"IF(P101<=0.01,0,'Tabla Amortización Crec'!R108)","v":346.56416666666667},{"$f":"IF(D102<=0,0,'Tabla Amortización Crec'!W108+'Tabla Amortización Crec'!U108)","v":202.06734106295116},299,{"$f":"IF(C102=0,0,'Tabla Amortización Crec'!X108+'Tabla Amortización Crec'!V108+'Tabla Amortización Crec'!S108+'Tabla Amortización Crec'!Q108)","v":135.62104123673885},12134.825039557634,null,735386.37186347262,11999.203998320896]
[96,{"$f":"'Tabla Amortización Crec'!C109","v":"2030-03-04"},735386.37186347262,{"$f":"IF(C103<=0,0,IF(C103<D102,C103,'Tabla Amortización Crec'!AB109))","v":5472.755363765782},null,{"$f":"IF(C103<=0,0,'Tabla Amortización Crec'!AC109)","v":5090.5080107777785},10563.26337454356,null,588.30909749077807,{"$f":"IF(P102<=0.01,0,'Tabla Amortización Crec'!R109)","v":346.56416666666667},{"$f":"IF(D103<=0,0,'Tabla Amortización Crec'!W109+'Tabla Amortización Crec'!U109)","v":202.06734106295113},299,{"$f":"IF(C103=0,0,'Tabla Amortización Crec'!X109+'Tabla Amortización Crec'!V109+'Tabla Amortización Crec'!S109+'Tabla Amortización Crec'!Q109)","v":135.62104123673885},12134.825021000694,null,729913.61649970687,11999.203979763955]
[97,{"$f":"'Tabla Amortización Crec'!C110","v":"2030-04-04"},729913.61649970687,{"$f":"IF(C104<=0,0,IF(C104<D103,C104,'Tabla Amortización Crec'!AB110))","v":5230.150761917942},null,{"$f":"IF(C104<=0,0,'Tabla Amortización Crec'!AC110)","v":5593.9769588055569},10824.1277207235,null,583.93089319976548,{"$f":"IF(P103<=0.01,0,'Tabla Amortización Crec'!R110)","v":346.56416666666667},{"$f":"IF(D104<=0,0,'Tabla Amortización Crec'!W110+'Tabla Amortización Crec'!U110)","v":204.5809054698498},299,{"$f":"IF(C104=0,0,'Tabla Amortización Crec'!X110+'Tabla Amortización Crec'!V110+'Tabla Amortización Crec'!S110+'Tabla Amortización Crec'!Q110)","v":136.02321154184264},12394.226897601624,null,724683.46573778894,12258.203686059782]
[98,{"$f":"'Tabla Amortización Crec'!C111","v":"2030-05-04"},724683.46573778894,{"$f":"IF(C105<=0,0,IF(C105<D104,C105,'Tabla Amortización Crec'!AB111))","v":5453.5760336463509},null,{"$f":"IF(C105<=0,0,'Tabla Amortización Crec'!AC111)","v":5374.7358100000001},10828.311843646352,null,579.7467725902311,{"$f":"IF(P104<=0.01,0,'Tabla Amortización Crec'!R111)","v":346.56416666666667},{"$f":"IF(D105<=0,0,'Tabla Amortización Crec'!W111+'Tabla Amortización Crec'!U111)","v":204.5809054698498},299,{"$f":"IF(C105=0,0,'Tabla Amortización Crec'!X111+'Tabla Amortización Crec'!V111+'Tabla Amortización Crec'!S111+'Tabla Amortización Crec'!Q111)","v":136.02321154184264},12394.226899914942,null,719229.88970414258,12258.2036883731]
[99,{"$f":"'Tabla Amortización Crec'!C112","v":"2030-06-04"},719229.88970414258,{"$f":"IF(C106<=0,0,IF(C106<D105,C106,'Tabla Amortización Crec'!AB112))","v":5320.5766384348426},null,{"$f":"IF(C106<=0,0,'Tabla Amortización Crec'!AC112)","v":5512.0980391666681},10832.67467760151,null,575.38391176331402,{"$f":"IF(P105<=0.01,0,'Tabla Amortización Crec'!R112)","v":346.56416666666667},{"$f":"IF(D106<=0,0,'Tabla Amortización Crec'!W112+'Tabla Amortización Crec'!U112)","v":204.5809054698498},299,{"$f":"IF(C106=0,0,'Tabla Amortización Crec'!X112+'Tabla Amortización Crec'!V112+'Tabla Amortización Crec'!S112+'Tabla Amortización Crec'!Q112)","v":136.02321154184264},12394.226873043182,null,713909.31306570768,12258.20366150134]
[100,{"$f":"'Tabla Amortización Crec'!C113","v":"2030-07-04"},713909.31306570768,{"$f":"IF(C107<=0,0,IF(C107<D106,C107,'Tabla Amortización Crec'!AB113))","v":5542.1036547686181},null,{"$f":"IF(C107<=0,0,'Tabla Amortización Crec'!AC113)","v":5294.8274566666669},10836.931111435286,null,571.12745045256611,{"$f":"IF(P106<=0.01,0,'Tabla Amortización Crec'!R113)","v":346.56416666666667},{"$f":"IF(D107<=0,0,'Tabla Amortización Crec'!W113+'Tabla Amortización Crec'!U113)","v":204.5809054698498},299,{"$f":"IF(C107=0,0,'Tabla Amortización Crec'!X113+'Tabla Amortización Crec'!V113+'Tabla Amortización Crec'!S113+'Tabla Amortización Crec'!Q113)","v":136.02321154184264},12394.226845566211,null,708367.20941093902,12258.203634024369]
[101,{"$f":"'Tabla Amortización Crec'!C114","v":"2030-08-04"},708367.20941093902,{"$f":"IF(C108<=0,0,IF(C108<D107,C108,'Tabla Amortización Crec'!AB114))","v":5412.5171574720407},null,{"$f":"IF(C108<=0,0,'Tabla Amortización Crec'!AC114)","v":5428.8476666111119},10841.364824083154,null,566.69376752875132,{"$f":"IF(P107<=0.01,0,'Tabla Amortización Crec'!R114)","v":346.56416666666667},{"$f":"IF(D108<=0,0,'Tabla Amortización Crec'!W114+'Tabla Amortización Crec'!U114)","v":204.58090546984982},299,{"$f":"IF(C108=0,0,'Tabla Amortización Crec'!X114+'Tabla Amortización Crec'!V114+'Tabla Amortización Crec'!S114+'Tabla Amortización Crec'!Q114)","v":136.02321154184264},12394.226875290264,null,702954.69225346693,12258.203663748422]
[102,{"$f":"'Tabla Amortización Crec'!C115","v":"2030-09-04"},702954.69225346693,{"$f":"IF(C109<=0,0,IF(C109<D108,C109,'Tabla Amortización Crec'!AB115))","v":5458.3281013020896},null,{"$f":"IF(C109<=0,0,'Tabla Amortización Crec'!AC115)","v":5387.3667147222232},10845.694816024312,null,562.36375380277354,{"$f":"IF(P108<=0.01,0,'Tabla Amortización Crec'!R115)","v":346.56416666666667},{"$f":"IF(D109<=0,0,'Tabla Amortización Crec'!W115+'Tabla Amortización Crec'!U115)","v":204.5809054698498},299,{"$f":"IF(C109=0,0,'Tabla Amortización Crec'!X115+'Tabla Amortización Crec'!V115+'Tabla Amortización Crec'!S115+'Tabla Amortización Crec'!Q115)","v":136.02321154184264},12394.226853505445,null,697496.3641521649,12258.203641963602]
[103,{"$f":"'Tabla Amortización Crec'!C116","v":"2030-10-04"},697496.3641521649,{"$f":"IF(C110<=0,0,IF(C110<D109,C110,'Tabla Amortización Crec'!AB116))","v":5676.9633850082282},null,{"$f":"IF(C110<=0,0,'Tabla Amortización Crec'!AC116)","v":5173.0980775000007},10850.061462508229,null,557.99709132173189,{"$f":"IF(P109<=0.01,0,'Tabla Amortización Crec'!R116)","v":346.56416666666667},{"$f":"IF(D110<=0,0,'Tabla Amortización Crec'!W116+'Tabla Amortización Crec'!U116)","v":204.5809054698498},299,{"$f":"IF(C110=0,0,'Tabla Amortización Crec'!X116+'Tabla Amortización Crec'!V116+'Tabla Amortización Crec'!S116+'Tabla Amortización Crec'!Q116)","v":136.02321154184264},12394.226837508319,null,691819.40076715662,12258.203625966476]
[104,{"$f":"'Tabla Amortización Crec'!C117","v":"2030-11-04"},691819.40076715662,{"$f":"IF(C111<=0,0,IF(C111<D110,C111,'Tabla Amortización Crec'!AB117))","v":5552.5759711876099},null,{"$f":"IF(C111<=0,0,'Tabla Amortización Crec'!AC117)","v":5302.0270894166679},10854.603060604277,null,553.4555206137253,{"$f":"IF(P110<=0.01,0,'Tabla Amortización Crec'!R117)","v":346.56416666666667},{"$f":"IF(D111<=0,0,'Tabla Amortización Crec'!W117+'Tabla Amortización Crec'!U117)","v":204.5809054698498},299,{"$f":"IF(C111=0,0,'Tabla Amortización Crec'!X117+'Tabla Amortización Crec'!V117+'Tabla Amortización Crec'!S117+'Tabla Amortización Crec'!Q117)","v":136.02321154184264},12394.22686489636,null,686266.82479596906,12258.203653354518]
[105,{"$f":"'Tabla Amortización Crec'!C118","v":"2030-12-04"},686266.82479596906,{"$f":"IF(C112<=0,0,IF(C112<D111,C112,'Tabla Amortización Crec'!AB118))","v":5769.2327667183044},null,{"$f":"IF(C112<=0,0,'Tabla Amortización Crec'!AC118)","v":5089.8123224999999},10859.045089218303,null,549.01345983677527,{"$f":"IF(P111<=0.01,0,'Tabla Amortización Crec'!R118)","v":346.56416666666667},{"$f":"IF(D112<=0,0,'Tabla Amortización Crec'!W118+'Tabla Amortización Crec'!U118)","v":204.5809054698498},299,{"$f":"IF(C112=0,0,'Tabla Amortización Crec'!X118+'Tabla Amortización Crec'!V118+'Tabla Amortización Crec'!S118+'Tabla Amortización Crec'!Q118)","v":136.02321154184264},12394.226832733437,null,680497.59202925081,12258.203621191595]
[106,{"$f":"'Tabla Amortización Crec'!C119","v":"2031-01-04"},680497.59202925081,{"$f":"IF(C113<=0,0,IF(C113<D112,C113,'Tabla Amortización Crec'!AB119))","v":5648.4025023664963},null,{"$f":"IF(C113<=0,0,'Tabla Amortización Crec'!AC119)","v":5215.2579955555557},10863.660497922052,null,544.39807362340059,{"$f":"IF(P112<=0.01,0,'Tabla Amortización Crec'!R119)","v":346.56416666666667},{"$f":"IF(D113<=0,0,'Tabla Amortización Crec'!W119+'Tabla Amortización Crec'!U119)","v":204.5809054698498},299,{"$f":"IF(C113=0,0,'Tabla Amortización Crec'!X119+'Tabla Amortización Crec'!V119+'Tabla Amortización Crec'!S119+'Tabla Amortización Crec'!Q119)","v":136.02321154184264},12394.226855223811,null,674849.18952688435,12258.203643681969]
[107,{"$f":"'Tabla Amortización Crec'!C120","v":"2031-02-04"},674849.18952688435,{"$f":"IF(C114<=0,0,IF(C114<D113,C114,'Tabla Amortización Crec'!AB120))","v":5696.2099535462485},null,{"$f":"IF(C114<=0,0,'Tabla Amortización Crec'!AC120)","v":5171.9692855555559},10868.179239101804,null,539.87935162150757,{"$f":"IF(P113<=0.01,0,'Tabla Amortización Crec'!R120)","v":346.56416666666667},{"$f":"IF(D114<=0,0,'Tabla Amortización Crec'!W120+'Tabla Amortización Crec'!U120)","v":204.58090546984982},299,{"$f":"IF(C114=0,0,'Tabla Amortización Crec'!X120+'Tabla Amortización Crec'!V120+'Tabla Amortización Crec'!S120+'Tabla Amortización Crec'!Q120)","v":136.02321154184264},12394.226874401671,null,669152.97957333806,12258.203662859829]
[108,{"$f":"'Tabla Amortización Crec'!C121","v":"2031-03-04"},669152.97957333806,{"$f":"IF(C115<=0,0,IF(C115<D114,C115,'Tabla Amortización Crec'!AB121))","v":6240.7105015310735},null,{"$f":"IF(C115<=0,0,'Tabla Amortización Crec'!AC121)","v":4632.0256974444446},10872.736198975519,null,535.32238365867045,{"$f":"IF(P114<=0.01,0,'Tabla Amortización Crec'!R121)","v":346.56416666666667},{"$f":"IF(D115<=0,0,'Tabla Amortización Crec'!W121+'Tabla Amortización Crec'!U121)","v":204.5809054698498},299,{"$f":"IF(C115=0,0,'Tabla Amortización Crec'!X121+'Tabla Amortización Crec'!V121+'Tabla Amortización Crec'!S121+'Tabla Amortización Crec'!Q121)","v":136.02321154184264},12394.226866312549,null,662912.26907180704,12258.203654770707]
[109,{"$f":"'Tabla Amortización Crec'!C122","v":"2031-04-04"},662912.26907180704,{"$f":"IF(C116<=0,0,IF(C116<D115,C116,'Tabla Amortización Crec'!AB122))","v":6059.6280676940733},null,{"$f":"IF(C116<=0,0,'Tabla Amortización Crec'!AC122)","v":5080.486057000001},11140.114124694075,null,530.32981525744572,{"$f":"IF(P115<=0.01,0,'Tabla Amortización Crec'!R122)","v":346.56416666666667},{"$f":"IF(D116<=0,0,'Tabla Amortización Crec'!W122+'Tabla Amortización Crec'!U122)","v":207.15228185810719},299,{"$f":"IF(C116=0,0,'Tabla Amortización Crec'!X122+'Tabla Amortización Crec'!V122+'Tabla Amortización Crec'!S122+'Tabla Amortización Crec'!Q122)","v":136.43463176396381},12659.59502024026,null,656852.64100411301,12523.160388476295]
[110,{"$f":"'Tabla Amortización Crec'!C123","v":"2031-05-04"},656852.64100411301,{"$f":"IF(C117<=0,0,IF(C117<D116,C117,'Tabla Amortización Crec'!AB123))","v":6273.3046559486011},null,{"$f":"IF(C117<=0,0,'Tabla Amortización Crec'!AC123)","v":4871.6571541666672},11144.961810115268,null,525.48211280329053,{"$f":"IF(P116<=0.01,0,'Tabla Amortización Crec'!R123)","v":346.56416666666667},{"$f":"IF(D117<=0,0,'Tabla Amortización Crec'!W123+'Tabla Amortización Crec'!U123)","v":207.15228185810713},299,{"$f":"IF(C117=0,0,'Tabla Amortización Crec'!X123+'Tabla Amortización Crec'!V123+'Tabla Amortización Crec'!S123+'Tabla Amortización Crec'!Q123)","v":136.43463176396381},12659.595003207296,null,650579.33634816436,12523.160371443333]
[111,{"$f":"'Tabla Amortización Crec'!C124","v":"2031-06-04"},650579.33634816436,{"$f":"IF(C118<=0,0,IF(C118<D117,C118,'Tabla Amortización Crec'!AB124))","v":6164.0126399411265},null,{"$f":"IF(C118<=0,0,'Tabla Amortización Crec'!AC124)","v":4985.9678518055553},11149.980491746683,null,520.46346907853149,{"$f":"IF(P117<=0.01,0,'Tabla Amortización Crec'!R124)","v":346.56416666666667},{"$f":"IF(D118<=0,0,'Tabla Amortización Crec'!W124+'Tabla Amortización Crec'!U124)","v":207.15228185810713},299,{"$f":"IF(C118=0,0,'Tabla Amortización Crec'!X124+'Tabla Amortización Crec'!V124+'Tabla Amortización Crec'!S124+'Tabla Amortización Crec'!Q124)","v":136.43463176396381},12659.595041113953,null,644415.32370822318,12523.160409349988]
[112,{"$f":"'Tabla Amortización Crec'!C125","v":"2031-07-04"},644415.32370822318,{"$f":"IF(C119<=0,0,IF(C119<D118,C119,'Tabla Amortización Crec'!AB125))","v":6375.4979463964955},null,{"$f":"IF(C119<=0,0,'Tabla Amortización Crec'!AC125)","v":4779.4137716666673},11154.911718063162,null,515.53225896657852,{"$f":"IF(P118<=0.01,0,'Tabla Amortización Crec'!R125)","v":346.56416666666667},{"$f":"IF(D119<=0,0,'Tabla Amortización Crec'!W125+'Tabla Amortización Crec'!U125)","v":207.15228185810713},299,{"$f":"IF(C119=0,0,'Tabla Amortización Crec'!X125+'Tabla Amortización Crec'!V125+'Tabla Amortización Crec'!S125+'Tabla Amortización Crec'!Q125)","v":136.43463176396381},12659.59505731848,null,638039.82576182671,12523.160425554517]
[113,{"$f":"'Tabla Amortización Crec'!C126","v":"2031-08-04"},638039.82576182671,{"$f":"IF(C120<=0,0,IF(C120<D119,C120,'Tabla Amortización Crec'!AB126))","v":6270.1456642649346},null,{"$f":"IF(C120<=0,0,'Tabla Amortización Crec'!AC126)","v":4889.8664404444444},11160.012104709378,null,510.43186060946135,{"$f":"IF(P119<=0.01,0,'Tabla Amortización Crec'!R126)","v":346.56416666666667},{"$f":"IF(D120<=0,0,'Tabla Amortización Crec'!W126+'Tabla Amortización Crec'!U126)","v":207.15228185810713},299,{"$f":"IF(C120=0,0,'Tabla Amortización Crec'!X126+'Tabla Amortización Crec'!V126+'Tabla Amortización Crec'!S126+'Tabla Amortización Crec'!Q126)","v":136.43463176396381},12659.595045607579,null,631769.6800975618,12523.160413843616]
[114,{"$f":"'Tabla Amortización Crec'!C127","v":"2031-09-04"},631769.6800975618,{"$f":"IF(C121<=0,0,IF(C121<D120,C121,'Tabla Amortización Crec'!AB127))","v":6323.2154804844213},null,{"$f":"IF(C121<=0,0,'Tabla Amortización Crec'!AC127)","v":4841.8127075277771},11165.028188012198,null,505.41574407804944,{"$f":"IF(P120<=0.01,0,'Tabla Amortización Crec'!R127)","v":346.56416666666667},{"$f":"IF(D121<=0,0,'Tabla Amortización Crec'!W127+'Tabla Amortización Crec'!U127)","v":207.15228185810713},299,{"$f":"IF(C121=0,0,'Tabla Amortización Crec'!X127+'Tabla Amortización Crec'!V127+'Tabla Amortización Crec'!S127+'Tabla Amortización Crec'!Q127)","v":136.43463176396381},12659.595012378986,null,625446.46461707738,12523.160380615023]
[115,{"$f":"'Tabla Amortización Crec'!C128","v":"2031-10-04"},625446.46461707738,{"$f":"IF(C122<=0,0,IF(C122<D121,C122,'Tabla Amortización Crec'!AB128))","v":6531.3587385954097},null,{"$f":"IF(C122<=0,0,'Tabla Amortización Crec'!AC128)","v":4638.7279858333332},11170.086724428744,null,500.35717169366194,{"$f":"IF(P121<=0.01,0,'Tabla Amortización Crec'!R128)","v":346.56416666666667},{"$f":"IF(D122<=0,0,'Tabla Amortización Crec'!W128+'Tabla Amortización Crec'!U128)","v":207.15228185810713},299,{"$f":"IF(C122=0,0,'Tabla Amortización Crec'!X128+'Tabla Amortización Crec'!V128+'Tabla Amortización Crec'!S128+'Tabla Amortización Crec'!Q128)","v":136.43463176396381},12659.594976411145,null,618915.10587848199,12523.160344647182]
[116,{"$f":"'Tabla Amortización Crec'!C129","v":"2031-11-04"},618915.10587848199,{"$f":"IF(C123<=0,0,IF(C123<D122,C123,'Tabla Amortización Crec'!AB129))","v":6432.0151683886888},null,{"$f":"IF(C123<=0,0,'Tabla Amortización Crec'!AC129)","v":4743.2966346944449},11175.311803083134,null,495.13208470278562,{"$f":"IF(P122<=0.01,0,'Tabla Amortización Crec'!R129)","v":346.56416666666667},{"$f":"IF(D123<=0,0,'Tabla Amortización Crec'!W129+'Tabla Amortización Crec'!U129)","v":207.15228185810713},299,{"$f":"IF(C123=0,0,'Tabla Amortización Crec'!X129+'Tabla Amortización Crec'!V129+'Tabla Amortización Crec'!S129+'Tabla Amortización Crec'!Q129)","v":136.43463176396381},12659.594968074656,null,612483.09071009327,12523.160336310691]
[117,{"$f":"'Tabla Amortización Crec'!C130","v":"2031-12-04"},612483.09071009327,{"$f":"IF(C124<=0,0,IF(C124<D123,C124,'Tabla Amortización Crec'!AB130))","v":6637.8744608644629},null,{"$f":"IF(C124<=0,0,'Tabla Amortización Crec'!AC130)","v":4542.5829174999999},11180.457378364463,null,489.98647256807465,{"$f":"IF(P123<=0.01,0,'Tabla Amortización Crec'!R130)","v":346.56416666666667},{"$f":"IF(D124<=0,0,'Tabla Amortización Crec'!W130+'Tabla Amortización Crec'!U130)","v":207.15228185810713},299,{"$f":"IF(C124=0,0,'Tabla Amortización Crec'!X130+'Tabla Amortización Crec'!V130+'Tabla Amortización Crec'!S130+'Tabla Amortización Crec'!Q130)","v":136.43463176396381},12659.594931221276,null,605845.2162492288,12523.160299457311]
[118,{"$f":"'Tabla Amortización Crec'!C131","v":"2032-01-04"},605845.2162492288,{"$f":"IF(C125<=0,0,IF(C125<D124,C125,'Tabla Amortización Crec'!AB131))","v":6542.6372620007278},null,{"$f":"IF(C125<=0,0,'Tabla Amortización Crec'!AC131)","v":4643.130449944445},11185.767711945173,null,484.67617299938308,{"$f":"IF(P124<=0.01,0,'Tabla Amortización Crec'!R131)","v":346.56416666666667},{"$f":"IF(D125<=0,0,'Tabla Amortización Crec'!W131+'Tabla Amortización Crec'!U131)","v":207.15228185810713},299,{"$f":"IF(C125=0,0,'Tabla Amortización Crec'!X131+'Tabla Amortización Crec'!V131+'Tabla Amortización Crec'!S131+'Tabla Amortización Crec'!Q131)","v":136.43463176396381},12659.594965233295,null,599302.5789872281,12523.160333469332]
[119,{"$f":"'Tabla Amortización Crec'!C132","v":"2032-02-04"},599302.5789872281,{"$f":"IF(C126<=0,0,IF(C126<D125,C126,'Tabla Amortización Crec'!AB132))","v":6598.0134168266068},null,{"$f":"IF(C126<=0,0,'Tabla Amortización Crec'!AC132)","v":4592.9883839444456},11191.001800771053,null,479.44206318978252,{"$f":"IF(P125<=0.01,0,'Tabla Amortización Crec'!R132)","v":346.56416666666667},{"$f":"IF(D126<=0,0,'Tabla Amortización Crec'!W132+'Tabla Amortización Crec'!U132)","v":207.15228185810713},299,{"$f":"IF(C126=0,0,'Tabla Amortización Crec'!X132+'Tabla Amortización Crec'!V132+'Tabla Amortización Crec'!S132+'Tabla Amortización Crec'!Q132)","v":136.43463176396381},12659.594944249575,null,592704.56557040149,12523.160312485612]
[120,{"$f":"'Tabla Amortización Crec'!C133","v":"2032-03-04"},592704.56557040149,{"$f":"IF(C127<=0,0,IF(C127<D126,C127,'Tabla Amortización Crec'!AB133))","v":6946.9177489171689},null,{"$f":"IF(C127<=0,0,'Tabla Amortización Crec'!AC133)","v":4249.3624865833335},11196.280235500502,null,474.16365245632124,{"$f":"IF(P126<=0.01,0,'Tabla Amortización Crec'!R133)","v":346.56416666666667},{"$f":"IF(D127<=0,0,'Tabla Amortización Crec'!W133+'Tabla Amortización Crec'!U133)","v":207.15228185810719},299,{"$f":"IF(C127=0,0,'Tabla Amortización Crec'!X133+'Tabla Amortización Crec'!V133+'Tabla Amortización Crec'!S133+'Tabla Amortización Crec'!Q133)","v":136.43463176396381},12659.594968245561,null,585757.64782148437,12523.160336481596]
[121,{"$f":"'Tabla Amortización Crec'!C134","v":"2032-04-04"},585757.64782148437,{"$f":"IF(C128<=0,0,IF(C128<D127,C128,'Tabla Amortización Crec'!AB134))","v":6981.0764179136868},null,{"$f":"IF(C128<=0,0,'Tabla Amortización Crec'!AC134)","v":4489.1815454166681},11470.257963330354,null,468.60611825718752,{"$f":"IF(P127<=0.01,0,'Tabla Amortización Crec'!R134)","v":346.56416666666667},{"$f":"IF(D128<=0,0,'Tabla Amortización Crec'!W134+'Tabla Amortización Crec'!U134)","v":209.78279990329438},299,{"$f":"IF(C128=0,0,'Tabla Amortización Crec'!X134+'Tabla Amortización Crec'!V134+'Tabla Amortización Crec'!S134+'Tabla Amortización Crec'!Q134)","v":136.85551465119377},12931.066562808697,null,578776.57140357071,12794.211048157504]
[122,{"$f":"'Tabla Amortización Crec'!C135","v":"2032-05-04"},578776.57140357071,{"$f":"IF(C129<=0,0,IF(C129<D128,C129,'Tabla Amortización Crec'!AB135))","v":7183.2499031922989},null,{"$f":"IF(C129<=0,0,'Tabla Amortización Crec'!AC135)","v":4292.5928941666662},11475.842797358964,null,463.02125712285658,{"$f":"IF(P128<=0.01,0,'Tabla Amortización Crec'!R135)","v":346.56416666666667},{"$f":"IF(D129<=0,0,'Tabla Amortización Crec'!W135+'Tabla Amortización Crec'!U135)","v":209.7827999032944},299,{"$f":"IF(C129=0,0,'Tabla Amortización Crec'!X135+'Tabla Amortización Crec'!V135+'Tabla Amortización Crec'!S135+'Tabla Amortización Crec'!Q135)","v":136.85551465119377},12931.066535702976,null,571593.32150037843,12794.211021051782]
[123,{"$f":"'Tabla Amortización Crec'!C136","v":"2032-06-04"},571593.32150037843,{"$f":"IF(C130<=0,0,IF(C130<D129,C130,'Tabla Amortización Crec'!AB136))","v":7100.9617020814912},null,{"$f":"IF(C130<=0,0,'Tabla Amortización Crec'!AC136)","v":4380.6276941111109},11481.589396192601,null,457.27465720030273,{"$f":"IF(P129<=0.01,0,'Tabla Amortización Crec'!R136)","v":346.56416666666667},{"$f":"IF(D130<=0,0,'Tabla Amortización Crec'!W136+'Tabla Amortización Crec'!U136)","v":209.7827999032944},299,{"$f":"IF(C130=0,0,'Tabla Amortización Crec'!X136+'Tabla Amortización Crec'!V136+'Tabla Amortización Crec'!S136+'Tabla Amortización Crec'!Q136)","v":136.85551465119377},12931.066534614059,null,564492.35979829694,12794.211019962866]
[124,{"$f":"'Tabla Amortización Crec'!C137","v":"2032-07-04"},564492.35979829694,{"$f":"IF(C131<=0,0,IF(C131<D130,C131,'Tabla Amortización Crec'!AB137))","v":7300.6185085489651},null,{"$f":"IF(C131<=0,0,'Tabla Amortización Crec'!AC137)","v":4186.6516700000002},11487.270178548966,null,451.59388783863756,{"$f":"IF(P130<=0.01,0,'Tabla Amortización Crec'!R137)","v":346.56416666666667},{"$f":"IF(D131<=0,0,'Tabla Amortización Crec'!W137+'Tabla Amortización Crec'!U137)","v":209.78279990329438},299,{"$f":"IF(C131=0,0,'Tabla Amortización Crec'!X137+'Tabla Amortización Crec'!V137+'Tabla Amortización Crec'!S137+'Tabla Amortización Crec'!Q137)","v":136.85551465119377},12931.066547608758,null,557191.741289748,12794.211032957564]
[125,{"$f":"'Tabla Amortización Crec'!C138","v":"2032-08-04"},557191.741289748,{"$f":"IF(C132<=0,0,IF(C132<D131,C132,'Tabla Amortización Crec'!AB138))","v":7222.8550768086889},null,{"$f":"IF(C132<=0,0,'Tabla Amortización Crec'!AC138)","v":4270.2555851666675},11493.110661975355,null,445.7533930317984,{"$f":"IF(P131<=0.01,0,'Tabla Amortización Crec'!R138)","v":346.56416666666667},{"$f":"IF(D132<=0,0,'Tabla Amortización Crec'!W138+'Tabla Amortización Crec'!U138)","v":209.7827999032944},299,{"$f":"IF(C132=0,0,'Tabla Amortización Crec'!X138+'Tabla Amortización Crec'!V138+'Tabla Amortización Crec'!S138+'Tabla Amortización Crec'!Q138)","v":136.85551465119377},12931.066536228309,null,549968.88621293928,12794.211021577115]
[126,{"$f":"'Tabla Amortización Crec'!C139","v":"2032-09-04"},549968.88621293928,{"$f":"IF(C133<=0,0,IF(C133<D132,C133,'Tabla Amortización Crec'!AB139))","v":7283.9885196393434},null,{"$f":"IF(C133<=0,0,'Tabla Amortización Crec'!AC139)","v":4214.9003886666669},11498.888908306009,null,439.97510897035147,{"$f":"IF(P132<=0.01,0,'Tabla Amortización Crec'!R139)","v":346.56416666666667},{"$f":"IF(D133<=0,0,'Tabla Amortización Crec'!W139+'Tabla Amortización Crec'!U139)","v":209.7827999032944},299,{"$f":"IF(C133=0,0,'Tabla Amortización Crec'!X139+'Tabla Amortización Crec'!V139+'Tabla Amortización Crec'!S139+'Tabla Amortización Crec'!Q139)","v":136.85551465119377},12931.066498497516,null,542684.89769329992,12794.210983846322]
[127,{"$f":"'Tabla Amortización Crec'!C140","v":"2032-10-04"},542684.89769329992,{"$f":"IF(C134<=0,0,IF(C134<D133,C134,'Tabla Amortización Crec'!AB140))","v":7479.8031555116904},null,{"$f":"IF(C134<=0,0,'Tabla Amortización Crec'!AC140)","v":4024.9129341666671},11504.716089678357,null,434.14791815463997,{"$f":"IF(P133<=0.01,0,'Tabla Amortización Crec'!R140)","v":346.56416666666667},{"$f":"IF(D134<=0,0,'Tabla Amortización Crec'!W140+'Tabla Amortización Crec'!U140)","v":209.7827999032944},299,{"$f":"IF(C134=0,0,'Tabla Amortización Crec'!X140+'Tabla Amortización Crec'!V140+'Tabla Amortización Crec'!S140+'Tabla Amortización Crec'!Q140)","v":136.85551465119377},12931.066489054152,null,535205.09453778819,12794.210974402959]
[128,{"$f":"'Tabla Amortización Crec'!C141","v":"2032-11-04"},535205.09453778819,{"$f":"IF(C135<=0,0,IF(C135<D134,C135,'Tabla Amortización Crec'!AB141))","v":7408.9476119565261},null,{"$f":"IF(C135<=0,0,'Tabla Amortización Crec'!AC141)","v":4101.7523425277777},11510.699954484304,null,428.16407563023057,{"$f":"IF(P134<=0.01,0,'Tabla Amortización Crec'!R141)","v":346.56416666666667},{"$f":"IF(D135<=0,0,'Tabla Amortización Crec'!W141+'Tabla Amortización Crec'!U141)","v":209.7827999032944},299,{"$f":"IF(C135=0,0,'Tabla Amortización Crec'!X141+'Tabla Amortización Crec'!V141+'Tabla Amortización Crec'!S141+'Tabla Amortización Crec'!Q141)","v":136.85551465119377},12931.06651133569,null,527796.14692583168,12794.210996684496]
[129,{"$f":"'Tabla Amortización Crec'!C142","v":"2032-12-04"},527796.14692583168,{"$f":"IF(C136<=0,0,IF(C136<D135,C136,'Tabla Amortización Crec'!AB142))","v":7602.1390576510548},null,{"$f":"IF(C136<=0,0,'Tabla Amortización Crec'!AC142)","v":3914.4880383333339},{"$f":"D136+F136","v":11516.62709598439},null,422.23691754066539,{"$f":"IF(P135<=0.01,0,'Tabla Amortización Crec'!R142)","v":346.56416666666667},{"$f":"IF(D136<=0,0,'Tabla Amortización Crec'!W142+'Tabla Amortización Crec'!U142)","v":209.7827999032944},299,{"$f":"IF(C136=0,0,'Tabla Amortización Crec'!X142+'Tabla Amortización Crec'!V142+'Tabla Amortización Crec'!S142+'Tabla Amortización Crec'!Q142)","v":136.85551465119377},12931.06649474621,null,{"$f":"C136-D136-E136-H136","v":520194.00786818063},12794.210980095017]
[130,{"$f":"'Tabla Amortización Crec'!C143","v":"2033-01-04"},520194.00786818063,{"$f":"IF(C137<=0,0,IF(C137<D136,C137,'Tabla Amortización Crec'!AB143))","v":7535.9997816295645},null,{"$f":"IF(C137<=0,0,'Tabla Amortización Crec'!AC143)","v":3986.7090166666667},11522.708798296231,null,{"$f":"IF(C137<=0,0,(C137*0.8/1000))","v":416.15520629454448},{"$f":"IF(P136<=0.01,0,'Tabla Amortización Crec'!R143)","v":346.56416666666667},{"$f":"IF(D137<=0,0,'Tabla Amortización Crec'!W143+'Tabla Amortización Crec'!U143)","v":209.7827999032944},{"$f":"IF(C137<=0,,299)","v":299},{"$f":"IF(C137=0,0,'Tabla Amortización Crec'!X143+'Tabla Amortización Crec'!V143+'Tabla Amortización Crec'!S143+'Tabla Amortización Crec'!Q143)","v":136.85551465119377},12931.066485811931,null,512658.0080865511,12794.210971160737]
[131,{"$f":"'Tabla Amortización Crec'!C144","v":"2033-02-04"},512658.0080865511,{"$f":"IF(C138<=0,0,IF(C138<D137,C138,'Tabla Amortización Crec'!AB144))","v":7599.7836464479697},null,{"$f":"IF(C138<=0,0,'Tabla Amortización Crec'!AC144)","v":3928.9539500000005},11528.737596447971,null,410.12640646924092,{"$f":"IF(P137<=0.01,0,'Tabla Amortización Crec'!R144)","v":346.56416666666667},{"$f":"IF(D138<=0,0,'Tabla Amortización Crec'!W144+'Tabla Amortización Crec'!U144)","v":209.7827999032944},299,{"$f":"IF(C138=0,0,'Tabla Amortización Crec'!X144+'Tabla Amortización Crec'!V144+'Tabla Amortización Crec'!S144+'Tabla Amortización Crec'!Q144)","v":136.85551465119377},{"$f":"G138+K138+J138+L138+M138+I138","v":12931.066484138366},null,505058.22444010311,{"$f":"N138-M138+H138+E138","v":12794.210969487172}]
[132,{"$f":"'Tabla Amortización Crec'!C145","v":"2033-03-04"},{"$f":"IF(P138<=0.01,0,P138)","v":505058.22444010311},{"$f":"IF(C139<=0,0,IF(C139<D138,C139,'Tabla Amortización Crec'!AB145))","v":8038.6922206041754},null,{"$f":"IF(C139<=0,0,'Tabla Amortización Crec'!AC145)","v":3496.1252340000005},11534.817454604176,null,404.04657955208251,{"$f":"IF(P138<=0.01,0,'Tabla Amortización Crec'!R145)","v":346.56416666666667},{"$f":"IF(D139<=0,0,'Tabla Amortización Crec'!W145+'Tabla Amortización Crec'!U145)","v":209.7827999032944},299,{"$f":"IF(C139=0,0,'Tabla Amortización Crec'!X145+'Tabla Amortización Crec'!V145+'Tabla Amortización Crec'!S145+'Tabla Amortización Crec'!Q145)","v":136.85551465119377},12931.066515377413,null,497019.53221949894,12794.21100072622]
[133,{"$f":"'Tabla Amortización Crec'!C146","v":"2033-04-04"},497019.53221949894,{"$f":"IF(C140<=0,0,IF(C140<D139,C140,'Tabla Amortización Crec'!AB146))","v":8006.7398420707759},null,{"$f":"IF(C140<=0,0,'Tabla Amortización Crec'!AC146)","v":3809.1024535277788},11815.842295598555,null,397.61562577559914,{"$f":"IF(P139<=0.01,0,'Tabla Amortización Crec'!R146)","v":346.56416666666667},{"$f":"IF(D140<=0,0,'Tabla Amortización Crec'!W146+'Tabla Amortización Crec'!U146)","v":212.47381986352099},299,{"$f":"IF(C140=0,0,'Tabla Amortización Crec'!X146+'Tabla Amortización Crec'!V146+'Tabla Amortización Crec'!S146+'Tabla Amortización Crec'!Q146)","v":137.28607784483003},13208.781985749172,null,489012.79237742815,13071.495907904342]
[134,{"$f":"'Tabla Amortización Crec'!C147","v":"2033-05-04"},489012.79237742815,{"$f":"IF(C141<=0,0,IF(C141<D140,C141,'Tabla Amortización Crec'!AB147))","v":8195.4028276829449},null,{"$f":"IF(C141<=0,0,'Tabla Amortización Crec'!AC147)","v":3626.844859166667},11822.247686849612,null,391.21023390194256,{"$f":"IF(P140<=0.01,0,'Tabla Amortización Crec'!R147)","v":346.56416666666667},{"$f":"IF(D141<=0,0,'Tabla Amortización Crec'!W147+'Tabla Amortización Crec'!U147)","v":212.47381986352099},299,{"$f":"IF(C141=0,0,'Tabla Amortización Crec'!X147+'Tabla Amortización Crec'!V147+'Tabla Amortización Crec'!S147+'Tabla Amortización Crec'!Q147)","v":137.28607784483003},13208.781985126572,null,480817.38954974519,13071.495907281742]
[135,{"$f":"'Tabla Amortización Crec'!C148","v":"2033-06-04"},480817.38954974519,{"$f":"IF(C142<=0,0,IF(C142<D141,C142,'Tabla Amortización Crec'!AB148))","v":8143.8729773894975},null,{"$f":"IF(C142<=0,0,'Tabla Amortización Crec'!AC148)","v":3684.9310528055557},11828.804030195053,null,384.65391163979615,{"$f":"IF(P141<=0.01,0,'Tabla Amortización Crec'!R148)","v":346.56416666666667},{"$f":"IF(D142<=0,0,'Tabla Amortización Crec'!W148+'Tabla Amortización Crec'!U148)","v":212.47381986352099},299,{"$f":"IF(C142=0,0,'Tabla Amortización Crec'!X148+'Tabla Amortización Crec'!V148+'Tabla Amortización Crec'!S148+'Tabla Amortización Crec'!Q148)","v":137.28607784483003},13208.782006209867,null,472673.5165723557,13071.495928365037]
[136,{"$f":"'Tabla Amortización Crec'!C149","v":"2033-07-04"},472673.5165723557,{"$f":"IF(C143<=0,0,IF(C143<D142,C143,'Tabla Amortización Crec'!AB149))","v":8329.6572105479554},null,{"$f":"IF(C143<=0,0,'Tabla Amortización Crec'!AC149)","v":3505.6619400000004},11835.319150547955,null,378.13881325788458,{"$f":"IF(P142<=0.01,0,'Tabla Amortización Crec'!R149)","v":346.56416666666667},{"$f":"IF(D143<=0,0,'Tabla Amortización Crec'!W149+'Tabla Amortización Crec'!U149)","v":212.47381986352099},299,{"$f":"IF(C143=0,0,'Tabla Amortización Crec'!X149+'Tabla Amortización Crec'!V149+'Tabla Amortización Crec'!S149+'Tabla Amortización Crec'!Q149)","v":137.28607784483003},13208.782028180858,null,464343.85936180776,13071.495950336028]
[137,{"$f":"'Tabla Amortización Crec'!C150","v":"2033-08-04"},464343.85936180776,{"$f":"IF(C144<=0,0,IF(C144<D143,C144,'Tabla Amortización Crec'!AB150))","v":8283.3031065079558},null,{"$f":"IF(C144<=0,0,'Tabla Amortización Crec'!AC150)","v":3558.6797492777778},11841.982855785733,null,371.4750874894462,{"$f":"IF(P143<=0.01,0,'Tabla Amortización Crec'!R150)","v":346.56416666666667},{"$f":"IF(D144<=0,0,'Tabla Amortización Crec'!W150+'Tabla Amortización Crec'!U150)","v":212.47381986352093},299,{"$f":"IF(C144=0,0,'Tabla Amortización Crec'!X150+'Tabla Amortización Crec'!V150+'Tabla Amortización Crec'!S150+'Tabla Amortización Crec'!Q150)","v":137.28607784483},13208.782007650196,null,456060.55625529983,13071.495929805365]
[138,{"$f":"'Tabla Amortización Crec'!C151","v":"2033-09-04"},456060.55625529983,{"$f":"IF(C145<=0,0,IF(C145<D144,C145,'Tabla Amortización Crec'!AB151))","v":8353.4120636344287},null,{"$f":"IF(C145<=0,0,'Tabla Amortización Crec'!AC151)","v":3495.1974584444447},11848.609522078874,null,364.84844500423992,{"$f":"IF(P144<=0.01,0,'Tabla Amortización Crec'!R151)","v":346.56416666666667},{"$f":"IF(D145<=0,0,'Tabla Amortización Crec'!W151+'Tabla Amortización Crec'!U151)","v":212.47381986352099},299,{"$f":"IF(C145=0,0,'Tabla Amortización Crec'!X151+'Tabla Amortización Crec'!V151+'Tabla Amortización Crec'!S151+'Tabla Amortización Crec'!Q151)","v":137.28607784483003},13208.782031458131,null,447707.1441916654,13071.495953613301]
[139,{"$f":"'Tabla Amortización Crec'!C152","v":"2033-10-04"},447707.1441916654,{"$f":"IF(C146<=0,0,IF(C146<D145,C146,'Tabla Amortización Crec'!AB152))","v":8534.7975702759613},null,{"$f":"IF(C146<=0,0,'Tabla Amortización Crec'!AC152)","v":3320.4946958333339},11855.292266109296,null,358.16571535333236,{"$f":"IF(P145<=0.01,0,'Tabla Amortización Crec'!R152)","v":346.56416666666667},{"$f":"IF(D146<=0,0,'Tabla Amortización Crec'!W152+'Tabla Amortización Crec'!U152)","v":212.47381986352099},299,{"$f":"IF(C146=0,0,'Tabla Amortización Crec'!X152+'Tabla Amortización Crec'!V152+'Tabla Amortización Crec'!S152+'Tabla Amortización Crec'!Q152)","v":137.28607784483003},13208.782045837646,null,439172.34662138944,13071.495967992816]
[140,{"$f":"'Tabla Amortización Crec'!C153","v":"2033-11-04"},439172.34662138944,{"$f":"IF(C147<=0,0,IF(C147<D146,C147,'Tabla Amortización Crec'!AB153))","v":8496.3519935081076},null,{"$f":"IF(C147<=0,0,'Tabla Amortización Crec'!AC153)","v":3365.7680934722225},11862.120086980331,null,351.33787729711156,{"$f":"IF(P146<=0.01,0,'Tabla Amortización Crec'!R153)","v":346.56416666666667},{"$f":"IF(D147<=0,0,'Tabla Amortización Crec'!W153+'Tabla Amortización Crec'!U153)","v":212.47381986352099},299,{"$f":"IF(C147=0,0,'Tabla Amortización Crec'!X153+'Tabla Amortización Crec'!V153+'Tabla Amortización Crec'!S153+'Tabla Amortización Crec'!Q153)","v":137.28607784483003},13208.78202865246,null,430675.99462788133,13071.49595080763]
[141,{"$f":"'Tabla Amortización Crec'!C154","v":"2033-12-04"},430675.99462788133,{"$f":"IF(C148<=0,0,IF(C148<D147,C148,'Tabla Amortización Crec'!AB154))","v":8674.7368491917205},null,{"$f":"IF(C148<=0,0,'Tabla Amortización Crec'!AC154)","v":3194.1803333333337},11868.917182525054,null,344.5407957023051,{"$f":"IF(P147<=0.01,0,'Tabla Amortización Crec'!R154)","v":346.56416666666667},{"$f":"IF(D148<=0,0,'Tabla Amortización Crec'!W154+'Tabla Amortización Crec'!U154)","v":212.47381986352099},299,{"$f":"IF(C148=0,0,'Tabla Amortización Crec'!X154+'Tabla Amortización Crec'!V154+'Tabla Amortización Crec'!S154+'Tabla Amortización Crec'!Q154)","v":137.28607784483003},13208.782042602377,null,422001.25777868961,13071.495964757547]
[142,{"$f":"'Tabla Amortización Crec'!C155","v":"2034-01-04"},422001.25777868961,{"$f":"IF(C149<=0,0,IF(C149<D148,C149,'Tabla Amortización Crec'!AB155))","v":8641.6861815739594},null,{"$f":"IF(C149<=0,0,'Tabla Amortización Crec'!AC155)","v":3234.1707676111118},11875.856949185072,null,337.6010062229517,{"$f":"IF(P148<=0.01,0,'Tabla Amortización Crec'!R155)","v":346.56416666666667},{"$f":"IF(D149<=0,0,'Tabla Amortización Crec'!W155+'Tabla Amortización Crec'!U155)","v":212.47381986352099},299,{"$f":"IF(C149=0,0,'Tabla Amortización Crec'!X155+'Tabla Amortización Crec'!V155+'Tabla Amortización Crec'!S155+'Tabla Amortización Crec'!Q155)","v":137.28607784483003},13208.782019783042,null,413359.57159711566,13071.495941938212]
[143,{"$f":"'Tabla Amortización Crec'!C156","v":"2034-02-04"},413359.57159711566,{"$f":"IF(C150<=0,0,IF(C150<D149,C150,'Tabla Amortización Crec'!AB156))","v":8714.8284532274483},null,{"$f":"IF(C150<=0,0,'Tabla Amortización Crec'!AC156)","v":3167.9418156388897},11882.770268866338,null,330.68765727769255,{"$f":"IF(P149<=0.01,0,'Tabla Amortización Crec'!R156)","v":346.56416666666667},{"$f":"IF(D150<=0,0,'Tabla Amortización Crec'!W156+'Tabla Amortización Crec'!U156)","v":212.47381986352099},299,{"$f":"IF(C150=0,0,'Tabla Amortización Crec'!X156+'Tabla Amortización Crec'!V156+'Tabla Amortización Crec'!S156+'Tabla Amortización Crec'!Q156)","v":137.28607784483003},13208.781990519048,null,404644.74314388819,13071.495912674218]
[144,{"$f":"'Tabla Amortización Crec'!C157","v":"2034-03-04"},404644.74314388819,{"$f":"IF(C151<=0,0,IF(C151<D150,C151,'Tabla Amortización Crec'!AB157))","v":9088.7013107730108},null,{"$f":"IF(C151<=0,0,'Tabla Amortización Crec'!AC157)","v":2801.0408113333333},11889.742122106345,null,323.71579451511053,{"$f":"IF(P150<=0.01,0,'Tabla Amortización Crec'!R157)","v":346.56416666666667},{"$f":"IF(D151<=0,0,'Tabla Amortización Crec'!W157+'Tabla Amortización Crec'!U157)","v":212.47381986352099},299,{"$f":"IF(C151=0,0,'Tabla Amortización Crec'!X157+'Tabla Amortización Crec'!V157+'Tabla Amortización Crec'!S157+'Tabla Amortización Crec'!Q157)","v":137.28607784483003},13208.781980996473,null,395556.04183311516,13071.495903151643]
[145,{"$f":"'Tabla Amortización Crec'!C158","v":"2034-04-04"},395556.04183311516,{"$f":"IF(C152<=0,0,IF(C152<D151,C152,'Tabla Amortización Crec'!AB158))","v":9146.42508356281},null,{"$f":"IF(C152<=0,0,'Tabla Amortización Crec'!AC158)","v":3031.4975398888896},12177.922623451699,null,316.44483346649213,{"$f":"IF(P151<=0.01,0,'Tabla Amortización Crec'!R158)","v":346.56416666666667},{"$f":"IF(D152<=0,0,'Tabla Amortización Crec'!W158+'Tabla Amortización Crec'!U158)","v":215.22673328283275},299,{"$f":"IF(C152=0,0,'Tabla Amortización Crec'!X158+'Tabla Amortización Crec'!V158+'Tabla Amortización Crec'!S158+'Tabla Amortización Crec'!Q158)","v":137.7265439919199},13492.88490085961,null,386409.61674955237,13355.158356867691]
[146,{"$f":"'Tabla Amortización Crec'!C159","v":"2034-05-04"},386409.61674955237,{"$f":"IF(C153<=0,0,IF(C153<D152,C153,'Tabla Amortización Crec'!AB159))","v":9319.3684533414926},null,{"$f":"IF(C153<=0,0,'Tabla Amortización Crec'!AC159)","v":2865.8712741666668},12185.23972750816,null,309.12769339964188,{"$f":"IF(P152<=0.01,0,'Tabla Amortización Crec'!R159)","v":346.56416666666667},{"$f":"IF(D153<=0,0,'Tabla Amortización Crec'!W159+'Tabla Amortización Crec'!U159)","v":215.22673328283275},299,{"$f":"IF(C153=0,0,'Tabla Amortización Crec'!X159+'Tabla Amortización Crec'!V159+'Tabla Amortización Crec'!S159+'Tabla Amortización Crec'!Q159)","v":137.7265439919199},13492.88486484922,null,377090.24829621089,13355.158320857301]
[147,{"$f":"'Tabla Amortización Crec'!C160","v":"2034-06-04"},377090.24829621089,{"$f":"IF(C154<=0,0,IF(C154<D153,C154,'Tabla Amortización Crec'!AB160))","v":9302.7175083043294},null,{"$f":"IF(C154<=0,0,'Tabla Amortización Crec'!AC160)","v":2889.977700444445},12192.695208748773,null,301.67219863696874,{"$f":"IF(P153<=0.01,0,'Tabla Amortización Crec'!R160)","v":346.56416666666667},{"$f":"IF(D154<=0,0,'Tabla Amortización Crec'!W160+'Tabla Amortización Crec'!U160)","v":215.22673328283275},299,{"$f":"IF(C154=0,0,'Tabla Amortización Crec'!X160+'Tabla Amortización Crec'!V160+'Tabla Amortización Crec'!S160+'Tabla Amortización Crec'!Q160)","v":137.7265439919199},13492.884851327161,null,367787.53078790655,13355.158307335241]
[148,{"$f":"'Tabla Amortización Crec'!C161","v":"2034-07-04"},367787.53078790655,{"$f":"IF(C155<=0,0,IF(C155<D154,C155,'Tabla Amortización Crec'!AB161))","v":9472.3799263263481},null,{"$f":"IF(C155<=0,0,'Tabla Amortización Crec'!AC161)","v":2727.7574400000008},12200.137366326349,null,294.23002463032526,{"$f":"IF(P154<=0.01,0,'Tabla Amortización Crec'!R161)","v":346.56416666666667},{"$f":"IF(D155<=0,0,'Tabla Amortización Crec'!W161+'Tabla Amortización Crec'!U161)","v":215.22673328283275},299,{"$f":"IF(C155=0,0,'Tabla Amortización Crec'!X161+'Tabla Amortización Crec'!V161+'Tabla Amortización Crec'!S161+'Tabla Amortización Crec'!Q161)","v":137.7265439919199},13492.884834898094,null,358315.15086158022,13355.158290906174]
[149,{"$f":"'Tabla Amortización Crec'!C162","v":"2034-08-04"},358315.15086158022,{"$f":"IF(C156<=0,0,IF(C156<D155,C156,'Tabla Amortización Crec'!AB162))","v":9461.6278468691053},null,{"$f":"IF(C156<=0,0,'Tabla Amortización Crec'!AC162)","v":2746.087420166667},12207.715267035772,null,286.65212068926422,{"$f":"IF(P155<=0.01,0,'Tabla Amortización Crec'!R162)","v":346.56416666666667},{"$f":"IF(D156<=0,0,'Tabla Amortización Crec'!W162+'Tabla Amortización Crec'!U162)","v":215.22673328283275},299,{"$f":"IF(C156=0,0,'Tabla Amortización Crec'!X162+'Tabla Amortización Crec'!V162+'Tabla Amortización Crec'!S162+'Tabla Amortización Crec'!Q162)","v":137.7265439919199},13492.884831666455,null,348853.5230147111,13355.158287674536]
[150,{"$f":"'Tabla Amortización Crec'!C163","v":"2034-09-04"},348853.5230147111,{"$f":"IF(C157<=0,0,IF(C157<D156,C157,'Tabla Amortización Crec'!AB163))","v":9541.7100136730242},null,{"$f":"IF(C157<=0,0,'Tabla Amortización Crec'!AC163)","v":2673.5745391388891},12215.284552811914,null,279.08281841176887,{"$f":"IF(P156<=0.01,0,'Tabla Amortización Crec'!R163)","v":346.56416666666667},{"$f":"IF(D157<=0,0,'Tabla Amortización Crec'!W163+'Tabla Amortización Crec'!U163)","v":215.22673328283275},299,{"$f":"IF(C157=0,0,'Tabla Amortización Crec'!X163+'Tabla Amortización Crec'!V163+'Tabla Amortización Crec'!S163+'Tabla Amortización Crec'!Q163)","v":137.7265439919199},13492.884815165102,null,339311.8130010381,13355.158271173183]
[151,{"$f":"'Tabla Amortización Crec'!C164","v":"2034-10-04"},339311.8130010381,{"$f":"IF(C158<=0,0,IF(C158<D157,C158,'Tabla Amortización Crec'!AB164))","v":9706.3554074751173},null,{"$f":"IF(C158<=0,0,'Tabla Amortización Crec'!AC164)","v":2516.5625166666669},12222.917924141784,null,271.44945040083047,{"$f":"IF(P157<=0.01,0,'Tabla Amortización Crec'!R164)","v":346.56416666666667},{"$f":"IF(D158<=0,0,'Tabla Amortización Crec'!W164+'Tabla Amortización Crec'!U164)","v":215.22673328283275},299,{"$f":"IF(C158=0,0,'Tabla Amortización Crec'!X164+'Tabla Amortización Crec'!V164+'Tabla Amortización Crec'!S164+'Tabla Amortización Crec'!Q164)","v":137.7265439919199},13492.884818484034,null,329605.45759356295,13355.158274492114]
[152,{"$f":"'Tabla Amortización Crec'!C165","v":"2034-11-04"},329605.45759356295,{"$f":"IF(C159<=0,0,IF(C159<D158,C159,'Tabla Amortización Crec'!AB165))","v":9704.6235007236846},null,{"$f":"IF(C159<=0,0,'Tabla Amortización Crec'!AC165)","v":2526.0594693333337},12230.682970057018,null,263.6843660748504,{"$f":"IF(P158<=0.01,0,'Tabla Amortización Crec'!R165)","v":346.56416666666667},{"$f":"IF(D159<=0,0,'Tabla Amortización Crec'!W165+'Tabla Amortización Crec'!U165)","v":215.22673328283275},299,{"$f":"IF(C159=0,0,'Tabla Amortización Crec'!X165+'Tabla Amortización Crec'!V165+'Tabla Amortización Crec'!S165+'Tabla Amortización Crec'!Q165)","v":137.7265439919199},13492.884780073287,null,319900.83409283927,13355.158236081368]
[153,{"$f":"'Tabla Amortización Crec'!C166","v":"2034-12-04"},319900.83409283927,{"$f":"IF(C160<=0,0,IF(C160<D159,C160,'Tabla Amortización Crec'!AB166))","v":9865.848950837486},null,{"$f":"IF(C160<=0,0,'Tabla Amortización Crec'!AC166)","v":2372.5977483333336},12238.44669917082,null,255.92066727427144,{"$f":"IF(P159<=0.01,0,'Tabla Amortización Crec'!R166)","v":346.56416666666667},{"$f":"IF(D160<=0,0,'Tabla Amortización Crec'!W166+'Tabla Amortización Crec'!U166)","v":215.22673328283275},299,{"$f":"IF(C160=0,0,'Tabla Amortización Crec'!X166+'Tabla Amortización Crec'!V166+'Tabla Amortización Crec'!S166+'Tabla Amortización Crec'!Q166)","v":137.7265439919199},13492.884810386509,null,310034.98514200177,13355.15826639459]
[154,{"$f":"'Tabla Amortización Crec'!C167","v":"2035-01-04"},310034.98514200177,{"$f":"IF(C161<=0,0,IF(C161<D160,C161,'Tabla Amortización Crec'!AB167))","v":9870.2658050567607},null,{"$f":"IF(C161<=0,0,'Tabla Amortización Crec'!AC167)","v":2376.07356175},12246.33936680676,null,248.02798811360142,{"$f":"IF(P160<=0.01,0,'Tabla Amortización Crec'!R167)","v":346.56416666666667},{"$f":"IF(D161<=0,0,'Tabla Amortización Crec'!W167+'Tabla Amortización Crec'!U167)","v":215.22673328283275},299,{"$f":"IF(C161=0,0,'Tabla Amortización Crec'!X167+'Tabla Amortización Crec'!V167+'Tabla Amortización Crec'!S167+'Tabla Amortización Crec'!Q167)","v":137.7265439919199},13492.88479886178,null,300164.71933694498,13355.158254869861]
[155,{"$f":"'Tabla Amortización Crec'!C168","v":"2035-02-04"},300164.71933694498,{"$f":"IF(C162<=0,0,IF(C162<D161,C162,'Tabla Amortización Crec'!AB168))","v":9953.8066381345616},null,{"$f":"IF(C162<=0,0,'Tabla Amortización Crec'!AC168)","v":2300.4289091666674},12254.235547301229,null,240.13177546955598,{"$f":"IF(P161<=0.01,0,'Tabla Amortización Crec'!R168)","v":346.56416666666667},{"$f":"IF(D162<=0,0,'Tabla Amortización Crec'!W168+'Tabla Amortización Crec'!U168)","v":215.22673328283275},299,{"$f":"IF(C162=0,0,'Tabla Amortización Crec'!X168+'Tabla Amortización Crec'!V168+'Tabla Amortización Crec'!S168+'Tabla Amortización Crec'!Q168)","v":137.7265439919199},13492.884766712203,null,290210.9126988104,13355.158222720283]
[156,{"$f":"'Tabla Amortización Crec'!C169","v":"2035-03-04"},290210.9126988104,{"$f":"IF(C163<=0,0,IF(C163<D162,C163,'Tabla Amortización Crec'!AB169))","v":10253.294311792835},null,{"$f":"IF(C163<=0,0,'Tabla Amortización Crec'!AC169)","v":2008.9042718888891},12262.198583681724,null,232.16873015904835,{"$f":"IF(P162<=0.01,0,'Tabla Amortización Crec'!R169)","v":346.56416666666667},{"$f":"IF(D163<=0,0,'Tabla Amortización Crec'!W169+'Tabla Amortización Crec'!U169)","v":215.22673328283275},299,{"$f":"IF(C163=0,0,'Tabla Amortización Crec'!X169+'Tabla Amortización Crec'!V169+'Tabla Amortización Crec'!S169+'Tabla Amortización Crec'!Q169)","v":137.7265439919199},13492.884757782191,null,279957.61838701757,13355.158213790271]
[157,{"$f":"'Tabla Amortización Crec'!C170","v":"2035-04-04"},279957.61838701757,{"$f":"IF(C164<=0,0,IF(C164<D163,C164,'Tabla Amortización Crec'!AB170))","v":10412.207747173547},null,{"$f":"IF(C164<=0,0,'Tabla Amortización Crec'!AC170)","v":2145.56394},12557.771687173547,null,223.96609470961405,{"$f":"IF(P163<=0.01,0,'Tabla Amortización Crec'!R170)","v":346.56416666666667},{"$f":"IF(D164<=0,0,'Tabla Amortización Crec'!W170+'Tabla Amortización Crec'!U170)","v":218.04296371078868},299,{"$f":"IF(C164=0,0,'Tabla Amortización Crec'!X170+'Tabla Amortización Crec'!V170+'Tabla Amortización Crec'!S170+'Tabla Amortización Crec'!Q170)","v":138.17714086039285},13783.522053121009,null,269545.41063984402,13645.344912260616]
[158,{"$f":"'Tabla Amortización Crec'!C171","v":"2035-05-04"},269545.41063984402,{"$f":"IF(C165<=0,0,IF(C165<D164,C165,'Tabla Amortización Crec'!AB171))","v":10566.973132041836},null,{"$f":"IF(C165<=0,0,'Tabla Amortización Crec'!AC171)","v":1999.1283091666669},12566.101441208502,null,215.63632851187523,{"$f":"IF(P164<=0.01,0,'Tabla Amortización Crec'!R171)","v":346.56416666666667},{"$f":"IF(D165<=0,0,'Tabla Amortización Crec'!W171+'Tabla Amortización Crec'!U171)","v":218.04296371078868},299,{"$f":"IF(C165=0,0,'Tabla Amortización Crec'!X171+'Tabla Amortización Crec'!V171+'Tabla Amortización Crec'!S171+'Tabla Amortización Crec'!Q171)","v":138.17714086039285},13783.522040958225,null,258978.43750780218,13645.344900097833]
[159,{"$f":"'Tabla Amortización Crec'!C172","v":"2035-06-04"},258978.43750780218,{"$f":"IF(C166<=0,0,IF(C166<D165,C166,'Tabla Amortización Crec'!AB172))","v":10589.77320311513},null,{"$f":"IF(C166<=0,0,'Tabla Amortización Crec'!AC172)","v":1984.7818355000002},12574.55503861513,null,207.18275000624175,{"$f":"IF(P165<=0.01,0,'Tabla Amortización Crec'!R172)","v":346.56416666666667},{"$f":"IF(D166<=0,0,'Tabla Amortización Crec'!W172+'Tabla Amortización Crec'!U172)","v":218.04296371078874},299,{"$f":"IF(C166=0,0,'Tabla Amortización Crec'!X172+'Tabla Amortización Crec'!V172+'Tabla Amortización Crec'!S172+'Tabla Amortización Crec'!Q172)","v":138.17714086039285},13783.522059859219,null,248388.66430468706,13645.344918998826]
[160,{"$f":"'Tabla Amortización Crec'!C173","v":"2035-07-04"},248388.66430468706,{"$f":"IF(C167<=0,0,IF(C167<D166,C167,'Tabla Amortización Crec'!AB173))","v":10740.811064429043},null,{"$f":"IF(C167<=0,0,'Tabla Amortización Crec'!AC173)","v":1842.2158208333335},12583.026885262376,null,198.71093144374967,{"$f":"IF(P166<=0.01,0,'Tabla Amortización Crec'!R173)","v":346.56416666666667},{"$f":"IF(D167<=0,0,'Tabla Amortización Crec'!W173+'Tabla Amortización Crec'!U173)","v":218.04296371078868},299,{"$f":"IF(C167=0,0,'Tabla Amortización Crec'!X173+'Tabla Amortización Crec'!V173+'Tabla Amortización Crec'!S173+'Tabla Amortización Crec'!Q173)","v":138.17714086039285},13783.522087943973,null,237647.853240258,13645.34494708358]
[161,{"$f":"'Tabla Amortización Crec'!C174","v":"2035-08-04"},237647.853240258,{"$f":"IF(C168<=0,0,IF(C168<D167,C168,'Tabla Amortización Crec'!AB174))","v":10770.312898290704},null,{"$f":"IF(C168<=0,0,'Tabla Amortización Crec'!AC174)","v":1821.3066404444446},12591.619538735149,null,190.11828259220641,{"$f":"IF(P167<=0.01,0,'Tabla Amortización Crec'!R174)","v":346.56416666666667},{"$f":"IF(D168<=0,0,'Tabla Amortización Crec'!W174+'Tabla Amortización Crec'!U174)","v":218.04296371078868},299,{"$f":"IF(C168=0,0,'Tabla Amortización Crec'!X174+'Tabla Amortización Crec'!V174+'Tabla Amortización Crec'!S174+'Tabla Amortización Crec'!Q174)","v":138.17714086039285},13783.522092565203,null,226877.54034196731,13645.34495170481]
[162,{"$f":"'Tabla Amortización Crec'!C175","v":"2035-09-04"},226877.54034196731,{"$f":"IF(C169<=0,0,IF(C169<D168,C169,'Tabla Amortización Crec'!AB175))","v":10861.471629960402},null,{"$f":"IF(C169<=0,0,'Tabla Amortización Crec'!AC175)","v":1738.7641813055557},12600.235811265959,null,181.50203227357386,{"$f":"IF(P168<=0.01,0,'Tabla Amortización Crec'!R175)","v":346.56416666666667},{"$f":"IF(D169<=0,0,'Tabla Amortización Crec'!W175+'Tabla Amortización Crec'!U175)","v":218.04296371078868},299,{"$f":"IF(C169=0,0,'Tabla Amortización Crec'!X175+'Tabla Amortización Crec'!V175+'Tabla Amortización Crec'!S175+'Tabla Amortización Crec'!Q175)","v":138.17714086039285},13783.522114777381,null,216016.06871200691,13645.344973916988]
[163,{"$f":"'Tabla Amortización Crec'!C176","v":"2035-10-04"},216016.06871200691,{"$f":"IF(C170<=0,0,IF(C170<D169,C170,'Tabla Amortización Crec'!AB176))","v":11006.805891548898},null,{"$f":"IF(C170<=0,0,'Tabla Amortización Crec'!AC176)","v":1602.1191116666666},12608.925003215565,null,172.81285496960555,{"$f":"IF(P169<=0.01,0,'Tabla Amortización Crec'!R176)","v":346.56416666666667},{"$f":"IF(D170<=0,0,'Tabla Amortización Crec'!W176+'Tabla Amortización Crec'!U176)","v":218.04296371078868},299,{"$f":"IF(C170=0,0,'Tabla Amortización Crec'!X176+'Tabla Amortización Crec'!V176+'Tabla Amortización Crec'!S176+'Tabla Amortización Crec'!Q176)","v":138.17714086039285},13783.522129423018,null,205009.26282045801,13645.344988562625]
[164,{"$f":"'Tabla Amortización Crec'!C177","v":"2035-11-04"},205009.26282045801,{"$f":"IF(C171<=0,0,IF(C171<D170,C171,'Tabla Amortización Crec'!AB177))","v":11046.562301093843},null,{"$f":"IF(C171<=0,0,'Tabla Amortización Crec'!AC177)","v":1571.1681131944445},12617.730414288288,null,164.00741025636643,{"$f":"IF(P170<=0.01,0,'Tabla Amortización Crec'!R177)","v":346.56416666666667},{"$f":"IF(D171<=0,0,'Tabla Amortización Crec'!W177+'Tabla Amortización Crec'!U177)","v":218.04296371078868},299,{"$f":"IF(C171=0,0,'Tabla Amortización Crec'!X177+'Tabla Amortización Crec'!V177+'Tabla Amortización Crec'!S177+'Tabla Amortización Crec'!Q177)","v":138.17714086039285},13783.522095782502,null,193962.70051936415,13645.34495492211]
[165,{"$f":"'Tabla Amortización Crec'!C178","v":"2035-12-04"},193962.70051936415,{"$f":"IF(C172<=0,0,IF(C172<D171,C172,'Tabla Amortización Crec'!AB178))","v":11188.011066865112},null,{"$f":"IF(C172<=0,0,'Tabla Amortización Crec'!AC178)","v":1438.5566175000001},12626.567684365113,null,155.17016041549132,{"$f":"IF(P171<=0.01,0,'Tabla Amortización Crec'!R178)","v":346.56416666666667},{"$f":"IF(D172<=0,0,'Tabla Amortización Crec'!W178+'Tabla Amortización Crec'!U178)","v":218.04296371078868},299,{"$f":"IF(C172=0,0,'Tabla Amortización Crec'!X178+'Tabla Amortización Crec'!V178+'Tabla Amortización Crec'!S178+'Tabla Amortización Crec'!Q178)","v":138.17714086039285},13783.522116018452,null,182774.68945249903,13645.344975158059]
[166,{"$f":"'Tabla Amortización Crec'!C179","v":"2036-01-04"},182774.68945249903,{"$f":"IF(C173<=0,0,IF(C173<D172,C173,'Tabla Amortización Crec'!AB179))","v":11234.753259572097},null,{"$f":"IF(C173<=0,0,'Tabla Amortización Crec'!AC179)","v":1400.7648392222222},12635.518098794319,null,146.21975156199923,{"$f":"IF(P172<=0.01,0,'Tabla Amortización Crec'!R179)","v":346.56416666666667},{"$f":"IF(D173<=0,0,'Tabla Amortización Crec'!W179+'Tabla Amortización Crec'!U179)","v":218.04296371078868},299,{"$f":"IF(C173=0,0,'Tabla Amortización Crec'!X179+'Tabla Amortización Crec'!V179+'Tabla Amortización Crec'!S179+'Tabla Amortización Crec'!Q179)","v":138.17714086039285},13783.522121594166,null,171539.93619292695,13645.344980733773]
[167,{"$f":"'Tabla Amortización Crec'!C180","v":"2036-02-04"},171539.93619292695,{"$f":"IF(C174<=0,0,IF(C174<D173,C174,'Tabla Amortización Crec'!AB180))","v":11329.842962855197},null,{"$f":"IF(C174<=0,0,'Tabla Amortización Crec'!AC180)","v":1314.6629635277779},12644.505926382975,null,137.23194895434156,{"$f":"IF(P173<=0.01,0,'Tabla Amortización Crec'!R180)","v":346.56416666666667},{"$f":"IF(D174<=0,0,'Tabla Amortización Crec'!W180+'Tabla Amortización Crec'!U180)","v":218.04296371078868},299,{"$f":"IF(C174=0,0,'Tabla Amortización Crec'!X180+'Tabla Amortización Crec'!V180+'Tabla Amortización Crec'!S180+'Tabla Amortización Crec'!Q180)","v":138.17714086039285},13783.522146575166,null,160210.09323007177,13645.345005714773]
[168,{"$f":"'Tabla Amortización Crec'!C181","v":"2036-03-04"},160210.09323007177,{"$f":"IF(C175<=0,0,IF(C175<D174,C175,'Tabla Amortización Crec'!AB181))","v":11504.952485362899},null,{"$f":"IF(C175<=0,0,'Tabla Amortización Crec'!AC181)","v":1148.6173396944446},12653.569825057344,null,128.16807458405742,{"$f":"IF(P174<=0.01,0,'Tabla Amortización Crec'!R181)","v":346.56416666666667},{"$f":"IF(D175<=0,0,'Tabla Amortización Crec'!W181+'Tabla Amortización Crec'!U181)","v":218.04296371078868},299,{"$f":"IF(C175=0,0,'Tabla Amortización Crec'!X181+'Tabla Amortización Crec'!V181+'Tabla Amortización Crec'!S181+'Tabla Amortización Crec'!Q181)","v":138.17714086039285},13783.522170879249,null,148705.14074470886,13645.345030018856]
[169,{"$f":"'Tabla Amortización Crec'!C182","v":"2036-04-04"},148705.14074470886,{"$f":"IF(C176<=0,0,IF(C176<D175,C176,'Tabla Amortización Crec'!AB182))","v":11817.094106553803},null,{"$f":"IF(C176<=0,0,'Tabla Amortización Crec'!AC182)","v":1139.659670166667},12956.75377672047,null,118.96411259576709,{"$f":"IF(P175<=0.01,0,'Tabla Amortización Crec'!R182)","v":346.56416666666667},{"$f":"IF(D176<=0,0,'Tabla Amortización Crec'!W182+'Tabla Amortización Crec'!U182)","v":220.92396743858762},299,{"$f":"IF(C176=0,0,'Tabla Amortización Crec'!X182+'Tabla Amortización Crec'!V182+'Tabla Amortización Crec'!S182+'Tabla Amortización Crec'!Q182)","v":138.6381014568407},14080.844124878335,null,136888.04663815507,13942.206023421493]
[170,{"$f":"'Tabla Amortización Crec'!C183","v":"2036-05-04"},136888.04663815507,{"$f":"IF(C177<=0,0,IF(C177<D176,C177,'Tabla Amortización Crec'!AB183))","v":11950.954445146763},null,{"$f":"IF(C177<=0,0,'Tabla Amortización Crec'!AC183)","v":1015.2530375},12966.207482646763,null,109.51043731052405,{"$f":"IF(P176<=0.01,0,'Tabla Amortización Crec'!R183)","v":346.56416666666667},{"$f":"IF(D177<=0,0,'Tabla Amortización Crec'!W183+'Tabla Amortización Crec'!U183)","v":220.92396743858762},299,{"$f":"IF(C177=0,0,'Tabla Amortización Crec'!X183+'Tabla Amortización Crec'!V183+'Tabla Amortización Crec'!S183+'Tabla Amortización Crec'!Q183)","v":138.6381014568407},14080.844155519384,null,124937.0921930083,13942.206054062543]
[171,{"$f":"'Tabla Amortización Crec'!C184","v":"2036-06-04"},124937.0921930083,{"$f":"IF(C178<=0,0,IF(C178<D177,C178,'Tabla Amortización Crec'!AB184))","v":12018.264228601112},null,{"$f":"IF(C178<=0,0,'Tabla Amortización Crec'!AC184)","v":957.50405250000006},12975.768281101113,null,99.949673754406646,{"$f":"IF(P177<=0.01,0,'Tabla Amortización Crec'!R184)","v":346.56416666666667},{"$f":"IF(D178<=0,0,'Tabla Amortización Crec'!W184+'Tabla Amortización Crec'!U184)","v":220.92396743858762},299,{"$f":"IF(C178=0,0,'Tabla Amortización Crec'!X184+'Tabla Amortización Crec'!V184+'Tabla Amortización Crec'!S184+'Tabla Amortización Crec'!Q184)","v":138.6381014568407},14080.844190417616,null,112918.82796440719,13942.206088960775]
[172,{"$f":"'Tabla Amortización Crec'!C185","v":"2036-07-04"},112918.82796440719,{"$f":"IF(C179<=0,0,IF(C179<D178,C179,'Tabla Amortización Crec'!AB185))","v":12147.901525249392},null,{"$f":"IF(C179<=0,0,'Tabla Amortización Crec'!AC185)","v":837.48139666666668},12985.382921916058,null,90.335062371525751,{"$f":"IF(P178<=0.01,0,'Tabla Amortización Crec'!R185)","v":346.56416666666667},{"$f":"IF(D179<=0,0,'Tabla Amortización Crec'!W185+'Tabla Amortización Crec'!U185)","v":220.92396743858762},299,{"$f":"IF(C179=0,0,'Tabla Amortización Crec'!X185+'Tabla Amortización Crec'!V185+'Tabla Amortización Crec'!S185+'Tabla Amortización Crec'!Q185)","v":138.6381014568407},14080.84421984968,null,100770.9264391578,13942.206118392838]
[173,{"$f":"'Tabla Amortización Crec'!C186","v":"2036-08-04"},100770.9264391578,{"$f":"IF(C180<=0,0,IF(C180<D179,C180,'Tabla Amortización Crec'!AB186))","v":12222.803970412175},null,{"$f":"IF(C180<=0,0,'Tabla Amortización Crec'!AC186)","v":772.297287388889},12995.101257801063,null,80.616741151326252,{"$f":"IF(P179<=0.01,0,'Tabla Amortización Crec'!R186)","v":346.56416666666667},{"$f":"IF(D180<=0,0,'Tabla Amortización Crec'!W186+'Tabla Amortización Crec'!U186)","v":220.92396743858762},299,{"$f":"IF(C180=0,0,'Tabla Amortización Crec'!X186+'Tabla Amortización Crec'!V186+'Tabla Amortización Crec'!S186+'Tabla Amortización Crec'!Q186)","v":138.6381014568407},14080.844234514487,null,88548.122468745627,13942.206133057645]
[174,{"$f":"'Tabla Amortización Crec'!C187","v":"2036-09-04"},88548.122468745627,{"$f":"IF(C181<=0,0,IF(C181<D180,C181,'Tabla Amortización Crec'!AB187))","v":12326.256425128413},null,{"$f":"IF(C181<=0,0,'Tabla Amortización Crec'!AC187)","v":678.62310627777777},13004.87953140619,null,70.8384979749965,{"$f":"IF(P180<=0.01,0,'Tabla Amortización Crec'!R187)","v":346.56416666666667},{"$f":"IF(D181<=0,0,'Tabla Amortización Crec'!W187+'Tabla Amortización Crec'!U187)","v":220.92396743858762},299,{"$f":"IF(C181=0,0,'Tabla Amortización Crec'!X187+'Tabla Amortización Crec'!V187+'Tabla Amortización Crec'!S187+'Tabla Amortización Crec'!Q187)","v":138.6381014568407},14080.844264943284,null,76221.866043617221,13942.206163486442]
[175,{"$f":"'Tabla Amortización Crec'!C188","v":"2036-10-04"},76221.866043617221,{"$f":"IF(C182<=0,0,IF(C182<D181,C182,'Tabla Amortización Crec'!AB188))","v":12449.428229031881},null,{"$f":"IF(C182<=0,0,'Tabla Amortización Crec'!AC188)","v":565.31227666666678},13014.740505698548,null,60.977492834893781,{"$f":"IF(P181<=0.01,0,'Tabla Amortización Crec'!R188)","v":346.56416666666667},{"$f":"IF(D182<=0,0,'Tabla Amortización Crec'!W188+'Tabla Amortización Crec'!U188)","v":220.92396743858762},299,{"$f":"IF(C182=0,0,'Tabla Amortización Crec'!X188+'Tabla Amortización Crec'!V188+'Tabla Amortización Crec'!S188+'Tabla Amortización Crec'!Q188)","v":138.6381014568407},14080.844234095539,null,63772.437814585341,13942.206132638697]
[176,{"$f":"'Tabla Amortización Crec'!C189","v":"2036-11-04"},63772.437814585341,{"$f":"IF(C183<=0,0,IF(C183<D182,C183,'Tabla Amortización Crec'!AB189))","v":12535.955067187377},null,{"$f":"IF(C183<=0,0,'Tabla Amortización Crec'!AC189)","v":488.74497097222223},13024.700038159599,null,51.017950251668275,{"$f":"IF(P182<=0.01,0,'Tabla Amortización Crec'!R189)","v":346.56416666666667},{"$f":"IF(D183<=0,0,'Tabla Amortización Crec'!W189+'Tabla Amortización Crec'!U189)","v":220.92396743858762},299,{"$f":"IF(C183=0,0,'Tabla Amortización Crec'!X189+'Tabla Amortización Crec'!V189+'Tabla Amortización Crec'!S189+'Tabla Amortización Crec'!Q189)","v":138.6381014568407},14080.844223973363,null,51236.482747397968,13942.206122516522]
[177,{"$f":"'Tabla Amortización Crec'!C190","v":"2036-12-04"},51236.482747397968,{"$f":"IF(C184<=0,0,IF(C184<D183,C184,'Tabla Amortización Crec'!AB190))","v":12654.724795115817},null,{"$f":"IF(C184<=0,0,'Tabla Amortización Crec'!AC190)","v":380.00396749999999},13034.728762615818,null,40.989186197918372,{"$f":"IF(P183<=0.01,0,'Tabla Amortización Crec'!R190)","v":346.56416666666667},{"$f":"IF(D184<=0,0,'Tabla Amortización Crec'!W190+'Tabla Amortización Crec'!U190)","v":220.92396743858762},299,{"$f":"IF(C184=0,0,'Tabla Amortización Crec'!X190+'Tabla Amortización Crec'!V190+'Tabla Amortización Crec'!S190+'Tabla Amortización Crec'!Q190)","v":138.6381014568407},14080.844184375832,null,38581.757952282147,13942.20608291899]
[178,{"$f":"'Tabla Amortización Crec'!C191","v":"2037-01-04"},38581.757952282147,{"$f":"IF(C185<=0,0,IF(C185<D184,C185,'Tabla Amortización Crec'!AB191))","v":12749.166182577483},null,{"$f":"IF(C185<=0,0,'Tabla Amortización Crec'!AC191)","v":295.68639841666669},13044.852580994149,null,30.86540636182572,{"$f":"IF(P184<=0.01,0,'Tabla Amortización Crec'!R191)","v":346.56416666666667},{"$f":"IF(D185<=0,0,'Tabla Amortización Crec'!W191+'Tabla Amortización Crec'!U191)","v":220.92396743858762},299,{"$f":"IF(C185=0,0,'Tabla Amortización Crec'!X191+'Tabla Amortización Crec'!V191+'Tabla Amortización Crec'!S191+'Tabla Amortización Crec'!Q191)","v":138.6381014568407},14080.844222918071,null,25832.591769704664,13942.206121461229]
[179,{"$f":"'Tabla Amortización Crec'!C192","v":"2037-02-04"},25832.591769704664,{"$f":"IF(C186<=0,0,IF(C186<D185,C186,'Tabla Amortización Crec'!AB192))","v":12857.073708572798},null,{"$f":"IF(C186<=0,0,'Tabla Amortización Crec'!AC192)","v":197.97817611111111},13055.05188468391,null,20.666073415763734,{"$f":"IF(P185<=0.01,0,'Tabla Amortización Crec'!R192)","v":346.56416666666667},{"$f":"IF(D186<=0,0,'Tabla Amortización Crec'!W192+'Tabla Amortización Crec'!U192)","v":220.92396743858762},299,{"$f":"IF(C186=0,0,'Tabla Amortización Crec'!X192+'Tabla Amortización Crec'!V192+'Tabla Amortización Crec'!S192+'Tabla Amortización Crec'!Q192)","v":138.6381014568407},14080.844193661769,null,12975.518061131866,13942.206092204928]
[180,{"$f":"'Tabla Amortización Crec'!C193","v":"2037-03-04"},12975.518061131866,{"$f":"IF(C187<=0,0,IF(C187<D186,C187,'Tabla Amortización Crec'!AB193))","v":12975.518061107085},null,{"$f":"IF(C187<=0,0,'Tabla Amortización Crec'!AC193)","v":89.819502111111134},13065.337563218196,null,10.380414448905494,{"$f":"IF(P186<=0.01,0,'Tabla Amortización Crec'!R193)","v":346.56416666666667},{"$f":"IF(D187<=0,0,'Tabla Amortización Crec'!W193+'Tabla Amortización Crec'!U193)","v":220.92396743858762},299,{"$f":"IF(C187=0,0,'Tabla Amortización Crec'!X193+'Tabla Amortización Crec'!V193+'Tabla Amortización Crec'!S193+'Tabla Amortización Crec'!Q193)","v":138.6381014568407},14080.844213229198,null,2.4781911633908749E-8,13942.206111772357]
[181,{"$f":"'Tabla Amortización Crec'!C194","v":"2037-04-04"},0,{"$f":"IF(C188<=0,0,IF(C188<D187,C188,'Tabla Amortización Crec'!AB194))","v":0},null,{"$f":"IF(C188<=0,0,'Tabla Amortización Crec'!AC194)","v":0},0,null,0,{"$f":"IF(P187<=0.01,0,'Tabla Amortización Crec'!R194)","v":0},{"$f":"IF(D188<=0,0,'Tabla Amortización Crec'!W194+'Tabla Amortización Crec'!U194)","v":0},0,{"$f":"IF(C188=0,0,'Tabla Amortización Crec'!X194+'Tabla Amortización Crec'!V194+'Tabla Amortización Crec'!S194+'Tabla Amortización Crec'!Q194)","v":0},0,null,0,0]
[182,{"$f":"'Tabla Amortización Crec'!C195","v":"2037-05-04"},0,{"$f":"IF(C189<=0,0,IF(C189<D188,C189,'Tabla Amortización Crec'!AB195))","v":0},null,{"$f":"IF(C189<=0,0,'Tabla Amortización Crec'!AC195)","v":0},0,null,0,{"$f":"IF(P188<=0.01,0,'Tabla Amortización Crec'!R195)","v":0},{"$f":"IF(D189<=0,0,'Tabla Amortización Crec'!W195+'Tabla Amortización Crec'!U195)","v":0},0,{"$f":"IF(C189=0,0,'Tabla Amortización Crec'!X195+'Tabla Amortización Crec'!V195+'Tabla Amortización Crec'!S195+'Tabla Amortización Crec'!Q195)","v":0},0,null,0,0]
[183,{"$f":"'Tabla Amortización Crec'!C196","v":"2037-06-04"},0,{"$f":"IF(C190<=0,0,IF(C190<D189,C190,'Tabla Amortización Crec'!AB196))","v":0},null,{"$f":"IF(C190<=0,0,'Tabla Amortización Crec'!AC196)","v":0},0,null,0,{"$f":"IF(P189<=0.01,0,'Tabla Amortización Crec'!R196)","v":0},{"$f":"IF(D190<=0,0,'Tabla Amortización Crec'!W196+'Tabla Amortización Crec'!U196)","v":0},0,{"$f":"IF(C190=0,0,'Tabla Amortización Crec'!X196+'Tabla Amortización Crec'!V196+'Tabla Amortización Crec'!S196+'Tabla Amortización Crec'!Q196)","v":0},0,null,0,0]
[184,{"$f":"'Tabla Amortización Crec'!C197","v":"2037-07-04"},0,{"$f":"IF(C191<=0,0,IF(C191<D190,C191,'Tabla Amortización Crec'!AB197))","v":0},null,{"$f":"IF(C191<=0,0,'Tabla Amortización Crec'!AC197)","v":0},0,null,0,{"$f":"IF(P190<=0.01,0,'Tabla Amortización Crec'!R197)","v":0},{"$f":"IF(D191<=0,0,'Tabla Amortización Crec'!W197+'Tabla Amortización Crec'!U197)","v":0},0,{"$f":"IF(C191=0,0,'Tabla Amortización Crec'!X197+'Tabla Amortización Crec'!V197+'Tabla Amortización Crec'!S197+'Tabla Amortización Crec'!Q197)","v":0},0,null,0,0]
[185,{"$f":"'Tabla Amortización Crec'!C198","v":"2037-08-04"},0,{"$f":"IF(C192<=0,0,IF(C192<D191,C192,'Tabla Amortización Crec'!AB198))","v":0},null,{"$f":"IF(C192<=0,0,'Tabla Amortización Crec'!AC198)","v":0},0,null,0,{"$f":"IF(P191<=0.01,0,'Tabla Amortización Crec'!R198)","v":0},{"$f":"IF(D192<=0,0,'Tabla Amortización Crec'!W198+'Tabla Amortización Crec'!U198)","v":0},0,{"$f":"IF(C192=0,0,'Tabla Amortización Crec'!X198+'Tabla Amortización Crec'!V198+'Tabla Amortización Crec'!S198+'Tabla Amortización Crec'!Q198)","v":0},0,null,0,0]
[186,{"$f":"'Tabla Amortización Crec'!C199","v":"2037-09-04"},0,{"$f":"IF(C193<=0,0,IF(C193<D192,C193,'Tabla Amortización Crec'!AB199))","v":0},null,{"$f":"IF(C193<=0,0,'Tabla Amortización Crec'!AC199)","v":0},0,null,0,{"$f":"IF(P192<=0.01,0,'Tabla Amortización Crec'!R199)","v":0},{"$f":"IF(D193<=0,0,'Tabla Amortización Crec'!W199+'Tabla Amortización Crec'!U199)","v":0},0,{"$f":"IF(C193=0,0,'Tabla Amortización Crec'!X199+'Tabla Amortización Crec'!V199+'Tabla Amortización Crec'!S199+'Tabla Amortización Crec'!Q199)","v":0},0,null,0,0]
[187,{"$f":"'Tabla Amortización Crec'!C200","v":"2037-10-04"},0,{"$f":"IF(C194<=0,0,IF(C194<D193,C194,'Tabla Amortización Crec'!AB200))","v":0},null,{"$f":"IF(C194<=0,0,'Tabla Amortización Crec'!AC200)","v":0},0,null,0,{"$f":"IF(P193<=0.01,0,'Tabla Amortización Crec'!R200)","v":0},{"$f":"IF(D194<=0,0,'Tabla Amortización Crec'!W200+'Tabla Amortización Crec'!U200)","v":0},0,{"$f":"IF(C194=0,0,'Tabla Amortización Crec'!X200+'Tabla Amortización Crec'!V200+'Tabla Amortización Crec'!S200+'Tabla Amortización Crec'!Q200)","v":0},0,null,0,0]
[188,{"$f":"'Tabla Amortización Crec'!C201","v":"2037-11-04"},0,{"$f":"IF(C195<=0,0,IF(C195<D194,C195,'Tabla Amortización Crec'!AB201))","v":0},null,{"$f":"IF(C195<=0,0,'Tabla Amortización Crec'!AC201)","v":0},0,null,0,{"$f":"IF(P194<=0.01,0,'Tabla Amortización Crec'!R201)","v":0},{"$f":"IF(D195<=0,0,'Tabla Amortización Crec'!W201+'Tabla Amortización Crec'!U201)","v":0},0,{"$f":"IF(C195=0,0,'Tabla Amortización Crec'!X201+'Tabla Amortización Crec'!V201+'Tabla Amortización Crec'!S201+'Tabla Amortización Crec'!Q201)","v":0},0,null,0,0]
[189,{"$f":"'Tabla Amortización Crec'!C202","v":"2037-12-04"},0,{"$f":"IF(C196<=0,0,IF(C196<D195,C196,'Tabla Amortización Crec'!AB202))","v":0},null,{"$f":"IF(C196<=0,0,'Tabla Amortización Crec'!AC202)","v":0},0,null,0,{"$f":"IF(P195<=0.01,0,'Tabla Amortización Crec'!R202)","v":0},{"$f":"IF(D196<=0,0,'Tabla Amortización Crec'!W202+'Tabla Amortización Crec'!U202)","v":0},0,{"$f":"IF(C196=0,0,'Tabla Amortización Crec'!X202+'Tabla Amortización Crec'!V202+'Tabla Amortización Crec'!S202+'Tabla Amortización Crec'!Q202)","v":0},0,null,0,0]
[190,{"$f":"'Tabla Amortización Crec'!C203","v":"2038-01-04"},0,{"$f":"IF(C197<=0,0,IF(C197<D196,C197,'Tabla Amortización Crec'!AB203))","v":0},null,{"$f":"IF(C197<=0,0,'Tabla Amortización Crec'!AC203)","v":0},0,null,0,{"$f":"IF(P196<=0.01,0,'Tabla Amortización Crec'!R203)","v":0},{"$f":"IF(D197<=0,0,'Tabla Amortización Crec'!W203+'Tabla Amortización Crec'!U203)","v":0},0,{"$f":"IF(C197=0,0,'Tabla Amortización Crec'!X203+'Tabla Amortización Crec'!V203+'Tabla Amortización Crec'!S203+'Tabla Amortización Crec'!Q203)","v":0},0,null,0,0]
[191,{"$f":"'Tabla Amortización Crec'!C204","v":"2038-02-04"},0,{"$f":"IF(C198<=0,0,IF(C198<D197,C198,'Tabla Amortización Crec'!AB204))","v":0},null,{"$f":"IF(C198<=0,0,'Tabla Amortización Crec'!AC204)","v":0},0,null,0,{"$f":"IF(P197<=0.01,0,'Tabla Amortización Crec'!R204)","v":0},{"$f":"IF(D198<=0,0,'Tabla Amortización Crec'!W204+'Tabla Amortización Crec'!U204)","v":0},0,{"$f":"IF(C198=0,0,'Tabla Amortización Crec'!X204+'Tabla Amortización Crec'!V204+'Tabla Amortización Crec'!S204+'Tabla Amortización Crec'!Q204)","v":0},0,null,0,0]
[192,{"$f":"'Tabla Amortización Crec'!C205","v":"2038-03-04"},0,{"$f":"IF(C199<=0,0,IF(C199<D198,C199,'Tabla Amortización Crec'!AB205))","v":0},null,{"$f":"IF(C199<=0,0,'Tabla Amortización Crec'!AC205)","v":0},0,null,0,{"$f":"IF(P198<=0.01,0,'Tabla Amortización Crec'!R205)","v":0},{"$f":"IF(D199<=0,0,'Tabla Amortización Crec'!W205+'Tabla Amortización Crec'!U205)","v":0},0,{"$f":"IF(C199=0,0,'Tabla Amortización Crec'!X205+'Tabla Amortización Crec'!V205+'Tabla Amortización Crec'!S205+'Tabla Amortización Crec'!Q205)","v":0},0,null,0,0]
[193,{"$f":"'Tabla Amortización Crec'!C206","v":"2038-04-04"},0,{"$f":"IF(C200<=0,0,IF(C200<D199,C200,'Tabla Amortización Crec'!AB206))","v":0},null,{"$f":"IF(C200<=0,0,'Tabla Amortización Crec'!AC206)","v":0},{"$f":"D200+F200","v":0},null,0,{"$f":"IF(P199<=0.01,0,'Tabla Amortización Crec'!R206)","v":0},{"$f":"IF(D200<=0,0,'Tabla Amortización Crec'!W206+'Tabla Amortización Crec'!U206)","v":0},0,{"$f":"IF(C200=0,0,'Tabla Amortización Crec'!X206+'Tabla Amortización Crec'!V206+'Tabla Amortización Crec'!S206+'Tabla Amortización Crec'!Q206)","v":0},0,null,{"$f":"C200-D200-E200-H200","v":0},0]
[194,{"$f":"'Tabla Amortización Crec'!C207","v":"2038-05-04"},0,{"$f":"IF(C201<=0,0,IF(C201<D200,C201,'Tabla Amortización Crec'!AB207))","v":0},null,{"$f":"IF(C201<=0,0,'Tabla Amortización Crec'!AC207)","v":0},0,null,{"$f":"IF(C201<=0,0,(C201*0.8/1000))","v":0},{"$f":"IF(P200<=0.01,0,'Tabla Amortización Crec'!R207)","v":0},{"$f":"IF(D201<=0,0,'Tabla Amortización Crec'!W207+'Tabla Amortización Crec'!U207)","v":0},{"$f":"IF(C201<=0,,299)","v":0},{"$f":"IF(C201=0,0,'Tabla Amortización Crec'!X207+'Tabla Amortización Crec'!V207+'Tabla Amortización Crec'!S207+'Tabla Amortización Crec'!Q207)","v":0},0,null,0,0]
[195,{"$f":"'Tabla Amortización Crec'!C208","v":"2038-06-04"},0,{"$f":"IF(C202<=0,0,IF(C202<D201,C202,'Tabla Amortización Crec'!AB208))","v":0},null,{"$f":"IF(C202<=0,0,'Tabla Amortización Crec'!AC208)","v":0},0,null,0,{"$f":"IF(P201<=0.01,0,'Tabla Amortización Crec'!R208)","v":0},{"$f":"IF(D202<=0,0,'Tabla Amortización Crec'!W208+'Tabla Amortización Crec'!U208)","v":0},0,{"$f":"IF(C202=0,0,'Tabla Amortización Crec'!X208+'Tabla Amortización Crec'!V208+'Tabla Amortización Crec'!S208+'Tabla Amortización Crec'!Q208)","v":0},{"$f":"G202+K202+J202+L202+M202+I202","v":0},null,0,{"$f":"N202-M202+H202+E202","v":0}]
[196,{"$f":"'Tabla Amortización Crec'!C209","v":"2038-07-04"},{"$f":"IF(P202<=0.01,0,P202)","v":0},{"$f":"IF(C203<=0,0,IF(C203<D202,C203,'Tabla Amortización Crec'!AB209))","v":0},null,{"$f":"IF(C203<=0,0,'Tabla Amortización Crec'!AC209)","v":0},0,null,0,{"$f":"IF(P202<=0.01,0,'Tabla Amortización Crec'!R209)","v":0},{"$f":"IF(D203<=0,0,'Tabla Amortización Crec'!W209+'Tabla Amortización Crec'!U209)","v":0},0,{"$f":"IF(C203=0,0,'Tabla Amortización Crec'!X209+'Tabla Amortización Crec'!V209+'Tabla Amortización Crec'!S209+'Tabla Amortización Crec'!Q209)","v":0},0,null,0,0]
[197,{"$f":"'Tabla Amortización Crec'!C210","v":"2038-08-04"},0,{"$f":"IF(C204<=0,0,IF(C204<D203,C204,'Tabla Amortización Crec'!AB210))","v":0},null,{"$f":"IF(C204<=0,0,'Tabla Amortización Crec'!AC210)","v":0},0,null,0,{"$f":"IF(P203<=0.01,0,'Tabla Amortización Crec'!R210)","v":0},{"$f":"IF(D204<=0,0,'Tabla Amortización Crec'!W210+'Tabla Amortización Crec'!U210)","v":0},0,{"$f":"IF(C204=0,0,'Tabla Amortización Crec'!X210+'Tabla Amortización Crec'!V210+'Tabla Amortización Crec'!S210+'Tabla Amortización Crec'!Q210)","v":0},0,null,0,0]
[198,{"$f":"'Tabla Amortización Crec'!C211","v":"2038-09-04"},0,{"$f":"IF(C205<=0,0,IF(C205<D204,C205,'Tabla Amortización Crec'!AB211))","v":0},null,{"$f":"IF(C205<=0,0,'Tabla Amortización Crec'!AC211)","v":0},0,null,0,{"$f":"IF(P204<=0.01,0,'Tabla Amortización Crec'!R211)","v":0},{"$f":"IF(D205<=0,0,'Tabla Amortización Crec'!W211+'Tabla Amortización Crec'!U211)","v":0},0,{"$f":"IF(C205=0,0,'Tabla Amortización Crec'!X211+'Tabla Amortización Crec'!V211+'Tabla Amortización Crec'!S211+'Tabla Amortización Crec'!Q211)","v":0},0,null,0,0]
[199,{"$f":"'Tabla Amortización Crec'!C212","v":"2038-10-04"},0,{"$f":"IF(C206<=0,0,IF(C206<D205,C206,'Tabla Amortización Crec'!AB212))","v":0},null,{"$f":"IF(C206<=0,0,'Tabla Amortización Crec'!AC212)","v":0},0,null,0,{"$f":"IF(P205<=0.01,0,'Tabla Amortización Crec'!R212)","v":0},{"$f":"IF(D206<=0,0,'Tabla Amortización Crec'!W212+'Tabla Amortización Crec'!U212)","v":0},0,{"$f":"IF(C206=0,0,'Tabla Amortización Crec'!X212+'Tabla Amortización Crec'!V212+'Tabla Amortización Crec'!S212+'Tabla Amortización Crec'!Q212)","v":0},0,null,0,0]
[200,{"$f":"'Tabla Amortización Crec'!C213","v":"2038-11-04"},0,{"$f":"IF(C207<=0,0,IF(C207<D206,C207,'Tabla Amortización Crec'!AB213))","v":0},null,{"$f":"IF(C207<=0,0,'Tabla Amortización Crec'!AC213)","v":0},0,null,0,{"$f":"IF(P206<=0.01,0,'Tabla Amortización Crec'!R213)","v":0},{"$f":"IF(D207<=0,0,'Tabla Amortización Crec'!W213+'Tabla Amortización Crec'!U213)","v":0},0,{"$f":"IF(C207=0,0,'Tabla Amortización Crec'!X213+'Tabla Amortización Crec'!V213+'Tabla Amortización Crec'!S213+'Tabla Amortización Crec'!Q213)","v":0},0,null,0,0]
[201,{"$f":"'Tabla Amortización Crec'!C214","v":"2038-12-04"},0,{"$f":"IF(C208<=0,0,IF(C208<D207,C208,'Tabla Amortización Crec'!AB214))","v":0},null,{"$f":"IF(C208<=0,0,'Tabla Amortización Crec'!AC214)","v":0},0,null,0,{"$f":"IF(P207<=0.01,0,'Tabla Amortización Crec'!R214)","v":0},{"$f":"IF(D208<=0,0,'Tabla Amortización Crec'!W214+'Tabla Amortización Crec'!U214)","v":0},0,{"$f":"IF(C208=0,0,'Tabla Amortización Crec'!X214+'Tabla Amortización Crec'!V214+'Tabla Amortización Crec'!S214+'Tabla Amortización Crec'!Q214)","v":0},0,null,0,0]
[202,{"$f":"'Tabla Amortización Crec'!C215","v":"2039-01-04"},0,{"$f":"IF(C209<=0,0,IF(C209<D208,C209,'Tabla Amortización Crec'!AB215))","v":0},null,{"$f":"IF(C209<=0,0,'Tabla Amortización Crec'!AC215)","v":0},0,null,0,{"$f":"IF(P208<=0.01,0,'Tabla Amortización Crec'!R215)","v":0},{"$f":"IF(D209<=0,0,'Tabla Amortización Crec'!W215+'Tabla Amortización Crec'!U215)","v":0},0,{"$f":"IF(C209=0,0,'Tabla Amortización Crec'!X215+'Tabla Amortización Crec'!V215+'Tabla Amortización Crec'!S215+'Tabla Amortización Crec'!Q215)","v":0},0,null,0,0]
[203,{"$f":"'Tabla Amortización Crec'!C216","v":"2039-02-04"},0,{"$f":"IF(C210<=0,0,IF(C210<D209,C210,'Tabla Amortización Crec'!AB216))","v":0},null,{"$f":"IF(C210<=0,0,'Tabla Amortización Crec'!AC216)","v":0},0,null,0,{"$f":"IF(P209<=0.01,0,'Tabla Amortización Crec'!R216)","v":0},{"$f":"IF(D210<=0,0,'Tabla Amortización Crec'!W216+'Tabla Amortización Crec'!U216)","v":0},0,{"$f":"IF(C210=0,0,'Tabla Amortización Crec'!X216+'Tabla Amortización Crec'!V216+'Tabla Amortización Crec'!S216+'Tabla Amortización Crec'!Q216)","v":0},0,null,0,0]
[204,{"$f":"'Tabla Amortización Crec'!C217","v":"2039-03-04"},0,{"$f":"IF(C211<=0,0,IF(C211<D210,C211,'Tabla Amortización Crec'!AB217))","v":0},null,{"$f":"IF(C211<=0,0,'Tabla Amortización Crec'!AC217)","v":0},0,null,0,{"$f":"IF(P210<=0.01,0,'Tabla Amortización Crec'!R217)","v":0},{"$f":"IF(D211<=0,0,'Tabla Amortización Crec'!W217+'Tabla Amortización Crec'!U217)","v":0},0,{"$f":"IF(C211=0,0,'Tabla Amortización Crec'!X217+'Tabla Amortización Crec'!V217+'Tabla Amortización Crec'!S217+'Tabla Amortización Crec'!Q217)","v":0},0,null,0,0]
[205,{"$f":"'Tabla Amortización Crec'!C218","v":"2039-04-04"},0,{"$f":"IF(C212<=0,0,IF(C212<D211,C212,'Tabla Amortización Crec'!AB218))","v":0},null,{"$f":"IF(C212<=0,0,'Tabla Amortización Crec'!AC218)","v":0},0,null,0,{"$f":"IF(P211<=0.01,0,'Tabla Amortización Crec'!R218)","v":0},{"$f":"IF(D212<=0,0,'Tabla Amortización Crec'!W218+'Tabla Amortización Crec'!U218)","v":0},0,{"$f":"IF(C212=0,0,'Tabla Amortización Crec'!X218+'Tabla Amortización Crec'!V218+'Tabla Amortización Crec'!S218+'Tabla Amortización Crec'!Q218)","v":0},0,null,0,0]
[206,{"$f":"'Tabla Amortización Crec'!C219","v":"2039-05-04"},0,{"$f":"IF(C213<=0,0,IF(C213<D212,C213,'Tabla Amortización Crec'!AB219))","v":0},null,{"$f":"IF(C213<=0,0,'Tabla Amortización Crec'!AC219)","v":0},0,null,0,{"$f":"IF(P212<=0.01,0,'Tabla Amortización Crec'!R219)","v":0},{"$f":"IF(D213<=0,0,'Tabla Amortización Crec'!W219+'Tabla Amortización Crec'!U219)","v":0},0,{"$f":"IF(C213=0,0,'Tabla Amortización Crec'!X219+'Tabla Amortización Crec'!V219+'Tabla Amortización Crec'!S219+'Tabla Amortización Crec'!Q219)","v":0},0,null,0,0]
[207,{"$f":"'Tabla Amortización Crec'!C220","v":"2039-06-04"},0,{"$f":"IF(C214<=0,0,IF(C214<D213,C214,'Tabla Amortización Crec'!AB220))","v":0},null,{"$f":"IF(C214<=0,0,'Tabla Amortización Crec'!AC220)","v":0},0,null,0,{"$f":"IF(P213<=0.01,0,'Tabla Amortización Crec'!R220)","v":0},{"$f":"IF(D214<=0,0,'Tabla Amortización Crec'!W220+'Tabla Amortización Crec'!U220)","v":0},0,{"$f":"IF(C214=0,0,'Tabla Amortización Crec'!X220+'Tabla Amortización Crec'!V220+'Tabla Amortización Crec'!S220+'Tabla Amortización Crec'!Q220)","v":0},0,null,0,0]
[208,{"$f":"'Tabla Amortización Crec'!C221","v":"2039-07-04"},0,{"$f":"IF(C215<=0,0,IF(C215<D214,C215,'Tabla Amortización Crec'!AB221))","v":0},null,{"$f":"IF(C215<=0,0,'Tabla Amortización Crec'!AC221)","v":0},0,null,0,{"$f":"IF(P214<=0.01,0,'Tabla Amortización Crec'!R221)","v":0},{"$f":"IF(D215<=0,0,'Tabla Amortización Crec'!W221+'Tabla Amortización Crec'!U221)","v":0},0,{"$f":"IF(C215=0,0,'Tabla Amortización Crec'!X221+'Tabla Amortización Crec'!V221+'Tabla Amortización Crec'!S221+'Tabla Amortización Crec'!Q221)","v":0},0,null,0,0]
[209,{"$f":"'Tabla Amortización Crec'!C222","v":"2039-08-04"},0,{"$f":"IF(C216<=0,0,IF(C216<D215,C216,'Tabla Amortización Crec'!AB222))","v":0},null,{"$f":"IF(C216<=0,0,'Tabla Amortización Crec'!AC222)","v":0},0,null,0,{"$f":"IF(P215<=0.01,0,'Tabla Amortización Crec'!R222)","v":0},{"$f":"IF(D216<=0,0,'Tabla Amortización Crec'!W222+'Tabla Amortización Crec'!U222)","v":0},0,{"$f":"IF(C216=0,0,'Tabla Amortización Crec'!X222+'Tabla Amortización Crec'!V222+'Tabla Amortización Crec'!S222+'Tabla Amortización Crec'!Q222)","v":0},0,null,0,0]
[210,{"$f":"'Tabla Amortización Crec'!C223","v":"2039-09-04"},0,{"$f":"IF(C217<=0,0,IF(C217<D216,C217,'Tabla Amortización Crec'!AB223))","v":0},null,{"$f":"IF(C217<=0,0,'Tabla Amortización Crec'!AC223)","v":0},0,null,0,{"$f":"IF(P216<=0.01,0,'Tabla Amortización Crec'!R223)","v":0},{"$f":"IF(D217<=0,0,'Tabla Amortización Crec'!W223+'Tabla Amortización Crec'!U223)","v":0},0,{"$f":"IF(C217=0,0,'Tabla Amortización Crec'!X223+'Tabla Amortización Crec'!V223+'Tabla Amortización Crec'!S223+'Tabla Amortización Crec'!Q223)","v":0},0,null,0,0]
[211,{"$f":"'Tabla Amortización Crec'!C224","v":"2039-10-04"},0,{"$f":"IF(C218<=0,0,IF(C218<D217,C218,'Tabla Amortización Crec'!AB224))","v":0},null,{"$f":"IF(C218<=0,0,'Tabla Amortización Crec'!AC224)","v":0},0,null,0,{"$f":"IF(P217<=0.01,0,'Tabla Amortización Crec'!R224)","v":0},{"$f":"IF(D218<=0,0,'Tabla Amortización Crec'!W224+'Tabla Amortización Crec'!U224)","v":0},0,{"$f":"IF(C218=0,0,'Tabla Amortización Crec'!X224+'Tabla Amortización Crec'!V224+'Tabla Amortización Crec'!S224+'Tabla Amortización Crec'!Q224)","v":0},0,null,0,0]
[212,{"$f":"'Tabla Amortización Crec'!C225","v":"2039-11-04"},0,{"$f":"IF(C219<=0,0,IF(C219<D218,C219,'Tabla Amortización Crec'!AB225))","v":0},null,{"$f":"IF(C219<=0,0,'Tabla Amortización Crec'!AC225)","v":0},0,null,0,{"$f":"IF(P218<=0.01,0,'Tabla Amortización Crec'!R225)","v":0},{"$f":"IF(D219<=0,0,'Tabla Amortización Crec'!W225+'Tabla Amortización Crec'!U225)","v":0},0,{"$f":"IF(C219=0,0,'Tabla Amortización Crec'!X225+'Tabla Amortización Crec'!V225+'Tabla Amortización Crec'!S225+'Tabla Amortización Crec'!Q225)","v":0},0,null,0,0]
[213,{"$f":"'Tabla Amortización Crec'!C226","v":"2039-12-04"},0,{"$f":"IF(C220<=0,0,IF(C220<D219,C220,'Tabla Amortización Crec'!AB226))","v":0},null,{"$f":"IF(C220<=0,0,'Tabla Amortización Crec'!AC226)","v":0},0,null,0,{"$f":"IF(P219<=0.01,0,'Tabla Amortización Crec'!R226)","v":0},{"$f":"IF(D220<=0,0,'Tabla Amortización Crec'!W226+'Tabla Amortización Crec'!U226)","v":0},0,{"$f":"IF(C220=0,0,'Tabla Amortización Crec'!X226+'Tabla Amortización Crec'!V226+'Tabla Amortización Crec'!S226+'Tabla Amortización Crec'!Q226)","v":0},0,null,0,0]
[214,{"$f":"'Tabla Amortización Crec'!C227","v":"2040-01-04"},0,{"$f":"IF(C221<=0,0,IF(C221<D220,C221,'Tabla Amortización Crec'!AB227))","v":0},null,{"$f":"IF(C221<=0,0,'Tabla Amortización Crec'!AC227)","v":0},0,null,0,{"$f":"IF(P220<=0.01,0,'Tabla Amortización Crec'!R227)","v":0},{"$f":"IF(D221<=0,0,'Tabla Amortización Crec'!W227+'Tabla Amortización Crec'!U227)","v":0},0,{"$f":"IF(C221=0,0,'Tabla Amortización Crec'!X227+'Tabla Amortización Crec'!V227+'Tabla Amortización Crec'!S227+'Tabla Amortización Crec'!Q227)","v":0},0,null,0,0]
[215,{"$f":"'Tabla Amortización Crec'!C228","v":"2040-02-04"},0,{"$f":"IF(C222<=0,0,IF(C222<D221,C222,'Tabla Amortización Crec'!AB228))","v":0},null,{"$f":"IF(C222<=0,0,'Tabla Amortización Crec'!AC228)","v":0},0,null,0,{"$f":"IF(P221<=0.01,0,'Tabla Amortización Crec'!R228)","v":0},{"$f":"IF(D222<=0,0,'Tabla Amortización Crec'!W228+'Tabla Amortización Crec'!U228)","v":0},0,{"$f":"IF(C222=0,0,'Tabla Amortización Crec'!X228+'Tabla Amortización Crec'!V228+'Tabla Amortización Crec'!S228+'Tabla Amortización Crec'!Q228)","v":0},0,null,0,0]
[216,{"$f":"'Tabla Amortización Crec'!C229","v":"2040-03-04"},0,{"$f":"IF(C223<=0,0,IF(C223<D222,C223,'Tabla Amortización Crec'!AB229))","v":0},null,{"$f":"IF(C223<=0,0,'Tabla Amortización Crec'!AC229)","v":0},0,null,0,{"$f":"IF(P222<=0.01,0,'Tabla Amortización Crec'!R229)","v":0},{"$f":"IF(D223<=0,0,'Tabla Amortización Crec'!W229+'Tabla Amortización Crec'!U229)","v":0},0,{"$f":"IF(C223=0,0,'Tabla Amortización Crec'!X229+'Tabla Amortización Crec'!V229+'Tabla Amortización Crec'!S229+'Tabla Amortización Crec'!Q229)","v":0},0,null,0,0]
[217,{"$f":"'Tabla Amortización Crec'!C230","v":"2040-04-04"},0,{"$f":"IF(C224<=0,0,IF(C224<D223,C224,'Tabla Amortización Crec'!AB230))","v":0},null,{"$f":"IF(C224<=0,0,'Tabla Amortización Crec'!AC230)","v":0},0,null,0,{"$f":"IF(P223<=0.01,0,'Tabla Amortización Crec'!R230)","v":0},{"$f":"IF(D224<=0,0,'Tabla Amortización Crec'!W230+'Tabla Amortización Crec'!U230)","v":0},0,{"$f":"IF(C224=0,0,'Tabla Amortización Crec'!X230+'Tabla Amortización Crec'!V230+'Tabla Amortización Crec'!S230+'Tabla Amortización Crec'!Q230)","v":0},0,null,0,0]
[218,{"$f":"'Tabla Amortización Crec'!C231","v":"2040-05-04"},0,{"$f":"IF(C225<=0,0,IF(C225<D224,C225,'Tabla Amortización Crec'!AB231))","v":0},null,{"$f":"IF(C225<=0,0,'Tabla Amortización Crec'!AC231)","v":0},0,null,0,{"$f":"IF(P224<=0.01,0,'Tabla Amortización Crec'!R231)","v":0},{"$f":"IF(D225<=0,0,'Tabla Amortización Crec'!W231+'Tabla Amortización Crec'!U231)","v":0},0,{"$f":"IF(C225=0,0,'Tabla Amortización Crec'!X231+'Tabla Amortización Crec'!V231+'Tabla Amortización Crec'!S231+'Tabla Amortización Crec'!Q231)","v":0},0,null,0,0]
[219,{"$f":"'Tabla Amortización Crec'!C232","v":"2040-06-04"},0,{"$f":"IF(C226<=0,0,IF(C226<D225,C226,'Tabla Amortización Crec'!AB232))","v":0},null,{"$f":"IF(C226<=0,0,'Tabla Amortización Crec'!AC232)","v":0},0,null,0,{"$f":"IF(P225<=0.01,0,'Tabla Amortización Crec'!R232)","v":0},{"$f":"IF(D226<=0,0,'Tabla Amortización Crec'!W232+'Tabla Amortización Crec'!U232)","v":0},0,{"$f":"IF(C226=0,0,'Tabla Amortización Crec'!X232+'Tabla Amortización Crec'!V232+'Tabla Amortización Crec'!S232+'Tabla Amortización Crec'!Q232)","v":0},0,null,0,0]
[220,{"$f":"'Tabla Amortización Crec'!C233","v":"2040-07-04"},0,{"$f":"IF(C227<=0,0,IF(C227<D226,C227,'Tabla Amortización Crec'!AB233))","v":0},null,{"$f":"IF(C227<=0,0,'Tabla Amortización Crec'!AC233)","v":0},0,null,0,{"$f":"IF(P226<=0.01,0,'Tabla Amortización Crec'!R233)","v":0},{"$f":"IF(D227<=0,0,'Tabla Amortización Crec'!W233+'Tabla Amortización Crec'!U233)","v":0},0,{"$f":"IF(C227=0,0,'Tabla Amortización Crec'!X233+'Tabla Amortización Crec'!V233+'Tabla Amortización Crec'!S233+'Tabla Amortización Crec'!Q233)","v":0},0,null,0,0]
[221,{"$f":"'Tabla Amortización Crec'!C234","v":"2040-08-04"},0,{"$f":"IF(C228<=0,0,IF(C228<D227,C228,'Tabla Amortización Crec'!AB234))","v":0},null,{"$f":"IF(C228<=0,0,'Tabla Amortización Crec'!AC234)","v":0},0,null,0,{"$f":"IF(P227<=0.01,0,'Tabla Amortización Crec'!R234)","v":0},{"$f":"IF(D228<=0,0,'Tabla Amortización Crec'!W234+'Tabla Amortización Crec'!U234)","v":0},0,{"$f":"IF(C228=0,0,'Tabla Amortización Crec'!X234+'Tabla Amortización Crec'!V234+'Tabla Amortización Crec'!S234+'Tabla Amortización Crec'!Q234)","v":0},0,null,0,0]
[222,{"$f":"'Tabla Amortización Crec'!C235","v":"2040-09-04"},0,{"$f":"IF(C229<=0,0,IF(C229<D228,C229,'Tabla Amortización Crec'!AB235))","v":0},null,{"$f":"IF(C229<=0,0,'Tabla Amortización Crec'!AC235)","v":0},0,null,0,{"$f":"IF(P228<=0.01,0,'Tabla Amortización Crec'!R235)","v":0},{"$f":"IF(D229<=0,0,'Tabla Amortización Crec'!W235+'Tabla Amortización Crec'!U235)","v":0},0,{"$f":"IF(C229=0,0,'Tabla Amortización Crec'!X235+'Tabla Amortización Crec'!V235+'Tabla Amortización Crec'!S235+'Tabla Amortización Crec'!Q235)","v":0},0,null,0,0]
[223,{"$f":"'Tabla Amortización Crec'!C236","v":"2040-10-04"},0,{"$f":"IF(C230<=0,0,IF(C230<D229,C230,'Tabla Amortización Crec'!AB236))","v":0},null,{"$f":"IF(C230<=0,0,'Tabla Amortización Crec'!AC236)","v":0},0,null,0,{"$f":"IF(P229<=0.01,0,'Tabla Amortización Crec'!R236)","v":0},{"$f":"IF(D230<=0,0,'Tabla Amortización Crec'!W236+'Tabla Amortización Crec'!U236)","v":0},0,{"$f":"IF(C230=0,0,'Tabla Amortización Crec'!X236+'Tabla Amortización Crec'!V236+'Tabla Amortización Crec'!S236+'Tabla Amortización Crec'!Q236)","v":0},0,null,0,0]
[224,{"$f":"'Tabla Amortización Crec'!C237","v":"2040-11-04"},0,{"$f":"IF(C231<=0,0,IF(C231<D230,C231,'Tabla Amortización Crec'!AB237))","v":0},null,{"$f":"IF(C231<=0,0,'Tabla Amortización Crec'!AC237)","v":0},0,null,0,{"$f":"IF(P230<=0.01,0,'Tabla Amortización Crec'!R237)","v":0},{"$f":"IF(D231<=0,0,'Tabla Amortización Crec'!W237+'Tabla Amortización Crec'!U237)","v":0},0,{"$f":"IF(C231=0,0,'Tabla Amortización Crec'!X237+'Tabla Amortización Crec'!V237+'Tabla Amortización Crec'!S237+'Tabla Amortización Crec'!Q237)","v":0},0,null,0,0]
[225,{"$f":"'Tabla Amortización Crec'!C238","v":"2040-12-04"},0,{"$f":"IF(C232<=0,0,IF(C232<D231,C232,'Tabla Amortización Crec'!AB238))","v":0},null,{"$f":"IF(C232<=0,0,'Tabla Amortización Crec'!AC238)","v":0},0,null,0,{"$f":"IF(P231<=0.01,0,'Tabla Amortización Crec'!R238)","v":0},{"$f":"IF(D232<=0,0,'Tabla Amortización Crec'!W238+'Tabla Amortización Crec'!U238)","v":0},0,{"$f":"IF(C232=0,0,'Tabla Amortización Crec'!X238+'Tabla Amortización Crec'!V238+'Tabla Amortización Crec'!S238+'Tabla Amortización Crec'!Q238)","v":0},0,null,0,0]
[226,{"$f":"'Tabla Amortización Crec'!C239","v":"2041-01-04"},0,{"$f":"IF(C233<=0,0,IF(C233<D232,C233,'Tabla Amortización Crec'!AB239))","v":0},null,{"$f":"IF(C233<=0,0,'Tabla Amortización Crec'!AC239)","v":0},0,null,0,{"$f":"IF(P232<=0.01,0,'Tabla Amortización Crec'!R239)","v":0},{"$f":"IF(D233<=0,0,'Tabla Amortización Crec'!W239+'Tabla Amortización Crec'!U239)","v":0},0,{"$f":"IF(C233=0,0,'Tabla Amortización Crec'!X239+'Tabla Amortización Crec'!V239+'Tabla Amortización Crec'!S239+'Tabla Amortización Crec'!Q239)","v":0},0,null,0,0]
[227,{"$f":"'Tabla Amortización Crec'!C240","v":"2041-02-04"},0,{"$f":"IF(C234<=0,0,IF(C234<D233,C234,'Tabla Amortización Crec'!AB240))","v":0},null,{"$f":"IF(C234<=0,0,'Tabla Amortización Crec'!AC240)","v":0},0,null,0,{"$f":"IF(P233<=0.01,0,'Tabla Amortización Crec'!R240)","v":0},{"$f":"IF(D234<=0,0,'Tabla Amortización Crec'!W240+'Tabla Amortización Crec'!U240)","v":0},0,{"$f":"IF(C234=0,0,'Tabla Amortización Crec'!X240+'Tabla Amortización Crec'!V240+'Tabla Amortización Crec'!S240+'Tabla Amortización Crec'!Q240)","v":0},0,null,0,0]
[228,{"$f":"'Tabla Amortización Crec'!C241","v":"2041-03-04"},0,{"$f":"IF(C235<=0,0,IF(C235<D234,C235,'Tabla Amortización Crec'!AB241))","v":0},null,{"$f":"IF(C235<=0,0,'Tabla Amortización Crec'!AC241)","v":0},0,null,0,{"$f":"IF(P234<=0.01,0,'Tabla Amortización Crec'!R241)","v":0},{"$f":"IF(D235<=0,0,'Tabla Amortización Crec'!W241+'Tabla Amortización Crec'!U241)","v":0},0,{"$f":"IF(C235=0,0,'Tabla Amortización Crec'!X241+'Tabla Amortización Crec'!V241+'Tabla Amortización Crec'!S241+'Tabla Amortización Crec'!Q241)","v":0},0,null,0,0]
[229,{"$f":"'Tabla Amortización Crec'!C242","v":"2041-04-04"},0,{"$f":"IF(C236<=0,0,IF(C236<D235,C236,'Tabla Amortización Crec'!AB242))","v":0},null,{"$f":"IF(C236<=0,0,'Tabla Amortización Crec'!AC242)","v":0},0,null,0,{"$f":"IF(P235<=0.01,0,'Tabla Amortización Crec'!R242)","v":0},{"$f":"IF(D236<=0,0,'Tabla Amortización Crec'!W242+'Tabla Amortización Crec'!U242)","v":0},0,{"$f":"IF(C236=0,0,'Tabla Amortización Crec'!X242+'Tabla Amortización Crec'!V242+'Tabla Amortización Crec'!S242+'Tabla Amortización Crec'!Q242)","v":0},0,null,0,0]
[230,{"$f":"'Tabla Amortización Crec'!C243","v":"2041-05-04"},0,{"$f":"IF(C237<=0,0,IF(C237<D236,C237,'Tabla Amortización Crec'!AB243))","v":0},null,{"$f":"IF(C237<=0,0,'Tabla Amortización Crec'!AC243)","v":0},0,null,0,{"$f":"IF(P236<=0.01,0,'Tabla Amortización Crec'!R243)","v":0},{"$f":"IF(D237<=0,0,'Tabla Amortización Crec'!W243+'Tabla Amortización Crec'!U243)","v":0},0,{"$f":"IF(C237=0,0,'Tabla Amortización Crec'!X243+'Tabla Amortización Crec'!V243+'Tabla Amortización Crec'!S243+'Tabla Amortización Crec'!Q243)","v":0},0,null,0,0]
[231,{"$f":"'Tabla Amortización Crec'!C244","v":"2041-06-04"},0,{"$f":"IF(C238<=0,0,IF(C238<D237,C238,'Tabla Amortización Crec'!AB244))","v":0},null,{"$f":"IF(C238<=0,0,'Tabla Amortización Crec'!AC244)","v":0},0,null,0,{"$f":"IF(P237<=0.01,0,'Tabla Amortización Crec'!R244)","v":0},{"$f":"IF(D238<=0,0,'Tabla Amortización Crec'!W244+'Tabla Amortización Crec'!U244)","v":0},0,{"$f":"IF(C238=0,0,'Tabla Amortización Crec'!X244+'Tabla Amortización Crec'!V244+'Tabla Amortización Crec'!S244+'Tabla Amortización Crec'!Q244)","v":0},0,null,0,0]
[232,{"$f":"'Tabla Amortización Crec'!C245","v":"2041-07-04"},0,{"$f":"IF(C239<=0,0,IF(C239<D238,C239,'Tabla Amortización Crec'!AB245))","v":0},null,{"$f":"IF(C239<=0,0,'Tabla Amortización Crec'!AC245)","v":0},0,null,0,{"$f":"IF(P238<=0.01,0,'Tabla Amortización Crec'!R245)","v":0},{"$f":"IF(D239<=0,0,'Tabla Amortización Crec'!W245+'Tabla Amortización Crec'!U245)","v":0},0,{"$f":"IF(C239=0,0,'Tabla Amortización Crec'!X245+'Tabla Amortización Crec'!V245+'Tabla Amortización Crec'!S245+'Tabla Amortización Crec'!Q245)","v":0},0,null,0,0]
[233,{"$f":"'Tabla Amortización Crec'!C246","v":"2041-08-04"},0,{"$f":"IF(C240<=0,0,IF(C240<D239,C240,'Tabla Amortización Crec'!AB246))","v":0},null,{"$f":"IF(C240<=0,0,'Tabla Amortización Crec'!AC246)","v":0},0,null,0,{"$f":"IF(P239<=0.01,0,'Tabla Amortización Crec'!R246)","v":0},{"$f":"IF(D240<=0,0,'Tabla Amortización Crec'!W246+'Tabla Amortización Crec'!U246)","v":0},0,{"$f":"IF(C240=0,0,'Tabla Amortización Crec'!X246+'Tabla Amortización Crec'!V246+'Tabla Amortización Crec'!S246+'Tabla Amortización Crec'!Q246)","v":0},0,null,0,0]
[234,{"$f":"'Tabla Amortización Crec'!C247","v":"2041-09-04"},0,{"$f":"IF(C241<=0,0,IF(C241<D240,C241,'Tabla Amortización Crec'!AB247))","v":0},null,{"$f":"IF(C241<=0,0,'Tabla Amortización Crec'!AC247)","v":0},0,null,0,{"$f":"IF(P240<=0.01,0,'Tabla Amortización Crec'!R247)","v":0},{"$f":"IF(D241<=0,0,'Tabla Amortización Crec'!W247+'Tabla Amortización Crec'!U247)","v":0},0,{"$f":"IF(C241=0,0,'Tabla Amortización Crec'!X247+'Tabla Amortización Crec'!V247+'Tabla Amortización Crec'!S247+'Tabla Amortización Crec'!Q247)","v":0},0,null,0,0]
[235,{"$f":"'Tabla Amortización Crec'!C248","v":"2041-10-04"},0,{"$f":"IF(C242<=0,0,IF(C242<D241,C242,'Tabla Amortización Crec'!AB248))","v":0},null,{"$f":"IF(C242<=0,0,'Tabla Amortización Crec'!AC248)","v":0},0,null,0,{"$f":"IF(P241<=0.01,0,'Tabla Amortización Crec'!R248)","v":0},{"$f":"IF(D242<=0,0,'Tabla Amortización Crec'!W248+'Tabla Amortización Crec'!U248)","v":0},0,{"$f":"IF(C242=0,0,'Tabla Amortización Crec'!X248+'Tabla Amortización Crec'!V248+'Tabla Amortización Crec'!S248+'Tabla Amortización Crec'!Q248)","v":0},0,null,0,0]
[236,{"$f":"'Tabla Amortización Crec'!C249","v":"2041-11-04"},0,{"$f":"IF(C243<=0,0,IF(C243<D242,C243,'Tabla Amortización Crec'!AB249))","v":0},null,{"$f":"IF(C243<=0,0,'Tabla Amortización Crec'!AC249)","v":0},0,null,0,{"$f":"IF(P242<=0.01,0,'Tabla Amortización Crec'!R249)","v":0},{"$f":"IF(D243<=0,0,'Tabla Amortización Crec'!W249+'Tabla Amortización Crec'!U249)","v":0},0,{"$f":"IF(C243=0,0,'Tabla Amortización Crec'!X249+'Tabla Amortización Crec'!V249+'Tabla Amortización Crec'!S249+'Tabla Amortización Crec'!Q249)","v":0},0,null,0,0]
[237,{"$f":"'Tabla Amortización Crec'!C250","v":"2041-12-04"},0,{"$f":"IF(C244<=0,0,IF(C244<D243,C244,'Tabla Amortización Crec'!AB250))","v":0},null,{"$f":"IF(C244<=0,0,'Tabla Amortización Crec'!AC250)","v":0},0,null,0,{"$f":"IF(P243<=0.01,0,'Tabla Amortización Crec'!R250)","v":0},{"$f":"IF(D244<=0,0,'Tabla Amortización Crec'!W250+'Tabla Amortización Crec'!U250)","v":0},0,{"$f":"IF(C244=0,0,'Tabla Amortización Crec'!X250+'Tabla Amortización Crec'!V250+'Tabla Amortización Crec'!S250+'Tabla Amortización Crec'!Q250)","v":0},0,null,0,0]
[238,{"$f":"'Tabla Amortización Crec'!C251","v":"2042-01-04"},0,{"$f":"IF(C245<=0,0,IF(C245<D244,C245,'Tabla Amortización Crec'!AB251))","v":0},null,{"$f":"IF(C245<=0,0,'Tabla Amortización Crec'!AC251)","v":0},0,null,0,{"$f":"IF(P244<=0.01,0,'Tabla Amortización Crec'!R251)","v":0},{"$f":"IF(D245<=0,0,'Tabla Amortización Crec'!W251+'Tabla Amortización Crec'!U251)","v":0},0,{"$f":"IF(C245=0,0,'Tabla Amortización Crec'!X251+'Tabla Amortización Crec'!V251+'Tabla Amortización Crec'!S251+'Tabla Amortización Crec'!Q251)","v":0},0,null,0,0]
[239,{"$f":"'Tabla Amortización Crec'!C252","v":"2042-02-04"},0,{"$f":"IF(C246<=0,0,IF(C246<D245,C246,'Tabla Amortización Crec'!AB252))","v":0},null,{"$f":"IF(C246<=0,0,'Tabla Amortización Crec'!AC252)","v":0},0,null,0,{"$f":"IF(P245<=0.01,0,'Tabla Amortización Crec'!R252)","v":0},{"$f":"IF(D246<=0,0,'Tabla Amortización Crec'!W252+'Tabla Amortización Crec'!U252)","v":0},0,{"$f":"IF(C246=0,0,'Tabla Amortización Crec'!X252+'Tabla Amortización Crec'!V252+'Tabla Amortización Crec'!S252+'Tabla Amortización Crec'!Q252)","v":0},0,null,0,0]
[240,{"$f":"'Tabla Amortización Crec'!C253","v":"2042-03-04"},0,{"$f":"IF(C247<=0,0,IF(C247<D246,C247,'Tabla Amortización Crec'!AB253))","v":0},null,{"$f":"IF(C247<=0,0,'Tabla Amortización Crec'!AC253)","v":0},0,null,0,{"$f":"IF(P246<=0.01,0,'Tabla Amortización Crec'!R253)","v":0},{"$f":"IF(D247<=0,0,'Tabla Amortización Crec'!W253+'Tabla Amortización Crec'!U253)","v":0},0,{"$f":"IF(C247=0,0,'Tabla Amortización Crec'!X253+'Tabla Amortización Crec'!V253+'Tabla Amortización Crec'!S253+'Tabla Amortización Crec'!Q253)","v":0},0,null,0,0]
[null,null,null,{"$f":"SUM(D8:D247)","v":999999.99999997427},0,915861.03181630513,1915861.0318162802,{"$f":"SUM(H8:H247)","v":0},97604.426449876264,62381.549999999741,36432.70924571513,53820,24421.481479314421,{"$f":"SUM(N8:N247)","v":2190521.1989911855}]